| RchyOptimyx 2.2.0 Adrin Jalali , Nima Aghaeepour
 
 | Snapshot Date: 2014-04-04 16:20:29 -0700 (Fri, 04 Apr 2014) |  | URL: https://hedgehog.fhcrc.org/bioconductor/branches/RELEASE_2_13/madman/Rpacks/RchyOptimyx |  | Last Changed Rev: 81642 / Revision: 88450 |  | Last Changed Date: 2013-10-14 14:29:21 -0700 (Mon, 14 Oct 2013) | 
 | zin1 | Linux (Ubuntu 12.04.4 LTS) / x86_64 | OK | WARNINGS |  | 
| moscato1 | Windows Server 2008 R2 Enterprise SP1 (64-bit) / x64 | OK | WARNINGS | [ OK ] | 
| perceval | Mac OS X Snow Leopard (10.6.8) / x86_64 | OK | WARNINGS | OK | 
  adding: data/ (256 bytes security) (stored 0%)
  adding: data/HIVData.rda (188 bytes security) (deflated 25%)
  adding: DESCRIPTION (188 bytes security) (deflated 37%)
  adding: doc/ (256 bytes security) (stored 0%)
  adding: doc/index.html (188 bytes security) (deflated 60%)
  adding: doc/RchyOptimyx.bib (188 bytes security) (deflated 59%)
  adding: doc/RchyOptimyx.pdf (188 bytes security) (deflated 14%)
  adding: doc/RchyOptimyx.R (188 bytes security) (deflated 73%)
  adding: doc/RchyOptimyx.Rnw (188 bytes security) (deflated 60%)
  adding: help/ (256 bytes security) (stored 0%)
  adding: help/aliases.rds (188 bytes security) (stored 0%)
  adding: help/AnIndex (188 bytes security) (deflated 64%)
  adding: help/paths.rds (188 bytes security) (stored 0%)
  adding: help/RchyOptimyx.rdb (188 bytes security) (deflated 1%)
  adding: help/RchyOptimyx.rdx (188 bytes security) (stored 0%)
  adding: html/ (256 bytes security) (stored 0%)
  adding: html/00Index.html (188 bytes security) (deflated 73%)
  adding: html/R.css (188 bytes security) (deflated 70%)
  adding: INDEX (188 bytes security) (deflated 58%)
  adding: libs/ (256 bytes security) (stored 0%)
  adding: libs/i386/ (256 bytes security) (stored 0%)
  adding: libs/i386/RchyOptimyx.dll (188 bytes security) (deflated 59%)
  adding: libs/x64/ (256 bytes security) (stored 0%)
  adding: libs/x64/RchyOptimyx.dll (188 bytes security) (deflated 61%)
  adding: MD5 (188 bytes security) (deflated 44%)
  adding: Meta/ (256 bytes security) (stored 0%)
  adding: Meta/data.rds (188 bytes security) (stored 0%)
  adding: Meta/hsearch.rds (188 bytes security) (stored 0%)
  adding: Meta/links.rds (188 bytes security) (stored 0%)
  adding: Meta/nsInfo.rds (188 bytes security) (stored 0%)
  adding: Meta/package.rds (188 bytes security) (stored 0%)
  adding: Meta/Rd.rds (188 bytes security) (stored 0%)
  adding: Meta/vignette.rds (188 bytes security) (stored 0%)
  adding: NAMESPACE (188 bytes security) (deflated 51%)
  adding: NEWS (188 bytes security) (deflated 39%)
  adding: R/ (256 bytes security) (stored 0%)
  adding: R/RchyOptimyx (188 bytes security) (deflated 41%)
  adding: R/RchyOptimyx.rdb (188 bytes security) (deflated 49%)
  adding: R/RchyOptimyx.rdx (188 bytes security) (stored 0%)