| IRanges 1.20.7 Bioconductor Package Maintainer
 
 | Snapshot Date: 2014-04-04 16:20:29 -0700 (Fri, 04 Apr 2014) |  | URL: https://hedgehog.fhcrc.org/bioconductor/branches/RELEASE_2_13/madman/Rpacks/IRanges |  | Last Changed Rev: 87131 / Revision: 88450 |  | Last Changed Date: 2014-03-05 13:40:53 -0800 (Wed, 05 Mar 2014) | 
 | zin1 | Linux (Ubuntu 12.04.4 LTS) / x86_64 | OK | WARNINGS |  | 
| moscato1 | Windows Server 2008 R2 Enterprise SP1 (64-bit) / x64 | OK | WARNINGS | [ OK ] | 
| perceval | Mac OS X Snow Leopard (10.6.8) / x86_64 | OK | WARNINGS | OK | 
  adding: DESCRIPTION (188 bytes security) (deflated 56%)
  adding: doc/ (256 bytes security) (stored 0%)
  adding: doc/index.html (188 bytes security) (deflated 66%)
  adding: doc/IRangesOverview.pdf (188 bytes security) (deflated 17%)
  adding: doc/IRangesOverview.R (188 bytes security) (deflated 83%)
  adding: doc/IRangesOverview.Rnw (188 bytes security) (deflated 67%)
  adding: doc/RleTricks.pdf (188 bytes security) (deflated 6%)
  adding: doc/RleTricks.R (188 bytes security) (deflated 79%)
  adding: doc/RleTricks.Rnw (188 bytes security) (deflated 66%)
  adding: extdata/ (256 bytes security) (stored 0%)
  adding: extdata/ce2chrM.bed (188 bytes security) (deflated 39%)
  adding: extdata/ce2chrM.fa.out (188 bytes security) (deflated 76%)
  adding: extdata/hg18liftAll.lft (188 bytes security) (deflated 67%)
  adding: extdata/hs_b36v3_chrY.agp (188 bytes security) (deflated 61%)
  adding: help/ (256 bytes security) (stored 0%)
  adding: help/aliases.rds (188 bytes security) (stored 0%)
  adding: help/AnIndex (188 bytes security) (deflated 88%)
  adding: help/IRanges.rdb (188 bytes security) (deflated 1%)
  adding: help/IRanges.rdx (188 bytes security) (stored 0%)
  adding: help/paths.rds (188 bytes security) (stored 0%)
  adding: html/ (256 bytes security) (stored 0%)
  adding: html/00Index.html (188 bytes security) (deflated 93%)
  adding: html/R.css (188 bytes security) (deflated 70%)
  adding: include/ (256 bytes security) (stored 0%)
  adding: include/IRanges_defines.h (188 bytes security) (deflated 67%)
  adding: include/IRanges_interface.h (188 bytes security) (deflated 78%)
  adding: include/_IRanges_stubs.c (188 bytes security) (deflated 84%)
  adding: INDEX (188 bytes security) (deflated 67%)
  adding: libs/ (256 bytes security) (stored 0%)
  adding: libs/i386/ (256 bytes security) (stored 0%)
  adding: libs/i386/IRanges.dll (188 bytes security) (deflated 55%)
  adding: libs/x64/ (256 bytes security) (stored 0%)
  adding: libs/x64/IRanges.dll (188 bytes security) (deflated 55%)
  adding: MD5 (188 bytes security) (deflated 49%)
  adding: Meta/ (256 bytes security) (stored 0%)
  adding: Meta/hsearch.rds (188 bytes security) (deflated 1%)
  adding: Meta/links.rds (188 bytes security) (deflated 1%)
  adding: Meta/nsInfo.rds (188 bytes security) (stored 0%)
  adding: Meta/package.rds (188 bytes security) (stored 0%)
  adding: Meta/Rd.rds (188 bytes security) (stored 0%)
  adding: Meta/vignette.rds (188 bytes security) (stored 0%)
  adding: NAMESPACE (188 bytes security) (deflated 74%)
  adding: NEWS (188 bytes security) (deflated 66%)
  adding: R/ (256 bytes security) (stored 0%)
  adding: R/IRanges (188 bytes security) (deflated 41%)
  adding: R/IRanges.rdb (188 bytes security) (deflated 35%)
  adding: R/IRanges.rdx (188 bytes security) (deflated 8%)
  adding: unitTests/ (256 bytes security) (stored 0%)
  adding: unitTests/test_AtomicList.R (188 bytes security) (deflated 81%)
  adding: unitTests/test_coverage-methods.R (188 bytes security) (deflated 69%)
  adding: unitTests/test_DataFrame.R (188 bytes security) (deflated 79%)
  adding: unitTests/test_DataFrameList.R (188 bytes security) (deflated 85%)
  adding: unitTests/test_DataTable.R (188 bytes security) (deflated 66%)
  adding: unitTests/test_expand.R (188 bytes security) (deflated 73%)
  adding: unitTests/test_FilterRules.R (188 bytes security) (deflated 79%)
  adding: unitTests/test_funprog-methods.R (188 bytes security) (deflated 70%)
  adding: unitTests/test_Hits.R (188 bytes security) (deflated 83%)
  adding: unitTests/test_HitsList.R (188 bytes security) (deflated 35%)
  adding: unitTests/test_inter-range-methods.R (188 bytes security) (deflated 80%)
  adding: unitTests/test_IntervalForest.R (188 bytes security) (deflated 84%)
  adding: unitTests/test_IntervalTree.R (188 bytes security) (deflated 81%)
  adding: unitTests/test_intra-range-methods.R (188 bytes security) (deflated 83%)
  adding: unitTests/test_IRanges-class.R (188 bytes security) (deflated 64%)
  adding: unitTests/test_List-class.R (188 bytes security) (deflated 84%)
  adding: unitTests/test_nearest-methods.R (188 bytes security) (deflated 79%)
  adding: unitTests/test_RangedData.R (188 bytes security) (deflated 82%)
  adding: unitTests/test_Ranges-comparison.R (188 bytes security) (deflated 66%)
  adding: unitTests/test_RangesList.R (188 bytes security) (deflated 81%)
  adding: unitTests/test_RDApplyParams.R (188 bytes security) (deflated 83%)
  adding: unitTests/test_Rle.R (188 bytes security) (deflated 84%)
  adding: unitTests/test_RleViews.R (188 bytes security) (deflated 86%)
  adding: unitTests/test_RleViewsList.R (188 bytes security) (deflated 86%)
  adding: unitTests/test_setops-methods.R (188 bytes security) (deflated 78%)