GEOquery 2.28.0 Sean Davis
Snapshot Date: 2014-04-04 16:20:29 -0700 (Fri, 04 Apr 2014) | URL: https://hedgehog.fhcrc.org/bioconductor/branches/RELEASE_2_13/madman/Rpacks/GEOquery | Last Changed Rev: 81642 / Revision: 88450 | Last Changed Date: 2013-10-14 14:29:21 -0700 (Mon, 14 Oct 2013) |
| zin1 | Linux (Ubuntu 12.04.4 LTS) / x86_64 | OK | OK | |
moscato1 | Windows Server 2008 R2 Enterprise SP1 (64-bit) / x64 | OK | OK | [ OK ] |
perceval | Mac OS X Snow Leopard (10.6.8) / x86_64 | OK | OK | OK |
adding: CITATION (188 bytes security) (deflated 45%)
adding: DESCRIPTION (188 bytes security) (deflated 39%)
adding: doc/ (256 bytes security) (stored 0%)
adding: doc/GEOquery.pdf (188 bytes security) (deflated 13%)
adding: doc/GEOquery.R (188 bytes security) (deflated 76%)
adding: doc/GEOquery.Rnw (188 bytes security) (deflated 62%)
adding: doc/index.html (188 bytes security) (deflated 57%)
adding: extdata/ (256 bytes security) (stored 0%)
adding: extdata/GDS507.soft.gz (188 bytes security) (deflated 0%)
adding: extdata/GPL97.annot.gz (188 bytes security) (deflated 0%)
adding: extdata/GSE781_family.soft.gz (188 bytes security) (deflated 0%)
adding: extdata/GSM11805.txt.gz (188 bytes security) (deflated 0%)
adding: help/ (256 bytes security) (stored 0%)
adding: help/aliases.rds (188 bytes security) (stored 0%)
adding: help/AnIndex (188 bytes security) (deflated 77%)
adding: help/GEOquery.rdb (188 bytes security) (deflated 1%)
adding: help/GEOquery.rdx (188 bytes security) (stored 0%)
adding: help/paths.rds (188 bytes security) (stored 0%)
adding: html/ (256 bytes security) (stored 0%)
adding: html/00Index.html (188 bytes security) (deflated 81%)
adding: html/R.css (188 bytes security) (deflated 70%)
adding: INDEX (188 bytes security) (deflated 62%)
adding: MD5 (188 bytes security) (deflated 47%)
adding: Meta/ (256 bytes security) (stored 0%)
adding: Meta/hsearch.rds (188 bytes security) (stored 0%)
adding: Meta/links.rds (188 bytes security) (stored 0%)
adding: Meta/nsInfo.rds (188 bytes security) (stored 0%)
adding: Meta/package.rds (188 bytes security) (stored 0%)
adding: Meta/Rd.rds (188 bytes security) (stored 0%)
adding: Meta/vignette.rds (188 bytes security) (stored 0%)
adding: NAMESPACE (188 bytes security) (deflated 47%)
adding: R/ (256 bytes security) (stored 0%)
adding: R/GEOquery (188 bytes security) (deflated 41%)
adding: R/GEOquery.rdb (188 bytes security) (deflated 23%)
adding: R/GEOquery.rdx (188 bytes security) (stored 0%)
adding: Rnw/ (256 bytes security) (stored 0%)
adding: test/ (256 bytes security) (stored 0%)
adding: tests/ (256 bytes security) (stored 0%)
adding: unitTests/ (256 bytes security) (stored 0%)
adding: unitTests/runittestCaseMismatchedIDsGSE.R (188 bytes security) (deflated 56%)
adding: unitTests/runittestEmptyGSE.R (188 bytes security) (deflated 57%)
adding: unitTests/runittestGDSConversions.R (188 bytes security) (deflated 60%)
adding: unitTests/runittestGenericGDS.R (188 bytes security) (deflated 61%)
adding: unitTests/runittestGenericGPL.R (188 bytes security) (deflated 63%)
adding: unitTests/runittestGenericGSM.R (188 bytes security) (deflated 61%)
adding: unitTests/runittestQuotedGPL.R (188 bytes security) (deflated 56%)
adding: unitTests/runittestShortGPL.R (188 bytes security) (deflated 56%)
adding: unitTests/runittestShortGSE.R (188 bytes security) (deflated 56%)
adding: unitTests/runittestSingleSampleGSE.R (188 bytes security) (deflated 56%)
adding: unitTests/runittestSOFTFormatGSE.R (188 bytes security) (deflated 59%)
adding: unitTests/runittestSuppFileSupport.R (188 bytes security) (deflated 62%)