Back to the "Multiple platform build/check report" |
Package 51/140 | Hostname | OS / Arch | BUILD | CHECK | BUILD BIN | ||||
gatingMLData 1.0.6 Nishant Gopalakrishnan
| george2 | Linux (Ubuntu 12.04.1 LTS) / x86_64 | OK | OK | |||||
lamb2 | Linux (openSUSE 11.4) / x86_64 | [ OK ] | OK | ||||||
moscato2 | Windows Server 2008 R2 Enterprise SP1 (64-bit) / x64 | OK | OK | OK | |||||
petty | Mac OS X Leopard (10.5.8) / i386 | OK | OK | OK |
Package: gatingMLData |
Version: 1.0.6 |
Command: /home/biocbuild/bbs-2.12-bioc/R/bin/R CMD build --keep-empty-dirs --no-resave-data gatingMLData |
StartedAt: 2013-01-17 11:45:34 -0800 (Thu, 17 Jan 2013) |
EndedAt: 2013-01-17 11:45:41 -0800 (Thu, 17 Jan 2013) |
EllapsedTime: 6.8 seconds |
RetCode: 0 |
Status: OK |
PackageFile: gatingMLData_1.0.6.tar.gz |
PackageFileSize: 1.793 MiB |
* checking for file ‘gatingMLData/DESCRIPTION’ ... OK * preparing ‘gatingMLData’: * checking DESCRIPTION meta-information ... OK * checking for LF line-endings in source and make files * checking for empty or unneeded directories * building ‘gatingMLData_1.0.6.tar.gz’