| Back to the "Multiple platform build/check report" |
This page was generated on 2013-10-08 16:07:36 -0700 (Tue, 08 Oct 2013).
| Package 137/156 | Hostname | OS / Arch | BUILD | CHECK | BUILD BIN | ||||
| SNAGEEdata 0.99.1 David Venet
| george2 | Linux (Ubuntu 12.04.1 LTS) / x86_64 | OK | OK | |||||
| moscato2 | Windows Server 2008 R2 Enterprise SP1 (64-bit) / x64 | OK | OK | OK | |||||
| petty | Mac OS X Snow Leopard (10.6.8) / x86_64 | [ OK ] | OK | OK |
| Package: SNAGEEdata |
| Version: 0.99.1 |
| Command: /Library/Frameworks/R.framework/Versions/Current/Resources/bin/R CMD build --keep-empty-dirs --no-resave-data SNAGEEdata |
| StartedAt: 2013-10-08 12:41:07 -0700 (Tue, 08 Oct 2013) |
| EndedAt: 2013-10-08 12:42:15 -0700 (Tue, 08 Oct 2013) |
| EllapsedTime: 67.9 seconds |
| RetCode: 0 |
| Status: OK |
| PackageFile: SNAGEEdata_0.99.1.tar.gz |
| PackageFileSize: 29.22 MiB |
* checking for file 'SNAGEEdata/DESCRIPTION' ... OK * preparing 'SNAGEEdata': * checking DESCRIPTION meta-information ... OK * checking for LF line-endings in source and make files * checking for empty or unneeded directories * building 'SNAGEEdata_0.99.1.tar.gz'