| Back to the "Multiple platform build/check report" |
This page was generated on 2013-10-08 16:07:37 -0700 (Tue, 08 Oct 2013).
| Package 102/156 | Hostname | OS / Arch | BUILD | CHECK | BUILD BIN | ||||
| MMDiffBamSubset 0.99.3 Gabriele Schweikert
| george2 | Linux (Ubuntu 12.04.1 LTS) / x86_64 | OK | OK | |||||
| moscato2 | Windows Server 2008 R2 Enterprise SP1 (64-bit) / x64 | OK | OK | OK | |||||
| petty | Mac OS X Snow Leopard (10.6.8) / x86_64 | [ OK ] | OK | OK |
| Package: MMDiffBamSubset |
| Version: 0.99.3 |
| Command: /Library/Frameworks/R.framework/Versions/Current/Resources/bin/R CMD build --keep-empty-dirs --no-resave-data MMDiffBamSubset |
| StartedAt: 2013-10-08 12:44:33 -0700 (Tue, 08 Oct 2013) |
| EndedAt: 2013-10-08 12:47:16 -0700 (Tue, 08 Oct 2013) |
| EllapsedTime: 162.7 seconds |
| RetCode: 0 |
| Status: OK |
| PackageFile: MMDiffBamSubset_0.99.3.tar.gz |
| PackageFileSize: 632.3 MiB |
* checking for file 'MMDiffBamSubset/DESCRIPTION' ... OK * preparing 'MMDiffBamSubset': * checking DESCRIPTION meta-information ... OK * checking for LF line-endings in source and make files * checking for empty or unneeded directories * building 'MMDiffBamSubset_0.99.3.tar.gz'