RNAseqData.HeLa.bam.chr14 0.1.4 H. Pages
 | Snapshot Date: 2013-10-08 10:15:19 -0700 (Tue, 08 Oct 2013) |  | URL: https://hedgehog.fhcrc.org/bioc-data/trunk/experiment/pkgs/RNAseqData.HeLa.bam.chr14 |  | Last Changed Rev: 2475 / Revision: 2510 |  | Last Changed Date: 2013-10-04 13:25:10 -0700 (Fri, 04 Oct 2013) |  
  | george2  | Linux (Ubuntu 12.04.1 LTS) / x86_64  |  OK  |  WARNINGS  |  | 
| moscato2  | Windows Server 2008 R2 Enterprise SP1 (64-bit) / x64  |  OK  |  WARNINGS  |  OK  | 
| petty  | Mac OS X Snow Leopard (10.6.8) / x86_64  |  OK  |  WARNINGS  | [ OK ] | 
>>>>>>> 
>>>>>>> INSTALLATION WITH 'R CMD INSTALL --preclean --no-multiarch --library=RNAseqData.HeLa.bam.chr14.buildbin-libdir RNAseqData.HeLa.bam.chr14_0.1.4.tar.gz'
>>>>>>> 
* installing *source* package 'RNAseqData.HeLa.bam.chr14' ...
** R
** preparing package for lazy loading
** help
*** installing help indices
** building package indices
** testing if installed package can be loaded
Warning: 
                    * * * * * * * * * * * * * * * * * * * *
 The RNAseqData.HeLa.bam.chr14 package was renamed RNAseqData.HNRNPC.bam.chr14.
        RNAseqData.HeLa.bam.chr14 is still available but is DEPRECATED.
          Please use the RNAseqData.HNRNPC.bam.chr14 package instead.
                    * * * * * * * * * * * * * * * * * * * *
* DONE (RNAseqData.HeLa.bam.chr14)