MAQCsubsetAFX 1.0.11 Laurent Gatto
 | Snapshot Date: 2013-10-08 10:15:19 -0700 (Tue, 08 Oct 2013) |  | URL: https://hedgehog.fhcrc.org/bioc-data/trunk/experiment/pkgs/MAQCsubsetAFX |  | Last Changed Rev: 2335 / Revision: 2510 |  | Last Changed Date: 2013-04-23 18:14:11 -0700 (Tue, 23 Apr 2013) |  
  | george2  | Linux (Ubuntu 12.04.1 LTS) / x86_64  |  OK  |  OK  |  | 
| moscato2  | Windows Server 2008 R2 Enterprise SP1 (64-bit) / x64  |  OK  |  OK  |  OK  | 
| petty  | Mac OS X Snow Leopard (10.6.8) / x86_64  |  OK  |  OK  | [ OK ] | 
>>>>>>> 
>>>>>>> INSTALLATION WITH 'R CMD INSTALL --preclean --no-multiarch --library=MAQCsubsetAFX.buildbin-libdir MAQCsubsetAFX_1.0.11.tar.gz'
>>>>>>> 
* installing *source* package 'MAQCsubsetAFX' ...
** data
** inst
** help
*** installing help indices
** building package indices
** installing vignettes
** testing if installed package can be loaded
* DONE (MAQCsubsetAFX)