ChIPXpressData 0.99.1 George Wu
 | Snapshot Date: 2013-01-17 10:15:10 -0800 (Thu, 17 Jan 2013) |  | URL: https://hedgehog.fhcrc.org/bioc-data/trunk/experiment/pkgs/ChIPXpressData |  | Last Changed Rev: 2168 / Revision: 2199 |  | Last Changed Date: 2012-10-01 10:57:19 -0700 (Mon, 01 Oct 2012) |  
  | george2  | Linux (Ubuntu 12.04.1 LTS) / x86_64  |  OK  |  ERROR  |  | 
| lamb2  | Linux (openSUSE 11.4) / x86_64  |  OK  | [ ERROR ] |  | 
| moscato2  | Windows Server 2008 R2 Enterprise SP1 (64-bit) / x64  |  OK  |  ERROR  |  ERROR  | 
| petty  | Mac OS X Leopard (10.5.8) / i386  |  OK  |  ERROR  |  ERROR  |