yaqcaffy 1.20.0 Laurent Gatto
Snapshot Date: 2013-10-08 17:00:48 -0700 (Tue, 08 Oct 2013) | URL: https://hedgehog.fhcrc.org/bioconductor/branches/RELEASE_2_12/madman/Rpacks/yaqcaffy | Last Changed Rev: 75263 / Revision: 81334 | Last Changed Date: 2013-04-03 14:32:27 -0700 (Wed, 03 Apr 2013) |
| george2 | Linux (Ubuntu 12.04.1 LTS) / x86_64 | OK | OK | |
moscato2 | Windows Server 2008 R2 Enterprise SP1 (64-bit) / x64 | OK | [ OK ] | OK |
petty | Mac OS X Snow Leopard (10.6.8) / x86_64 | OK | OK | OK |
* using log directory 'E:/biocbld/bbs-2.12-bioc/meat/yaqcaffy.Rcheck'
* using R version 3.0.1 (2013-05-16)
* using platform: i386-w64-mingw32 (32-bit)
* using session charset: ISO8859-1
* using option '--no-vignettes'
* checking for file 'yaqcaffy/DESCRIPTION' ... OK
* this is package 'yaqcaffy' version '1.20.0'
* checking package namespace information ... OK
* checking package dependencies ... OK
* checking if this is a source package ... OK
* checking if there is a namespace ... OK
* checking for hidden files and directories ... OK
* checking for portable file names ... OK
* checking whether package 'yaqcaffy' can be installed ... OK
* checking installed package size ... OK
* checking package directory ... OK
* checking DESCRIPTION meta-information ... OK
* checking top-level files ... OK
* checking for left-over files ... OK
* checking index information ... OK
* checking package subdirectories ... OK
* checking R files for non-ASCII characters ... OK
* checking R files for syntax errors ... OK
* loading checks for arch 'i386'
** checking whether the package can be loaded ... OK
** checking whether the package can be loaded with stated dependencies ... OK
** checking whether the package can be unloaded cleanly ... OK
** checking whether the namespace can be loaded with stated dependencies ... OK
** checking whether the namespace can be unloaded cleanly ... OK
* loading checks for arch 'x64'
** checking whether the package can be loaded ... OK
** checking whether the package can be loaded with stated dependencies ... OK
** checking whether the package can be unloaded cleanly ... OK
** checking whether the namespace can be loaded with stated dependencies ... OK
** checking whether the namespace can be unloaded cleanly ... OK
* checking for unstated dependencies in R code ... OK
* checking S3 generic/method consistency ... OK
* checking replacement functions ... OK
* checking foreign function calls ... OK
* checking R code for possible problems ... OK
* checking Rd files ... OK
* checking Rd metadata ... OK
* checking Rd cross-references ... OK
* checking for missing documentation entries ... OK
* checking for code/documentation mismatches ... OK
* checking Rd \usage sections ... OK
* checking Rd contents ... OK
* checking for unstated dependencies in examples ... OK
* checking installed files from 'inst/doc' ... OK
* checking examples ...
** running examples for arch 'i386' ... [75s] OK
Examples with CPU or elapsed time > 5s
user system elapsed
getOutliers 31.97 0.44 32.62
getAllInt 12.46 0.22 12.68
getQCRatios 7.43 0.11 7.53
yaqc.plot 7.10 0.08 7.19
yaqc.affy 7.00 0.06 7.07
** running examples for arch 'x64' ... [76s] OK
Examples with CPU or elapsed time > 5s
user system elapsed
getOutliers 32.26 0.41 32.67
getAllInt 13.21 0.15 13.37
yaqc.plot 7.21 0.22 7.43
yaqc.affy 7.25 0.09 7.34
getQCRatios 7.13 0.17 7.32
* checking for unstated dependencies in vignettes ... OK
* checking package vignettes in 'inst/doc' ... OK
* checking running R code from vignettes ... SKIPPED
* checking re-building of vignettes ... SKIPPED
* checking PDF version of manual ... OK
install for i386
* installing *source* package 'yaqcaffy' ...
** R
** inst
** preparing package for lazy loading
Creating a generic function for 'summary' from package 'base' in package 'yaqcaffy'
Creating a generic function for 'merge' from package 'base' in package 'yaqcaffy'
Creating a generic function for 'identical' from package 'base' in package 'yaqcaffy'
** help
*** installing help indices
** building package indices
** installing vignettes
** testing if installed package can be loaded
install for x64
* installing *source* package 'yaqcaffy' ...
** testing if installed package can be loaded
* MD5 sums
packaged installation of 'yaqcaffy' as yaqcaffy_1.20.0.zip
* DONE (yaqcaffy)