| tkWidgets 1.38.0 J. Zhang
 
 | Snapshot Date: 2013-10-08 17:00:48 -0700 (Tue, 08 Oct 2013) |  | URL: https://hedgehog.fhcrc.org/bioconductor/branches/RELEASE_2_12/madman/Rpacks/tkWidgets |  | Last Changed Rev: 75263 / Revision: 81334 |  | Last Changed Date: 2013-04-03 14:32:27 -0700 (Wed, 03 Apr 2013) | 
 | george2 | Linux (Ubuntu 12.04.1 LTS) / x86_64 | OK | WARNINGS |  | 
| moscato2 | Windows Server 2008 R2 Enterprise SP1 (64-bit) / x64 | OK | WARNINGS | [ OK ] | 
| petty | Mac OS X Snow Leopard (10.6.8) / x86_64 | OK | WARNINGS | OK | 
install for i386
* installing *source* package 'tkWidgets' ...
** R
** inst
** preparing package for lazy loading
** help
*** installing help indices
** building package indices
** installing vignettes
** testing if installed package can be loaded
install for x64
* installing *source* package 'tkWidgets' ...
** testing if installed package can be loaded
* MD5 sums
packaged installation of 'tkWidgets' as tkWidgets_1.38.0.zip
* DONE (tkWidgets)