| rtracklayer 1.20.4 Michael Lawrence
 
 | Snapshot Date: 2013-10-08 17:00:48 -0700 (Tue, 08 Oct 2013) |  | URL: https://hedgehog.fhcrc.org/bioconductor/branches/RELEASE_2_12/madman/Rpacks/rtracklayer |  | Last Changed Rev: 78365 / Revision: 81334 |  | Last Changed Date: 2013-07-12 05:44:34 -0700 (Fri, 12 Jul 2013) | 
 | george2 | Linux (Ubuntu 12.04.1 LTS) / x86_64 | OK | WARNINGS |  | 
| moscato2 | Windows Server 2008 R2 Enterprise SP1 (64-bit) / x64 | OK | OK | OK | 
| petty | Mac OS X Snow Leopard (10.6.8) / x86_64 | [ OK ] | WARNINGS | OK | 
* checking for file 'rtracklayer/DESCRIPTION' ... OK
* preparing 'rtracklayer':
* checking DESCRIPTION meta-information ... OK
* cleaning src
* installing the package to re-build vignettes
* creating vignettes ... OK
* cleaning src
* checking for LF line-endings in source and make files
* checking for empty or unneeded directories
* looking to see if a 'data/datalist' file should be added
* building 'rtracklayer_1.20.4.tar.gz'