| ncdfFlow 1.6.1 M. Jiang
 
 | Snapshot Date: 2013-10-08 17:00:48 -0700 (Tue, 08 Oct 2013) |  | URL: https://hedgehog.fhcrc.org/bioconductor/branches/RELEASE_2_12/madman/Rpacks/ncdfFlow |  | Last Changed Rev: 78304 / Revision: 81334 |  | Last Changed Date: 2013-07-10 16:03:19 -0700 (Wed, 10 Jul 2013) | 
 | george2 | Linux (Ubuntu 12.04.1 LTS) / x86_64 | OK | OK |  | 
| moscato2 | Windows Server 2008 R2 Enterprise SP1 (64-bit) / x64 | N O T   S U P P O R T E D | 
| petty | Mac OS X Snow Leopard (10.6.8) / x86_64 | [ OK ] | OK | OK | 
* checking for file 'ncdfFlow/DESCRIPTION' ... OK
* preparing 'ncdfFlow':
* checking DESCRIPTION meta-information ... OK
* cleaning src
* running 'cleanup'
* installing the package to re-build vignettes
* creating vignettes ... OK
* cleaning src
* running 'cleanup'
* checking for LF line-endings in source and make files
* checking for empty or unneeded directories
* building 'ncdfFlow_1.6.1.tar.gz'