| Back to the "Multiple platform build/check report" | A B C D E F G H I J K L [M] N O P Q R S T U V W X Y Z |
This page was generated on 2013-10-09 09:38:55 -0700 (Wed, 09 Oct 2013).
| Package 395/671 | Hostname | OS / Arch | BUILD | CHECK | BUILD BIN | ||||
| mcaGUI 1.8.0 Wade K. Copeland
| george2 | Linux (Ubuntu 12.04.1 LTS) / x86_64 | OK | OK | |||||
| moscato2 | Windows Server 2008 R2 Enterprise SP1 (64-bit) / x64 | [ OK ] | WARNINGS | OK | |||||
| petty | Mac OS X Snow Leopard (10.6.8) / x86_64 | OK | OK | OK |
| Package: mcaGUI |
| Version: 1.8.0 |
| Command: chmod a+r mcaGUI -R && E:\biocbld\bbs-2.12-bioc\R\bin\R.exe CMD build --keep-empty-dirs --no-resave-data mcaGUI |
| StartedAt: 2013-10-09 00:09:58 -0700 (Wed, 09 Oct 2013) |
| EndedAt: 2013-10-09 00:10:10 -0700 (Wed, 09 Oct 2013) |
| EllapsedTime: 11.8 seconds |
| RetCode: 0 |
| Status: OK |
| PackageFile: mcaGUI_1.8.0.tar.gz |
| PackageFileSize: 2.163 MiB |
* checking for file 'mcaGUI/DESCRIPTION' ... OK * preparing 'mcaGUI': * checking DESCRIPTION meta-information ... OK * checking for LF line-endings in source and make files * checking for empty or unneeded directories * building 'mcaGUI_1.8.0.tar.gz'