| explorase 1.24.0 Michael Lawrence
 
 | Snapshot Date: 2013-10-08 17:00:48 -0700 (Tue, 08 Oct 2013) |  | URL: https://hedgehog.fhcrc.org/bioconductor/branches/RELEASE_2_12/madman/Rpacks/explorase |  | Last Changed Rev: 75263 / Revision: 81334 |  | Last Changed Date: 2013-04-03 14:32:27 -0700 (Wed, 03 Apr 2013) | 
 | george2 | Linux (Ubuntu 12.04.1 LTS) / x86_64 | OK | OK |  | 
| moscato2 | Windows Server 2008 R2 Enterprise SP1 (64-bit) / x64 | OK | OK | OK | 
| petty | Mac OS X Snow Leopard (10.6.8) / x86_64 | [ ERROR ] | skipped | skipped | 
* checking for file 'explorase/DESCRIPTION' ... OK
* preparing 'explorase':
* checking DESCRIPTION meta-information ... OK
* installing the package to re-build vignettes
      -----------------------------------
* installing *source* package 'explorase' ...
** R
** inst
** preparing package for lazy loading
Error in dyn.load(file, DLLpath = DLLpath, ...) : 
  unable to load shared object '/Library/Frameworks/R.framework/Versions/3.0/Resources/library/rggobi/libs/rggobi.so':
  dlopen(/Library/Frameworks/R.framework/Versions/3.0/Resources/library/rggobi/libs/rggobi.so, 6): Symbol not found: _DefaultPrintHandler
  Referenced from: /Library/Frameworks/R.framework/Versions/3.0/Resources/library/rggobi/libs/rggobi.so
  Expected in: flat namespace
 in /Library/Frameworks/R.framework/Versions/3.0/Resources/library/rggobi/libs/rggobi.so
Error : .onLoad failed in loadNamespace() for 'rggobi', details:
  call: fun(libname, pkgname)
  error: Could not load the rggobi library - please ensure GGobi is on the library path
ERROR: lazy loading failed for package 'explorase'
* removing '/private/tmp/RtmpQYYhDw/Rinst9fed2e0a630e/explorase'
      -----------------------------------
ERROR: package installation failed