| Back to the "Multiple platform build/check report" | [A] B C D E F G H I J K L M N O P Q R S T U V W X Y Z |
This page was generated on 2013-10-09 09:38:56 -0700 (Wed, 09 Oct 2013).
| Package 6/671 | Hostname | OS / Arch | BUILD | CHECK | BUILD BIN | ||||
| a4Reporting 1.8.0 Tobias Verbeke
| george2 | Linux (Ubuntu 12.04.1 LTS) / x86_64 | OK | OK | |||||
| moscato2 | Windows Server 2008 R2 Enterprise SP1 (64-bit) / x64 | [ OK ] | WARNINGS | OK | |||||
| petty | Mac OS X Snow Leopard (10.6.8) / x86_64 | OK | WARNINGS | OK |
| Package: a4Reporting |
| Version: 1.8.0 |
| Command: chmod a+r a4Reporting -R && E:\biocbld\bbs-2.12-bioc\R\bin\R.exe CMD build --keep-empty-dirs --no-resave-data a4Reporting |
| StartedAt: 2013-10-09 00:11:20 -0700 (Wed, 09 Oct 2013) |
| EndedAt: 2013-10-09 00:11:25 -0700 (Wed, 09 Oct 2013) |
| EllapsedTime: 5.4 seconds |
| RetCode: 0 |
| Status: OK |
| PackageFile: a4Reporting_1.8.0.tar.gz |
| PackageFileSize: 5.067 KiB |
* checking for file 'a4Reporting/DESCRIPTION' ... OK * preparing 'a4Reporting': * checking DESCRIPTION meta-information ... OK * checking for LF line-endings in source and make files * checking for empty or unneeded directories * building 'a4Reporting_1.8.0.tar.gz'