| Back to the "Multiple platform build/check report" | [A] B C D E F G H I J K L M N O P Q R S T U V W X Y Z | 
This page was generated on 2013-10-09 09:38:56 -0700 (Wed, 09 Oct 2013).
| Package 4/671 | Hostname | OS / Arch | BUILD | CHECK | BUILD BIN | ||||
| a4Core 1.8.0 Tobias Verbeke 
 | george2 | Linux (Ubuntu 12.04.1 LTS) / x86_64 | OK | OK | |||||
| moscato2 | Windows Server 2008 R2 Enterprise SP1 (64-bit) / x64 | [ OK ] | OK | OK | |||||
| petty | Mac OS X Snow Leopard (10.6.8) / x86_64 | OK | OK | OK | 
| Package: a4Core | 
| Version: 1.8.0 | 
| Command: chmod a+r a4Core -R && E:\biocbld\bbs-2.12-bioc\R\bin\R.exe CMD build --keep-empty-dirs --no-resave-data a4Core | 
| StartedAt: 2013-10-09 00:11:17 -0700 (Wed, 09 Oct 2013) | 
| EndedAt: 2013-10-09 00:11:23 -0700 (Wed, 09 Oct 2013) | 
| EllapsedTime: 6.2 seconds | 
| RetCode: 0 | 
| Status: OK | 
| PackageFile: a4Core_1.8.0.tar.gz | 
| PackageFileSize: 3.488 KiB | 
* checking for file 'a4Core/DESCRIPTION' ... OK * preparing 'a4Core': * checking DESCRIPTION meta-information ... OK * checking for LF line-endings in source and make files * checking for empty or unneeded directories * building 'a4Core_1.8.0.tar.gz'