HTSeqGenie 0.99.5 Gregoire Pau
Snapshot Date: 2012-09-28 17:01:35 -0700 (Fri, 28 Sep 2012) | URL: https://hedgehog.fhcrc.org/bioconductor/trunk/madman/Rpacks/HTSeqGenie | Last Changed Rev: 69930 / Revision: 69959 | Last Changed Date: 2012-09-27 21:55:00 -0700 (Thu, 27 Sep 2012) |
| lamb2 | Linux (openSUSE 11.4) / x86_64 | OK | OK | |
moscato2 | Windows Server 2008 R2 Enterprise SP1 (64-bit) / x64 | ERROR | skipped | skipped |
petty | Mac OS X Leopard (10.5.8) / i386 | [ ERROR ] | skipped | skipped |
* checking for file 'HTSeqGenie/DESCRIPTION' ... OK
* preparing 'HTSeqGenie':
* checking DESCRIPTION meta-information ... OK
* installing the package to re-build vignettes
-----------------------------------
ERROR: dependency 'gmapR' is not available for package 'HTSeqGenie'
* removing '/private/tmp/RtmpOlIAKH/Rinst172892e039630/HTSeqGenie'
-----------------------------------
ERROR: package installation failed