HEM 1.32.0 HyungJun Cho
Snapshot Date: 2013-04-30 17:01:37 -0700 (Tue, 30 Apr 2013) | URL: https://hedgehog.fhcrc.org/bioconductor/branches/RELEASE_2_12/madman/Rpacks/HEM | Last Changed Rev: 75263 / Revision: 76155 | Last Changed Date: 2013-04-03 14:32:27 -0700 (Wed, 03 Apr 2013) |
| george2 | Linux (Ubuntu 12.04.1 LTS) / x86_64 | OK | OK | |
moscato2 | Windows Server 2008 R2 Enterprise SP1 (64-bit) / x64 | OK | OK | OK |
petty | Mac OS X Snow Leopard (10.6.8) / x86_64 | OK | OK | OK |
pelham | Mac OS X Snow Leopard (10.6.8) / x86_64 | OK | [ OK ] | OK |
* installing *source* package 'HEM' ...
** libs
clang -I/Library/Frameworks/R.framework/Resources/include -DNDEBUG -I/usr/local/include -fPIC -mtune=native -ggdb -O0 -Wall -pedantic -Wconversion -c hem.c -o hem.o
hem.c:106:26: warning: implicit conversion changes signedness: 'int' to 'size_t' (aka 'unsigned long') [-Wsign-conversion]
group = (int *) calloc(ngroup, sizeof(int));
˜˜˜˜˜˜ ^˜˜˜˜˜
hem.c:115:25: warning: implicit conversion changes signedness: 'int' to 'size_t' (aka 'unsigned long') [-Wsign-conversion]
rep = (int **) calloc(ngroup, sizeof(int));
˜˜˜˜˜˜ ^˜˜˜˜˜
hem.c:116:61: warning: implicit conversion changes signedness: 'int' to 'size_t' (aka 'unsigned long') [-Wsign-conversion]
for(j = 0; j < ngroup; j++) rep[j] = (int *) calloc(group[j], sizeof(int));
˜˜˜˜˜˜ ^˜˜˜˜˜˜˜
hem.c:118:25: warning: implicit conversion changes signedness: 'int' to 'size_t' (aka 'unsigned long') [-Wsign-conversion]
nn = (int ***) calloc(ngene, sizeof(int));
˜˜˜˜˜˜ ^˜˜˜˜
hem.c:119:60: warning: implicit conversion changes signedness: 'int' to 'size_t' (aka 'unsigned long') [-Wsign-conversion]
for(i = 0; i < ngene; i++) nn[i] = (int **) calloc(ngroup, sizeof(int));
˜˜˜˜˜˜ ^˜˜˜˜˜
hem.c:124:43: warning: implicit conversion changes signedness: 'int' to 'size_t' (aka 'unsigned long') [-Wsign-conversion]
nn[i][j] = (int *) calloc(group[j], sizeof(int));
˜˜˜˜˜˜ ^˜˜˜˜˜˜˜
hem.c:140:29: warning: implicit conversion changes signedness: 'int' to 'size_t' (aka 'unsigned long') [-Wsign-conversion]
obs = (double ****) calloc(ngene, sizeof(double));
˜˜˜˜˜˜ ^˜˜˜˜
hem.c:141:26: warning: implicit conversion changes signedness: 'int' to 'size_t' (aka 'unsigned long') [-Wsign-conversion]
mis = (int ****) calloc(ngene, sizeof(int));
˜˜˜˜˜˜ ^˜˜˜˜
hem.c:142:27: warning: implicit conversion changes signedness: 'int' to 'size_t' (aka 'unsigned long') [-Wsign-conversion]
gene = (double *) calloc(ngene, sizeof(double));
˜˜˜˜˜˜ ^˜˜˜˜
hem.c:143:27: warning: implicit conversion changes signedness: 'int' to 'size_t' (aka 'unsigned long') [-Wsign-conversion]
cell = (double *) calloc(ngroup, sizeof(double));
˜˜˜˜˜˜ ^˜˜˜˜˜
hem.c:144:29: warning: implicit conversion changes signedness: 'int' to 'size_t' (aka 'unsigned long') [-Wsign-conversion]
expr = (double ***) calloc(ngene, sizeof(double));
˜˜˜˜˜˜ ^˜˜˜˜
hem.c:145:29: warning: implicit conversion changes signedness: 'int' to 'size_t' (aka 'unsigned long') [-Wsign-conversion]
inter = (double **) calloc(ngene, sizeof(double));
˜˜˜˜˜˜ ^˜˜˜˜
hem.c:146:34: warning: implicit conversion changes signedness: 'int' to 'size_t' (aka 'unsigned long') [-Wsign-conversion]
sigma2_bio = (double **) calloc(ngene, sizeof(double));
˜˜˜˜˜˜ ^˜˜˜˜
hem.c:147:37: warning: implicit conversion changes signedness: 'int' to 'size_t' (aka 'unsigned long') [-Wsign-conversion]
sigma2_array = (double ***) calloc(ngene, sizeof(double));
˜˜˜˜˜˜ ^˜˜˜˜
hem.c:151:42: warning: implicit conversion changes signedness: 'int' to 'size_t' (aka 'unsigned long') [-Wsign-conversion]
obs[i] = (double ***) calloc(ngroup, sizeof(double));
˜˜˜˜˜˜ ^˜˜˜˜˜
hem.c:152:39: warning: implicit conversion changes signedness: 'int' to 'size_t' (aka 'unsigned long') [-Wsign-conversion]
mis[i] = (int ***) calloc(ngroup, sizeof(int));
˜˜˜˜˜˜ ^˜˜˜˜˜
hem.c:153:42: warning: implicit conversion changes signedness: 'int' to 'size_t' (aka 'unsigned long') [-Wsign-conversion]
expr[i] = (double **) calloc(ngroup, sizeof(double));
˜˜˜˜˜˜ ^˜˜˜˜˜
hem.c:154:42: warning: implicit conversion changes signedness: 'int' to 'size_t' (aka 'unsigned long') [-Wsign-conversion]
inter[i] = (double *) calloc(ngroup, sizeof(double));
˜˜˜˜˜˜ ^˜˜˜˜˜
hem.c:155:47: warning: implicit conversion changes signedness: 'int' to 'size_t' (aka 'unsigned long') [-Wsign-conversion]
sigma2_bio[i] = (double *) calloc(ngroup, sizeof(double));
˜˜˜˜˜˜ ^˜˜˜˜˜
hem.c:156:50: warning: implicit conversion changes signedness: 'int' to 'size_t' (aka 'unsigned long') [-Wsign-conversion]
sigma2_array[i] = (double **) calloc(ngroup, sizeof(double));
˜˜˜˜˜˜ ^˜˜˜˜˜
hem.c:164:48: warning: implicit conversion changes signedness: 'int' to 'size_t' (aka 'unsigned long') [-Wsign-conversion]
obs[i][j] = (double **) calloc(group[j], sizeof(double));
˜˜˜˜˜˜ ^˜˜˜˜˜˜˜
hem.c:165:45: warning: implicit conversion changes signedness: 'int' to 'size_t' (aka 'unsigned long') [-Wsign-conversion]
mis[i][j] = (int **) calloc(group[j], sizeof(int));
˜˜˜˜˜˜ ^˜˜˜˜˜˜˜
hem.c:166:48: warning: implicit conversion changes signedness: 'int' to 'size_t' (aka 'unsigned long') [-Wsign-conversion]
expr[i][j] = (double *) calloc(group[j], sizeof(double));
˜˜˜˜˜˜ ^˜˜˜˜˜˜˜
hem.c:167:56: warning: implicit conversion changes signedness: 'int' to 'size_t' (aka 'unsigned long') [-Wsign-conversion]
sigma2_array[i][j] = (double *) calloc(group[j], sizeof(double));
˜˜˜˜˜˜ ^˜˜˜˜˜˜˜
hem.c:177:40: warning: implicit conversion changes signedness: 'int' to 'size_t' (aka 'unsigned long') [-Wsign-conversion]
obs[i][j][k] = (double *) calloc(nn[i][j][k], sizeof(double));
˜˜˜˜˜˜ ^˜˜˜˜˜˜˜˜˜˜
hem.c:178:37: warning: implicit conversion changes signedness: 'int' to 'size_t' (aka 'unsigned long') [-Wsign-conversion]
mis[i][j][k] = (int *) calloc(nn[i][j][k], sizeof(int));
˜˜˜˜˜˜ ^˜˜˜˜˜˜˜˜˜˜
hem.c:222:26: warning: implicit conversion changes signedness: 'int' to 'size_t' (aka 'unsigned long') [-Wsign-conversion]
group = (int *) calloc(ngroup, sizeof(int));
˜˜˜˜˜˜ ^˜˜˜˜˜
hem.c:232:25: warning: implicit conversion changes signedness: 'int' to 'size_t' (aka 'unsigned long') [-Wsign-conversion]
rep = (int **) calloc(ngroup, sizeof(int));
˜˜˜˜˜˜ ^˜˜˜˜˜
hem.c:233:61: warning: implicit conversion changes signedness: 'int' to 'size_t' (aka 'unsigned long') [-Wsign-conversion]
for(j = 0; j < ngroup; j++) rep[j] = (int *) calloc(group[j], sizeof(int));
˜˜˜˜˜˜ ^˜˜˜˜˜˜˜
hem.c:235:25: warning: implicit conversion changes signedness: 'int' to 'size_t' (aka 'unsigned long') [-Wsign-conversion]
nn = (int ***) calloc(ngene, sizeof(int));
˜˜˜˜˜˜ ^˜˜˜˜
hem.c:236:60: warning: implicit conversion changes signedness: 'int' to 'size_t' (aka 'unsigned long') [-Wsign-conversion]
for(i = 0; i < ngene; i++) nn[i] = (int **) calloc(ngroup, sizeof(int));
˜˜˜˜˜˜ ^˜˜˜˜˜
hem.c:241:43: warning: implicit conversion changes signedness: 'int' to 'size_t' (aka 'unsigned long') [-Wsign-conversion]
nn[i][j] = (int *) calloc(group[j], sizeof(int));
˜˜˜˜˜˜ ^˜˜˜˜˜˜˜
hem.c:256:29: warning: implicit conversion changes signedness: 'int' to 'size_t' (aka 'unsigned long') [-Wsign-conversion]
obs = (double ****) calloc(ngene, sizeof(double));
˜˜˜˜˜˜ ^˜˜˜˜
hem.c:257:26: warning: implicit conversion changes signedness: 'int' to 'size_t' (aka 'unsigned long') [-Wsign-conversion]
mis = (int ****) calloc(ngene, sizeof(int));
˜˜˜˜˜˜ ^˜˜˜˜
hem.c:258:27: warning: implicit conversion changes signedness: 'int' to 'size_t' (aka 'unsigned long') [-Wsign-conversion]
gene = (double *) calloc(ngene, sizeof(double));
˜˜˜˜˜˜ ^˜˜˜˜
hem.c:259:27: warning: implicit conversion changes signedness: 'int' to 'size_t' (aka 'unsigned long') [-Wsign-conversion]
cell = (double *) calloc(ngroup, sizeof(double));
˜˜˜˜˜˜ ^˜˜˜˜˜
hem.c:260:29: warning: implicit conversion changes signedness: 'int' to 'size_t' (aka 'unsigned long') [-Wsign-conversion]
expr = (double ***) calloc(ngene, sizeof(double));
˜˜˜˜˜˜ ^˜˜˜˜
hem.c:261:29: warning: implicit conversion changes signedness: 'int' to 'size_t' (aka 'unsigned long') [-Wsign-conversion]
inter = (double **) calloc(ngene, sizeof(double));
˜˜˜˜˜˜ ^˜˜˜˜
hem.c:262:34: warning: implicit conversion changes signedness: 'int' to 'size_t' (aka 'unsigned long') [-Wsign-conversion]
sigma2_bio = (double **) calloc(ngene, sizeof(double));
˜˜˜˜˜˜ ^˜˜˜˜
hem.c:266:42: warning: implicit conversion changes signedness: 'int' to 'size_t' (aka 'unsigned long') [-Wsign-conversion]
obs[i] = (double ***) calloc(ngroup, sizeof(double));
˜˜˜˜˜˜ ^˜˜˜˜˜
hem.c:267:39: warning: implicit conversion changes signedness: 'int' to 'size_t' (aka 'unsigned long') [-Wsign-conversion]
mis[i] = (int ***) calloc(ngroup, sizeof(int));
˜˜˜˜˜˜ ^˜˜˜˜˜
hem.c:268:42: warning: implicit conversion changes signedness: 'int' to 'size_t' (aka 'unsigned long') [-Wsign-conversion]
expr[i] = (double **) calloc(ngroup, sizeof(double));
˜˜˜˜˜˜ ^˜˜˜˜˜
hem.c:269:42: warning: implicit conversion changes signedness: 'int' to 'size_t' (aka 'unsigned long') [-Wsign-conversion]
inter[i] = (double *) calloc(ngroup, sizeof(double));
˜˜˜˜˜˜ ^˜˜˜˜˜
hem.c:270:47: warning: implicit conversion changes signedness: 'int' to 'size_t' (aka 'unsigned long') [-Wsign-conversion]
sigma2_bio[i] = (double *) calloc(ngroup, sizeof(double));
˜˜˜˜˜˜ ^˜˜˜˜˜
hem.c:278:48: warning: implicit conversion changes signedness: 'int' to 'size_t' (aka 'unsigned long') [-Wsign-conversion]
obs[i][j] = (double **) calloc(group[j], sizeof(double));
˜˜˜˜˜˜ ^˜˜˜˜˜˜˜
hem.c:279:45: warning: implicit conversion changes signedness: 'int' to 'size_t' (aka 'unsigned long') [-Wsign-conversion]
mis[i][j] = (int **) calloc(group[j], sizeof(int));
˜˜˜˜˜˜ ^˜˜˜˜˜˜˜
hem.c:280:48: warning: implicit conversion changes signedness: 'int' to 'size_t' (aka 'unsigned long') [-Wsign-conversion]
expr[i][j] = (double *) calloc(group[j], sizeof(double));
˜˜˜˜˜˜ ^˜˜˜˜˜˜˜
hem.c:290:40: warning: implicit conversion changes signedness: 'int' to 'size_t' (aka 'unsigned long') [-Wsign-conversion]
obs[i][j][k] = (double *) calloc(nn[i][j][k], sizeof(double));
˜˜˜˜˜˜ ^˜˜˜˜˜˜˜˜˜˜
hem.c:291:37: warning: implicit conversion changes signedness: 'int' to 'size_t' (aka 'unsigned long') [-Wsign-conversion]
mis[i][j][k] = (int *) calloc(nn[i][j][k], sizeof(int));
˜˜˜˜˜˜ ^˜˜˜˜˜˜˜˜˜˜
hem.c:335:35: warning: implicit conversion changes signedness: 'int' to 'size_t' (aka 'unsigned long') [-Wsign-conversion]
boot_array = (double ***) calloc(ngroup, sizeof(double));
˜˜˜˜˜˜ ^˜˜˜˜˜
hem.c:336:38: warning: implicit conversion changes signedness: 'int' to 'size_t' (aka 'unsigned long') [-Wsign-conversion]
quantile_array = (double **) calloc(ngroup, sizeof(double));
˜˜˜˜˜˜ ^˜˜˜˜˜
hem.c:343:48: warning: implicit conversion changes signedness: 'int' to 'size_t' (aka 'unsigned long') [-Wsign-conversion]
boot_array[j] = (double **) calloc(Brep, sizeof(double));
˜˜˜˜˜˜ ^˜˜˜
hem.c:344:44: warning: implicit conversion changes signedness: 'int' to 'size_t' (aka 'unsigned long') [-Wsign-conversion]
quantile_array[j] = (double *) calloc(nquantile, sizeof(double));
˜˜˜˜˜˜ ^˜˜˜˜˜˜˜˜
hem.c:351:54: warning: implicit conversion changes signedness: 'int' to 'size_t' (aka 'unsigned long') [-Wsign-conversion]
boot_array[j][k] = (double *) calloc(nquantile, sizeof(double));
˜˜˜˜˜˜ ^˜˜˜˜˜˜˜˜
hem.c:382:33: warning: implicit conversion changes signedness: 'int' to 'size_t' (aka 'unsigned long') [-Wsign-conversion]
lpe_array = (double **) calloc(nquantile, sizeof(double));
˜˜˜˜˜˜ ^˜˜˜˜˜˜˜˜
hem.c:383:38: warning: implicit conversion changes signedness: 'int' to 'size_t' (aka 'unsigned long') [-Wsign-conversion]
quantile_array = (double **) calloc(nquantile, sizeof(double));
˜˜˜˜˜˜ ^˜˜˜˜˜˜˜˜
hem.c:387:46: warning: implicit conversion changes signedness: 'int' to 'size_t' (aka 'unsigned long') [-Wsign-conversion]
lpe_array[i] = (double *) calloc(ngroup, sizeof(double));
˜˜˜˜˜˜ ^˜˜˜˜˜
hem.c:388:51: warning: implicit conversion changes signedness: 'int' to 'size_t' (aka 'unsigned long') [-Wsign-conversion]
quantile_array[i] = (double *) calloc(ngroup, sizeof(double));
˜˜˜˜˜˜ ^˜˜˜˜˜
hem.c:413:31: warning: implicit conversion changes signedness: 'int' to 'size_t' (aka 'unsigned long') [-Wsign-conversion]
lpe_bio = (double **) calloc(ngene, sizeof(double));
˜˜˜˜˜˜ ^˜˜˜˜
hem.c:416:44: warning: implicit conversion changes signedness: 'int' to 'size_t' (aka 'unsigned long') [-Wsign-conversion]
lpe_bio[i] = (double *) calloc(ngroup, sizeof(double));
˜˜˜˜˜˜ ^˜˜˜˜˜
hem.c:447:35: warning: implicit conversion changes signedness: 'int' to 'size_t' (aka 'unsigned long') [-Wsign-conversion]
boot_array = (double ***) calloc(ngroup, sizeof(double));
˜˜˜˜˜˜ ^˜˜˜˜˜
hem.c:448:38: warning: implicit conversion changes signedness: 'int' to 'size_t' (aka 'unsigned long') [-Wsign-conversion]
quantile_array = (double **) calloc(ngroup, sizeof(double));
˜˜˜˜˜˜ ^˜˜˜˜˜
hem.c:455:48: warning: implicit conversion changes signedness: 'int' to 'size_t' (aka 'unsigned long') [-Wsign-conversion]
boot_array[j] = (double **) calloc(Brep, sizeof(double));
˜˜˜˜˜˜ ^˜˜˜
hem.c:456:44: warning: implicit conversion changes signedness: 'int' to 'size_t' (aka 'unsigned long') [-Wsign-conversion]
quantile_array[j] = (double *) calloc(nquantile, sizeof(double));
˜˜˜˜˜˜ ^˜˜˜˜˜˜˜˜
hem.c:463:54: warning: implicit conversion changes signedness: 'int' to 'size_t' (aka 'unsigned long') [-Wsign-conversion]
boot_array[j][k] = (double *) calloc(nquantile, sizeof(double));
˜˜˜˜˜˜ ^˜˜˜˜˜˜˜˜
hem.c:493:31: warning: implicit conversion changes signedness: 'int' to 'size_t' (aka 'unsigned long') [-Wsign-conversion]
lpe_bio = (double **) calloc(ngene, sizeof(double));
˜˜˜˜˜˜ ^˜˜˜˜
hem.c:496:44: warning: implicit conversion changes signedness: 'int' to 'size_t' (aka 'unsigned long') [-Wsign-conversion]
lpe_bio[i] = (double *) calloc(ngroup, sizeof(double));
˜˜˜˜˜˜ ^˜˜˜˜˜
hem.c:608:54: warning: implicit conversion turns floating-point number into integer: 'double' to 'int' [-Wconversion]
n1 = RandomUniform()*(Brep-1);
˜ ˜˜˜˜˜˜˜˜˜˜˜˜˜˜˜^˜˜˜˜˜˜˜˜
hem.c:672:54: warning: implicit conversion turns floating-point number into integer: 'double' to 'int' [-Wconversion]
n1 = RandomUniform()*(Brep-1);
˜ ˜˜˜˜˜˜˜˜˜˜˜˜˜˜˜^˜˜˜˜˜˜˜˜
hem.c:999:54: warning: implicit conversion turns floating-point number into integer: 'double' to 'int' [-Wconversion]
n1 = RandomUniform()*(Brep-1);
˜ ˜˜˜˜˜˜˜˜˜˜˜˜˜˜˜^˜˜˜˜˜˜˜˜
hem.c:1096:54: warning: implicit conversion turns floating-point number into integer: 'double' to 'int' [-Wconversion]
n1 = RandomUniform()*(Brep-1);
˜ ˜˜˜˜˜˜˜˜˜˜˜˜˜˜˜^˜˜˜˜˜˜˜˜
hem.c:1166:32: warning: implicit conversion changes signedness: 'int' to 'size_t' (aka 'unsigned long') [-Wsign-conversion]
mean_gene = (double *) calloc(ngene, sizeof(double));
˜˜˜˜˜˜ ^˜˜˜˜
hem.c:1167:32: warning: implicit conversion changes signedness: 'int' to 'size_t' (aka 'unsigned long') [-Wsign-conversion]
mean_cell = (double *) calloc(ngroup, sizeof(double));
˜˜˜˜˜˜ ^˜˜˜˜˜
hem.c:1168:34: warning: implicit conversion changes signedness: 'int' to 'size_t' (aka 'unsigned long') [-Wsign-conversion]
mean_inter = (double **) calloc(ngene, sizeof(double));
˜˜˜˜˜˜ ^˜˜˜˜
hem.c:1169:39: warning: implicit conversion changes signedness: 'int' to 'size_t' (aka 'unsigned long') [-Wsign-conversion]
mean_sigma2_bio = (double **) calloc(ngene, sizeof(double));
˜˜˜˜˜˜ ^˜˜˜˜
hem.c:1170:42: warning: implicit conversion changes signedness: 'int' to 'size_t' (aka 'unsigned long') [-Wsign-conversion]
mean_sigma2_array = (double ***) calloc(ngene, sizeof(double));
˜˜˜˜˜˜ ^˜˜˜˜
hem.c:1171:34: warning: implicit conversion changes signedness: 'int' to 'size_t' (aka 'unsigned long') [-Wsign-conversion]
mean_expr = (double ***) calloc(ngene, sizeof(double));
˜˜˜˜˜˜ ^˜˜˜˜
hem.c:1172:32: warning: implicit conversion changes signedness: 'int' to 'size_t' (aka 'unsigned long') [-Wsign-conversion]
expr_est = (double **) calloc(ngene, sizeof(double));
˜˜˜˜˜˜ ^˜˜˜˜
hem.c:1173:37: warning: implicit conversion changes signedness: 'int' to 'size_t' (aka 'unsigned long') [-Wsign-conversion]
mean_expr_est = (double **) calloc(ngene, sizeof(double));
˜˜˜˜˜˜ ^˜˜˜˜
hem.c:1177:47: warning: implicit conversion changes signedness: 'int' to 'size_t' (aka 'unsigned long') [-Wsign-conversion]
mean_inter[i] = (double *) calloc(ngroup, sizeof(double));
˜˜˜˜˜˜ ^˜˜˜˜˜
hem.c:1178:52: warning: implicit conversion changes signedness: 'int' to 'size_t' (aka 'unsigned long') [-Wsign-conversion]
mean_sigma2_bio[i] = (double *) calloc(ngroup, sizeof(double));
˜˜˜˜˜˜ ^˜˜˜˜˜
hem.c:1179:55: warning: implicit conversion changes signedness: 'int' to 'size_t' (aka 'unsigned long') [-Wsign-conversion]
mean_sigma2_array[i] = (double **) calloc(ngroup, sizeof(double));
˜˜˜˜˜˜ ^˜˜˜˜˜
hem.c:1180:47: warning: implicit conversion changes signedness: 'int' to 'size_t' (aka 'unsigned long') [-Wsign-conversion]
mean_expr[i] = (double **) calloc(ngroup, sizeof(double));
˜˜˜˜˜˜ ^˜˜˜˜˜
hem.c:1181:45: warning: implicit conversion changes signedness: 'int' to 'size_t' (aka 'unsigned long') [-Wsign-conversion]
expr_est[i] = (double *) calloc(ngroup, sizeof(double));
˜˜˜˜˜˜ ^˜˜˜˜˜
hem.c:1182:50: warning: implicit conversion changes signedness: 'int' to 'size_t' (aka 'unsigned long') [-Wsign-conversion]
mean_expr_est[i] = (double *) calloc(ngroup, sizeof(double));
˜˜˜˜˜˜ ^˜˜˜˜˜
hem.c:1188:52: warning: implicit conversion changes signedness: 'int' to 'size_t' (aka 'unsigned long') [-Wsign-conversion]
mean_expr[i][j] = (double *) calloc(group[j], sizeof(double));
˜˜˜˜˜˜ ^˜˜˜˜˜˜˜
hem.c:1189:60: warning: implicit conversion changes signedness: 'int' to 'size_t' (aka 'unsigned long') [-Wsign-conversion]
mean_sigma2_array[i][j] = (double *) calloc(group[j], sizeof(double));
˜˜˜˜˜˜ ^˜˜˜˜˜˜˜
hem.c:1422:32: warning: implicit conversion changes signedness: 'int' to 'size_t' (aka 'unsigned long') [-Wsign-conversion]
mean_gene = (double *) calloc(ngene, sizeof(double));
˜˜˜˜˜˜ ^˜˜˜˜
hem.c:1423:32: warning: implicit conversion changes signedness: 'int' to 'size_t' (aka 'unsigned long') [-Wsign-conversion]
mean_cell = (double *) calloc(ngroup, sizeof(double));
˜˜˜˜˜˜ ^˜˜˜˜˜
hem.c:1424:34: warning: implicit conversion changes signedness: 'int' to 'size_t' (aka 'unsigned long') [-Wsign-conversion]
mean_inter = (double **) calloc(ngene, sizeof(double));
˜˜˜˜˜˜ ^˜˜˜˜
hem.c:1425:39: warning: implicit conversion changes signedness: 'int' to 'size_t' (aka 'unsigned long') [-Wsign-conversion]
mean_sigma2_bio = (double **) calloc(ngene, sizeof(double));
˜˜˜˜˜˜ ^˜˜˜˜
hem.c:1426:32: warning: implicit conversion changes signedness: 'int' to 'size_t' (aka 'unsigned long') [-Wsign-conversion]
expr_est = (double **) calloc(ngene, sizeof(double));
˜˜˜˜˜˜ ^˜˜˜˜
hem.c:1427:37: warning: implicit conversion changes signedness: 'int' to 'size_t' (aka 'unsigned long') [-Wsign-conversion]
mean_expr_est = (double **) calloc(ngene, sizeof(double));
˜˜˜˜˜˜ ^˜˜˜˜
hem.c:1431:47: warning: implicit conversion changes signedness: 'int' to 'size_t' (aka 'unsigned long') [-Wsign-conversion]
mean_inter[i] = (double *) calloc(ngroup, sizeof(double));
˜˜˜˜˜˜ ^˜˜˜˜˜
hem.c:1432:52: warning: implicit conversion changes signedness: 'int' to 'size_t' (aka 'unsigned long') [-Wsign-conversion]
mean_sigma2_bio[i] = (double *) calloc(ngroup, sizeof(double));
˜˜˜˜˜˜ ^˜˜˜˜˜
hem.c:1433:45: warning: implicit conversion changes signedness: 'int' to 'size_t' (aka 'unsigned long') [-Wsign-conversion]
expr_est[i] = (double *) calloc(ngroup, sizeof(double));
˜˜˜˜˜˜ ^˜˜˜˜˜
hem.c:1434:50: warning: implicit conversion changes signedness: 'int' to 'size_t' (aka 'unsigned long') [-Wsign-conversion]
mean_expr_est[i] = (double *) calloc(ngroup, sizeof(double));
˜˜˜˜˜˜ ^˜˜˜˜˜
97 warnings generated.
clang -dynamiclib -Wl,-headerpad_max_install_names -undefined dynamic_lookup -single_module -multiply_defined suppress -L/usr/local/lib -L/usr/local/lib -o HEM.so hem.o -F/Library/Frameworks/R.framework/.. -framework R -Wl,-framework -Wl,CoreFoundation
installing to /Users/biocbuild/bbs-2.12-bioc/meat/HEM.Rcheck/HEM/libs
** R
** data
** inst
** preparing package for lazy loading
** help
*** installing help indices
** building package indices
** installing vignettes
** testing if installed package can be loaded
Warning: ignoring .First.lib() for package 'HEM'
* DONE (HEM)