| Back to the "Multiple platform build/check report" | A [B] C D E F G H I J K L M N O P Q R S T U V W X Y Z |
This page was generated on 2013-10-09 09:37:50 -0700 (Wed, 09 Oct 2013).
| Package 71/671 | Hostname | OS / Arch | BUILD | CHECK | BUILD BIN | ||||
| BiocGenerics 0.6.0 Bioconductor Package Maintainer
| george2 | Linux (Ubuntu 12.04.1 LTS) / x86_64 | [ OK ] | WARNINGS | |||||
| moscato2 | Windows Server 2008 R2 Enterprise SP1 (64-bit) / x64 | OK | WARNINGS | OK | |||||
| petty | Mac OS X Snow Leopard (10.6.8) / x86_64 | OK | WARNINGS | OK |
| Package: BiocGenerics |
| Version: 0.6.0 |
| Command: /home/biocbuild/bbs-2.12-bioc/R/bin/R CMD build --keep-empty-dirs --no-resave-data BiocGenerics |
| StartedAt: 2013-10-08 22:53:09 -0700 (Tue, 08 Oct 2013) |
| EndedAt: 2013-10-08 22:53:11 -0700 (Tue, 08 Oct 2013) |
| EllapsedTime: 1.9 seconds |
| RetCode: 0 |
| Status: OK |
| PackageFile: BiocGenerics_0.6.0.tar.gz |
| PackageFileSize: 25.87 KiB |
* checking for file ‘BiocGenerics/DESCRIPTION’ ... OK * preparing ‘BiocGenerics’: * checking DESCRIPTION meta-information ... OK * checking for LF line-endings in source and make files * checking for empty or unneeded directories * building ‘BiocGenerics_0.6.0.tar.gz’