rqubic 1.6.0 Jitao David Zhang
Snapshot Date: 2013-10-08 17:00:48 -0700 (Tue, 08 Oct 2013) | URL: https://hedgehog.fhcrc.org/bioconductor/branches/RELEASE_2_12/madman/Rpacks/rqubic | Last Changed Rev: 75263 / Revision: 81334 | Last Changed Date: 2013-04-03 14:32:27 -0700 (Wed, 03 Apr 2013) |
| george2 | Linux (Ubuntu 12.04.1 LTS) / x86_64 | OK | OK | |
moscato2 | Windows Server 2008 R2 Enterprise SP1 (64-bit) / x64 | OK | OK | [ OK ] |
petty | Mac OS X Snow Leopard (10.6.8) / x86_64 | OK | OK | OK |
install for i386
* installing *source* package 'rqubic' ...
** libs
gcc -m32 -I"E:/biocbld/BBS-2˜1.12-/R/include" -DNDEBUG -I"d:/RCompile/CRANpkg/extralibs64/local/include" -O3 -Wall -std=gnu99 -mtune=core2 -c bicluster.c -o bicluster.o
bicluster.c: In function 'seed_intersect_r':
bicluster.c:354:7: warning: suggest parentheses around assignment used as truth value [-Wparentheses]
gcc -m32 -I"E:/biocbld/BBS-2˜1.12-/R/include" -DNDEBUG -I"d:/RCompile/CRANpkg/extralibs64/local/include" -O3 -Wall -std=gnu99 -mtune=core2 -c discretize.c -o discretize.o
rqubic.h:60:20: warning: 'EDGELIST_ATT_NAME' defined but not used [-Wunused-variable]
rqubic.h:61:20: warning: 'MINCOL_ATT_NAME' defined but not used [-Wunused-variable]
gcc -m32 -I"E:/biocbld/BBS-2˜1.12-/R/include" -DNDEBUG -I"d:/RCompile/CRANpkg/extralibs64/local/include" -O3 -Wall -std=gnu99 -mtune=core2 -c fib.c -o fib.o
rqubic.h:60:20: warning: 'EDGELIST_ATT_NAME' defined but not used [-Wunused-variable]
rqubic.h:61:20: warning: 'MINCOL_ATT_NAME' defined but not used [-Wunused-variable]
gcc -m32 -I"E:/biocbld/BBS-2˜1.12-/R/include" -DNDEBUG -I"d:/RCompile/CRANpkg/extralibs64/local/include" -O3 -Wall -std=gnu99 -mtune=core2 -c graph.c -o graph.o
gcc -m32 -I"E:/biocbld/BBS-2˜1.12-/R/include" -DNDEBUG -I"d:/RCompile/CRANpkg/extralibs64/local/include" -O3 -Wall -std=gnu99 -mtune=core2 -c rqubic.c -o rqubic.o
rqubic.h:60:20: warning: 'EDGELIST_ATT_NAME' defined but not used [-Wunused-variable]
rqubic.h:61:20: warning: 'MINCOL_ATT_NAME' defined but not used [-Wunused-variable]
gcc -m32 -shared -s -static-libgcc -o rqubic.dll tmp.def bicluster.o discretize.o fib.o graph.o rqubic.o -Ld:/RCompile/CRANpkg/extralibs64/local/lib/i386 -Ld:/RCompile/CRANpkg/extralibs64/local/lib -LE:/biocbld/BBS-2˜1.12-/R/bin/i386 -lR
installing to E:/biocbld/bbs-2.12-bioc/meat/rqubic.buildbin-libdir/rqubic/libs/i386
** R
** inst
** preparing package for lazy loading
** help
*** installing help indices
** building package indices
** installing vignettes
** testing if installed package can be loaded
install for x64
* installing *source* package 'rqubic' ...
** libs
gcc -m64 -I"E:/biocbld/BBS-2˜1.12-/R/include" -DNDEBUG -I"d:/RCompile/CRANpkg/extralibs64/local/include" -O2 -Wall -std=gnu99 -mtune=core2 -c bicluster.c -o bicluster.o
bicluster.c: In function 'seed_intersect_r':
bicluster.c:354:7: warning: suggest parentheses around assignment used as truth value [-Wparentheses]
gcc -m64 -I"E:/biocbld/BBS-2˜1.12-/R/include" -DNDEBUG -I"d:/RCompile/CRANpkg/extralibs64/local/include" -O2 -Wall -std=gnu99 -mtune=core2 -c discretize.c -o discretize.o
rqubic.h:60:20: warning: 'EDGELIST_ATT_NAME' defined but not used [-Wunused-variable]
rqubic.h:61:20: warning: 'MINCOL_ATT_NAME' defined but not used [-Wunused-variable]
gcc -m64 -I"E:/biocbld/BBS-2˜1.12-/R/include" -DNDEBUG -I"d:/RCompile/CRANpkg/extralibs64/local/include" -O2 -Wall -std=gnu99 -mtune=core2 -c fib.c -o fib.o
rqubic.h:60:20: warning: 'EDGELIST_ATT_NAME' defined but not used [-Wunused-variable]
rqubic.h:61:20: warning: 'MINCOL_ATT_NAME' defined but not used [-Wunused-variable]
gcc -m64 -I"E:/biocbld/BBS-2˜1.12-/R/include" -DNDEBUG -I"d:/RCompile/CRANpkg/extralibs64/local/include" -O2 -Wall -std=gnu99 -mtune=core2 -c graph.c -o graph.o
gcc -m64 -I"E:/biocbld/BBS-2˜1.12-/R/include" -DNDEBUG -I"d:/RCompile/CRANpkg/extralibs64/local/include" -O2 -Wall -std=gnu99 -mtune=core2 -c rqubic.c -o rqubic.o
rqubic.h:60:20: warning: 'EDGELIST_ATT_NAME' defined but not used [-Wunused-variable]
rqubic.h:61:20: warning: 'MINCOL_ATT_NAME' defined but not used [-Wunused-variable]
gcc -m64 -shared -s -static-libgcc -o rqubic.dll tmp.def bicluster.o discretize.o fib.o graph.o rqubic.o -Ld:/RCompile/CRANpkg/extralibs64/local/lib/x64 -Ld:/RCompile/CRANpkg/extralibs64/local/lib -LE:/biocbld/BBS-2˜1.12-/R/bin/x64 -lR
installing to E:/biocbld/bbs-2.12-bioc/meat/rqubic.buildbin-libdir/rqubic/libs/x64
** testing if installed package can be loaded
* MD5 sums
packaged installation of 'rqubic' as rqubic_1.6.0.zip
* DONE (rqubic)