r3Cseq 1.5.0 Supat Thongjuea
 | Snapshot Date: 2013-01-15 17:01:14 -0800 (Tue, 15 Jan 2013) |  | URL: https://hedgehog.fhcrc.org/bioconductor/trunk/madman/Rpacks/r3Cseq |  | Last Changed Rev: 71760 / Revision: 72575 |  | Last Changed Date: 2012-12-10 04:16:58 -0800 (Mon, 10 Dec 2012) |  
  | george2  | Linux (Ubuntu 12.04.1 LTS) / x86_64  |  OK  |  WARNINGS  |  | 
| lamb2  | Linux (openSUSE 11.4) / x86_64  | [ OK ] |  WARNINGS  |  | 
| moscato2  | Windows Server 2008 R2 Enterprise SP1 (64-bit) / x64  |  OK  |  WARNINGS  |  OK  | 
| petty  | Mac OS X Leopard (10.5.8) / i386  |  OK  |  WARNINGS  |  OK  | 
* checking for file ‘r3Cseq/DESCRIPTION’ ... OK
* preparing ‘r3Cseq’:
* checking DESCRIPTION meta-information ... OK
* installing the package to re-build vignettes
* creating vignettes ... OK
* checking for LF line-endings in source and make files
* checking for empty or unneeded directories
* looking to see if a ‘data/datalist’ file should be added
* building ‘r3Cseq_1.5.0.tar.gz’