| oneChannelGUI 1.26.0 Raffaele A Calogero
 
 | Snapshot Date: 2013-04-30 17:01:37 -0700 (Tue, 30 Apr 2013) |  | URL: https://hedgehog.fhcrc.org/bioconductor/branches/RELEASE_2_12/madman/Rpacks/oneChannelGUI |  | Last Changed Rev: 75263 / Revision: 76155 |  | Last Changed Date: 2013-04-03 14:32:27 -0700 (Wed, 03 Apr 2013) | 
 | george2 | Linux (Ubuntu 12.04.1 LTS) / x86_64 | OK | OK |  | 
| moscato2 | Windows Server 2008 R2 Enterprise SP1 (64-bit) / x64 | OK | OK | OK | 
| petty | Mac OS X Snow Leopard (10.6.8) / x86_64 | OK | OK | OK | 
| pelham | Mac OS X Snow Leopard (10.6.8) / x86_64 | OK | OK | [ OK ] | 
>>>>>>> 
>>>>>>> INSTALLATION WITH 'R CMD INSTALL --preclean --no-multiarch --library=oneChannelGUI.buildbin-libdir oneChannelGUI_1.26.0.tar.gz'
>>>>>>> 
* installing *source* package 'oneChannelGUI' ...
** R
** data
** inst
** preparing package for lazy loading
Bioconductor version 2.12 (BiocInstaller 1.10.1), ?biocLite for help
** help
*** installing help indices
** building package indices
** installing vignettes
** testing if installed package can be loaded
Bioconductor version 2.12 (BiocInstaller 1.10.1), ?biocLite for help
* DONE (oneChannelGUI)