ncdfFlow 1.5.14 M. Jiang
 | Snapshot Date: 2013-01-15 17:01:14 -0800 (Tue, 15 Jan 2013) |  | URL: https://hedgehog.fhcrc.org/bioconductor/trunk/madman/Rpacks/ncdfFlow |  | Last Changed Rev: 72511 / Revision: 72575 |  | Last Changed Date: 2013-01-14 12:17:57 -0800 (Mon, 14 Jan 2013) |  
  | george2  | Linux (Ubuntu 12.04.1 LTS) / x86_64  |  ERROR  |  skipped  |  | 
| lamb2  | Linux (openSUSE 11.4) / x86_64  | [ OK ] |  ERROR  |  | 
| moscato2  | Windows Server 2008 R2 Enterprise SP1 (64-bit) / x64  |  OK  |  ERROR  |  OK  | 
| petty  | Mac OS X Leopard (10.5.8) / i386  |  ERROR  |  skipped  |  skipped  | 
* checking for file ‘ncdfFlow/DESCRIPTION’ ... OK
* preparing ‘ncdfFlow’:
* checking DESCRIPTION meta-information ... OK
* cleaning src
* running ‘cleanup’
* installing the package to re-build vignettes
* creating vignettes ... OK
* cleaning src
* running ‘cleanup’
* checking for LF line-endings in source and make files
* checking for empty or unneeded directories
* building ‘ncdfFlow_1.5.14.tar.gz’