iFlow 2.12.0 Kyongryun Lee
 | Snapshot Date: 2013-04-30 17:01:37 -0700 (Tue, 30 Apr 2013) |  | URL: https://hedgehog.fhcrc.org/bioconductor/branches/RELEASE_2_12/madman/Rpacks/iFlow |  | Last Changed Rev: 75263 / Revision: 76155 |  | Last Changed Date: 2013-04-03 14:32:27 -0700 (Wed, 03 Apr 2013) |  
  | george2  | Linux (Ubuntu 12.04.1 LTS) / x86_64  |  OK  |  WARNINGS  |  | 
| moscato2  | Windows Server 2008 R2 Enterprise SP1 (64-bit) / x64  | N O T   S U P P O R T E D | 
| petty  | Mac OS X Snow Leopard (10.6.8) / x86_64  |  OK  |  WARNINGS  |  OK  | 
| pelham  | Mac OS X Snow Leopard (10.6.8) / x86_64  |  OK  |  WARNINGS  | [ OK ] | 
>>>>>>> 
>>>>>>> INSTALLATION WITH 'R CMD INSTALL --preclean --no-multiarch --library=iFlow.buildbin-libdir iFlow_2.12.0.tar.gz'
>>>>>>> 
* installing *source* package 'iFlow' ...
** R
** inst
** preparing package for lazy loading
Warning in rgl.init(initValue) : RGL: GLX extension missing on server
Warning in fun(libname, pkgname) : error in rgl_init
Warning: replacing previous import 'plot' when loading 'graphics'
** help
*** installing help indices
** building package indices
** installing vignettes
** testing if installed package can be loaded
Warning in rgl.init(initValue) : RGL: GLX extension missing on server
Warning in fun(libname, pkgname) : error in rgl_init
Warning: replacing previous import 'plot' when loading 'graphics'
* DONE (iFlow)