flowWorkspace 1.6.1 Greg Finak ,Mike Jiang
Snapshot Date: 2013-10-08 17:00:48 -0700 (Tue, 08 Oct 2013) | URL: https://hedgehog.fhcrc.org/bioconductor/branches/RELEASE_2_12/madman/Rpacks/flowWorkspace | Last Changed Rev: 78306 / Revision: 81334 | Last Changed Date: 2013-07-10 16:09:35 -0700 (Wed, 10 Jul 2013) |
| george2 | Linux (Ubuntu 12.04.1 LTS) / x86_64 | OK | OK | |
moscato2 | Windows Server 2008 R2 Enterprise SP1 (64-bit) / x64 | N O T S U P P O R T E D |
petty | Mac OS X Snow Leopard (10.6.8) / x86_64 | OK | ERROR | [ OK ] |
>>>>>>>
>>>>>>> INSTALLATION WITH 'R CMD INSTALL --preclean --no-multiarch --library=flowWorkspace.buildbin-libdir flowWorkspace_1.6.1.tar.gz'
>>>>>>>
* installing *source* package 'flowWorkspace' ...
removing .o files
checking for g++... g++
checking whether the C++ compiler works... yes
checking for C++ compiler default output file name... a.out
checking for suffix of executables...
checking whether we are cross compiling... no
checking for suffix of object files... o
checking whether we are using the GNU C++ compiler... yes
checking whether g++ accepts -g... yes
checking for gcc... gcc
checking whether we are using the GNU C compiler... yes
checking whether gcc accepts -g... yes
checking for gcc option to accept ISO C89... none needed
checking how to run the C preprocessor... gcc -E
checking for grep that handles long lines and -e... /usr/bin/grep
checking for egrep... /usr/bin/grep -E
checking for ANSI C header files... yes
checking for sys/types.h... yes
checking for sys/stat.h... yes
checking for stdlib.h... yes
checking for string.h... yes
checking for memory.h... yes
checking for strings.h... yes
checking for inttypes.h... yes
checking for stdint.h... yes
checking for unistd.h... yes
checking for stdbool.h that conforms to C99... no
checking for _Bool... yes
checking for size_t... yes
configure: setting xml2 flags...
configure: No directory was specified for --with-xml2. Trying to find xml2 using other methods.
checking for xml2-config... /usr/bin/xml2-config
configure: No directory was specified for --with-boost. Using bundled boost.
found trimmed_boost_1_52_0 header sources and tar archive;using what is there.
configure: Using the following compilation and linking flags for flowWorkspace
configure: PKG_CPPFLAGS=-I/usr/include/libxml2
configure: PKG_LIBS=-lxml2 -lz -lpthread -licucore -lm
configure: creating ./config.status
config.status: creating src/Makevars
** libs
llvm-g++-4.2 -arch x86_64 -I/Library/Frameworks/R.framework/Resources/include -DNDEBUG -Wno-deprecated -I/usr/include/libxml2 -Itrimmed_boost_1_52_0/ -I/usr/local/include -I"/Library/Frameworks/R.framework/Versions/3.0/Resources/library/Rcpp/include" -I"/Library/Frameworks/R.framework/Versions/3.0/Resources/library/ncdfFlow/include" -fPIC -mtune=core2 -g -O2 -c GatingHierarchy.cpp -o GatingHierarchy.o
llvm-g++-4.2 -arch x86_64 -I/Library/Frameworks/R.framework/Resources/include -DNDEBUG -Wno-deprecated -I/usr/include/libxml2 -Itrimmed_boost_1_52_0/ -I/usr/local/include -I"/Library/Frameworks/R.framework/Versions/3.0/Resources/library/Rcpp/include" -I"/Library/Frameworks/R.framework/Versions/3.0/Resources/library/ncdfFlow/include" -fPIC -mtune=core2 -g -O2 -c GatingSet.cpp -o GatingSet.o
llvm-g++-4.2 -arch x86_64 -I/Library/Frameworks/R.framework/Resources/include -DNDEBUG -Wno-deprecated -I/usr/include/libxml2 -Itrimmed_boost_1_52_0/ -I/usr/local/include -I"/Library/Frameworks/R.framework/Versions/3.0/Resources/library/Rcpp/include" -I"/Library/Frameworks/R.framework/Versions/3.0/Resources/library/ncdfFlow/include" -fPIC -mtune=core2 -g -O2 -c POPINDICES.cpp -o POPINDICES.o
llvm-g++-4.2 -arch x86_64 -I/Library/Frameworks/R.framework/Resources/include -DNDEBUG -Wno-deprecated -I/usr/include/libxml2 -Itrimmed_boost_1_52_0/ -I/usr/local/include -I"/Library/Frameworks/R.framework/Versions/3.0/Resources/library/Rcpp/include" -I"/Library/Frameworks/R.framework/Versions/3.0/Resources/library/ncdfFlow/include" -fPIC -mtune=core2 -g -O2 -c R_GatingHierarchy.cpp -o R_GatingHierarchy.o
llvm-g++-4.2 -arch x86_64 -I/Library/Frameworks/R.framework/Resources/include -DNDEBUG -Wno-deprecated -I/usr/include/libxml2 -Itrimmed_boost_1_52_0/ -I/usr/local/include -I"/Library/Frameworks/R.framework/Versions/3.0/Resources/library/Rcpp/include" -I"/Library/Frameworks/R.framework/Versions/3.0/Resources/library/ncdfFlow/include" -fPIC -mtune=core2 -g -O2 -c R_GatingSet.cpp -o R_GatingSet.o
llvm-gcc-4.2 -arch x86_64 -std=gnu99 -I/Library/Frameworks/R.framework/Resources/include -DNDEBUG -Wno-deprecated -I/usr/include/libxml2 -Itrimmed_boost_1_52_0/ -I/usr/local/include -I"/Library/Frameworks/R.framework/Versions/3.0/Resources/library/Rcpp/include" -I"/Library/Frameworks/R.framework/Versions/3.0/Resources/library/ncdfFlow/include" -fPIC -mtune=core2 -g -O2 -c bitOps.c -o bitOps.o
cc1: warning: command line option "-Wno-deprecated" is valid for C++/Java/ObjC++ but not for C
llvm-g++-4.2 -arch x86_64 -I/Library/Frameworks/R.framework/Resources/include -DNDEBUG -Wno-deprecated -I/usr/include/libxml2 -Itrimmed_boost_1_52_0/ -I/usr/local/include -I"/Library/Frameworks/R.framework/Versions/3.0/Resources/library/Rcpp/include" -I"/Library/Frameworks/R.framework/Versions/3.0/Resources/library/ncdfFlow/include" -fPIC -mtune=core2 -g -O2 -c calibrationTable.cpp -o calibrationTable.o
llvm-g++-4.2 -arch x86_64 -I/Library/Frameworks/R.framework/Resources/include -DNDEBUG -Wno-deprecated -I/usr/include/libxml2 -Itrimmed_boost_1_52_0/ -I/usr/local/include -I"/Library/Frameworks/R.framework/Versions/3.0/Resources/library/Rcpp/include" -I"/Library/Frameworks/R.framework/Versions/3.0/Resources/library/ncdfFlow/include" -fPIC -mtune=core2 -g -O2 -c flowData.cpp -o flowData.o
llvm-g++-4.2 -arch x86_64 -I/Library/Frameworks/R.framework/Resources/include -DNDEBUG -Wno-deprecated -I/usr/include/libxml2 -Itrimmed_boost_1_52_0/ -I/usr/local/include -I"/Library/Frameworks/R.framework/Versions/3.0/Resources/library/Rcpp/include" -I"/Library/Frameworks/R.framework/Versions/3.0/Resources/library/ncdfFlow/include" -fPIC -mtune=core2 -g -O2 -c flowJoWorkspace.cpp -o flowJoWorkspace.o
flowJoWorkspace.cpp: In member function 'virtual std::vector<std::basic_string<char, std::char_traits<char>, std::allocator<char> >, std::allocator<std::basic_string<char, std::char_traits<char>, std::allocator<char> > > > flowJoWorkspace::getSampleID(short unsigned int)':
flowJoWorkspace.cpp:28: warning: comparison is always false due to limited range of data type
llvm-g++-4.2 -arch x86_64 -I/Library/Frameworks/R.framework/Resources/include -DNDEBUG -Wno-deprecated -I/usr/include/libxml2 -Itrimmed_boost_1_52_0/ -I/usr/local/include -I"/Library/Frameworks/R.framework/Versions/3.0/Resources/library/Rcpp/include" -I"/Library/Frameworks/R.framework/Versions/3.0/Resources/library/ncdfFlow/include" -fPIC -mtune=core2 -g -O2 -c gate.cpp -o gate.o
llvm-gcc-4.2 -arch x86_64 -std=gnu99 -I/Library/Frameworks/R.framework/Resources/include -DNDEBUG -Wno-deprecated -I/usr/include/libxml2 -Itrimmed_boost_1_52_0/ -I/usr/local/include -I"/Library/Frameworks/R.framework/Versions/3.0/Resources/library/Rcpp/include" -I"/Library/Frameworks/R.framework/Versions/3.0/Resources/library/ncdfFlow/include" -fPIC -mtune=core2 -g -O2 -c init.c -o init.o
cc1: warning: command line option "-Wno-deprecated" is valid for C++/Java/ObjC++ but not for C
llvm-g++-4.2 -arch x86_64 -I/Library/Frameworks/R.framework/Resources/include -DNDEBUG -Wno-deprecated -I/usr/include/libxml2 -Itrimmed_boost_1_52_0/ -I/usr/local/include -I"/Library/Frameworks/R.framework/Versions/3.0/Resources/library/Rcpp/include" -I"/Library/Frameworks/R.framework/Versions/3.0/Resources/library/ncdfFlow/include" -fPIC -mtune=core2 -g -O2 -c macFlowJoWorkspace.cpp -o macFlowJoWorkspace.o
llvm-g++-4.2 -arch x86_64 -I/Library/Frameworks/R.framework/Resources/include -DNDEBUG -Wno-deprecated -I/usr/include/libxml2 -Itrimmed_boost_1_52_0/ -I/usr/local/include -I"/Library/Frameworks/R.framework/Versions/3.0/Resources/library/Rcpp/include" -I"/Library/Frameworks/R.framework/Versions/3.0/Resources/library/ncdfFlow/include" -fPIC -mtune=core2 -g -O2 -c ncdfFlow.cpp -o ncdfFlow.o
llvm-g++-4.2 -arch x86_64 -I/Library/Frameworks/R.framework/Resources/include -DNDEBUG -Wno-deprecated -I/usr/include/libxml2 -Itrimmed_boost_1_52_0/ -I/usr/local/include -I"/Library/Frameworks/R.framework/Versions/3.0/Resources/library/Rcpp/include" -I"/Library/Frameworks/R.framework/Versions/3.0/Resources/library/ncdfFlow/include" -fPIC -mtune=core2 -g -O2 -c nodeProperties.cpp -o nodeProperties.o
llvm-g++-4.2 -arch x86_64 -I/Library/Frameworks/R.framework/Resources/include -DNDEBUG -Wno-deprecated -I/usr/include/libxml2 -Itrimmed_boost_1_52_0/ -I/usr/local/include -I"/Library/Frameworks/R.framework/Versions/3.0/Resources/library/Rcpp/include" -I"/Library/Frameworks/R.framework/Versions/3.0/Resources/library/ncdfFlow/include" -fPIC -mtune=core2 -g -O2 -c spline.cpp -o spline.o
llvm-g++-4.2 -arch x86_64 -I/Library/Frameworks/R.framework/Resources/include -DNDEBUG -Wno-deprecated -I/usr/include/libxml2 -Itrimmed_boost_1_52_0/ -I/usr/local/include -I"/Library/Frameworks/R.framework/Versions/3.0/Resources/library/Rcpp/include" -I"/Library/Frameworks/R.framework/Versions/3.0/Resources/library/ncdfFlow/include" -fPIC -mtune=core2 -g -O2 -c transformation.cpp -o transformation.o
llvm-g++-4.2 -arch x86_64 -I/Library/Frameworks/R.framework/Resources/include -DNDEBUG -Wno-deprecated -I/usr/include/libxml2 -Itrimmed_boost_1_52_0/ -I/usr/local/include -I"/Library/Frameworks/R.framework/Versions/3.0/Resources/library/Rcpp/include" -I"/Library/Frameworks/R.framework/Versions/3.0/Resources/library/ncdfFlow/include" -fPIC -mtune=core2 -g -O2 -c winFlowJoWorkspace.cpp -o winFlowJoWorkspace.o
llvm-g++-4.2 -arch x86_64 -I/Library/Frameworks/R.framework/Resources/include -DNDEBUG -Wno-deprecated -I/usr/include/libxml2 -Itrimmed_boost_1_52_0/ -I/usr/local/include -I"/Library/Frameworks/R.framework/Versions/3.0/Resources/library/Rcpp/include" -I"/Library/Frameworks/R.framework/Versions/3.0/Resources/library/ncdfFlow/include" -fPIC -mtune=core2 -g -O2 -c workspace.cpp -o workspace.o
llvm-g++-4.2 -arch x86_64 -I/Library/Frameworks/R.framework/Resources/include -DNDEBUG -Wno-deprecated -I/usr/include/libxml2 -Itrimmed_boost_1_52_0/ -I/usr/local/include -I"/Library/Frameworks/R.framework/Versions/3.0/Resources/library/Rcpp/include" -I"/Library/Frameworks/R.framework/Versions/3.0/Resources/library/ncdfFlow/include" -fPIC -mtune=core2 -g -O2 -c wsNode.cpp -o wsNode.o
llvm-g++-4.2 -arch x86_64 -I/Library/Frameworks/R.framework/Resources/include -DNDEBUG -Wno-deprecated -I/usr/include/libxml2 -Itrimmed_boost_1_52_0/ -I/usr/local/include -I"/Library/Frameworks/R.framework/Versions/3.0/Resources/library/Rcpp/include" -I"/Library/Frameworks/R.framework/Versions/3.0/Resources/library/ncdfFlow/include" -fPIC -mtune=core2 -g -O2 -c trimmed_boost_1_52_0/libs/serialization/src/archive_exception.cpp -o trimmed_boost_1_52_0/libs/serialization/src/archive_exception.o
llvm-g++-4.2 -arch x86_64 -I/Library/Frameworks/R.framework/Resources/include -DNDEBUG -Wno-deprecated -I/usr/include/libxml2 -Itrimmed_boost_1_52_0/ -I/usr/local/include -I"/Library/Frameworks/R.framework/Versions/3.0/Resources/library/Rcpp/include" -I"/Library/Frameworks/R.framework/Versions/3.0/Resources/library/ncdfFlow/include" -fPIC -mtune=core2 -g -O2 -c trimmed_boost_1_52_0/libs/serialization/src/basic_archive.cpp -o trimmed_boost_1_52_0/libs/serialization/src/basic_archive.o
llvm-g++-4.2 -arch x86_64 -I/Library/Frameworks/R.framework/Resources/include -DNDEBUG -Wno-deprecated -I/usr/include/libxml2 -Itrimmed_boost_1_52_0/ -I/usr/local/include -I"/Library/Frameworks/R.framework/Versions/3.0/Resources/library/Rcpp/include" -I"/Library/Frameworks/R.framework/Versions/3.0/Resources/library/ncdfFlow/include" -fPIC -mtune=core2 -g -O2 -c trimmed_boost_1_52_0/libs/serialization/src/basic_iarchive.cpp -o trimmed_boost_1_52_0/libs/serialization/src/basic_iarchive.o
llvm-g++-4.2 -arch x86_64 -I/Library/Frameworks/R.framework/Resources/include -DNDEBUG -Wno-deprecated -I/usr/include/libxml2 -Itrimmed_boost_1_52_0/ -I/usr/local/include -I"/Library/Frameworks/R.framework/Versions/3.0/Resources/library/Rcpp/include" -I"/Library/Frameworks/R.framework/Versions/3.0/Resources/library/ncdfFlow/include" -fPIC -mtune=core2 -g -O2 -c trimmed_boost_1_52_0/libs/serialization/src/basic_iserializer.cpp -o trimmed_boost_1_52_0/libs/serialization/src/basic_iserializer.o
llvm-g++-4.2 -arch x86_64 -I/Library/Frameworks/R.framework/Resources/include -DNDEBUG -Wno-deprecated -I/usr/include/libxml2 -Itrimmed_boost_1_52_0/ -I/usr/local/include -I"/Library/Frameworks/R.framework/Versions/3.0/Resources/library/Rcpp/include" -I"/Library/Frameworks/R.framework/Versions/3.0/Resources/library/ncdfFlow/include" -fPIC -mtune=core2 -g -O2 -c trimmed_boost_1_52_0/libs/serialization/src/basic_oarchive.cpp -o trimmed_boost_1_52_0/libs/serialization/src/basic_oarchive.o
llvm-g++-4.2 -arch x86_64 -I/Library/Frameworks/R.framework/Resources/include -DNDEBUG -Wno-deprecated -I/usr/include/libxml2 -Itrimmed_boost_1_52_0/ -I/usr/local/include -I"/Library/Frameworks/R.framework/Versions/3.0/Resources/library/Rcpp/include" -I"/Library/Frameworks/R.framework/Versions/3.0/Resources/library/ncdfFlow/include" -fPIC -mtune=core2 -g -O2 -c trimmed_boost_1_52_0/libs/serialization/src/basic_oserializer.cpp -o trimmed_boost_1_52_0/libs/serialization/src/basic_oserializer.o
llvm-g++-4.2 -arch x86_64 -I/Library/Frameworks/R.framework/Resources/include -DNDEBUG -Wno-deprecated -I/usr/include/libxml2 -Itrimmed_boost_1_52_0/ -I/usr/local/include -I"/Library/Frameworks/R.framework/Versions/3.0/Resources/library/Rcpp/include" -I"/Library/Frameworks/R.framework/Versions/3.0/Resources/library/ncdfFlow/include" -fPIC -mtune=core2 -g -O2 -c trimmed_boost_1_52_0/libs/serialization/src/basic_pointer_iserializer.cpp -o trimmed_boost_1_52_0/libs/serialization/src/basic_pointer_iserializer.o
llvm-g++-4.2 -arch x86_64 -I/Library/Frameworks/R.framework/Resources/include -DNDEBUG -Wno-deprecated -I/usr/include/libxml2 -Itrimmed_boost_1_52_0/ -I/usr/local/include -I"/Library/Frameworks/R.framework/Versions/3.0/Resources/library/Rcpp/include" -I"/Library/Frameworks/R.framework/Versions/3.0/Resources/library/ncdfFlow/include" -fPIC -mtune=core2 -g -O2 -c trimmed_boost_1_52_0/libs/serialization/src/basic_pointer_oserializer.cpp -o trimmed_boost_1_52_0/libs/serialization/src/basic_pointer_oserializer.o
llvm-g++-4.2 -arch x86_64 -I/Library/Frameworks/R.framework/Resources/include -DNDEBUG -Wno-deprecated -I/usr/include/libxml2 -Itrimmed_boost_1_52_0/ -I/usr/local/include -I"/Library/Frameworks/R.framework/Versions/3.0/Resources/library/Rcpp/include" -I"/Library/Frameworks/R.framework/Versions/3.0/Resources/library/ncdfFlow/include" -fPIC -mtune=core2 -g -O2 -c trimmed_boost_1_52_0/libs/serialization/src/basic_serializer_map.cpp -o trimmed_boost_1_52_0/libs/serialization/src/basic_serializer_map.o
llvm-g++-4.2 -arch x86_64 -I/Library/Frameworks/R.framework/Resources/include -DNDEBUG -Wno-deprecated -I/usr/include/libxml2 -Itrimmed_boost_1_52_0/ -I/usr/local/include -I"/Library/Frameworks/R.framework/Versions/3.0/Resources/library/Rcpp/include" -I"/Library/Frameworks/R.framework/Versions/3.0/Resources/library/ncdfFlow/include" -fPIC -mtune=core2 -g -O2 -c trimmed_boost_1_52_0/libs/serialization/src/basic_text_iprimitive.cpp -o trimmed_boost_1_52_0/libs/serialization/src/basic_text_iprimitive.o
llvm-g++-4.2 -arch x86_64 -I/Library/Frameworks/R.framework/Resources/include -DNDEBUG -Wno-deprecated -I/usr/include/libxml2 -Itrimmed_boost_1_52_0/ -I/usr/local/include -I"/Library/Frameworks/R.framework/Versions/3.0/Resources/library/Rcpp/include" -I"/Library/Frameworks/R.framework/Versions/3.0/Resources/library/ncdfFlow/include" -fPIC -mtune=core2 -g -O2 -c trimmed_boost_1_52_0/libs/serialization/src/basic_text_oprimitive.cpp -o trimmed_boost_1_52_0/libs/serialization/src/basic_text_oprimitive.o
llvm-g++-4.2 -arch x86_64 -I/Library/Frameworks/R.framework/Resources/include -DNDEBUG -Wno-deprecated -I/usr/include/libxml2 -Itrimmed_boost_1_52_0/ -I/usr/local/include -I"/Library/Frameworks/R.framework/Versions/3.0/Resources/library/Rcpp/include" -I"/Library/Frameworks/R.framework/Versions/3.0/Resources/library/ncdfFlow/include" -fPIC -mtune=core2 -g -O2 -c trimmed_boost_1_52_0/libs/serialization/src/basic_text_wiprimitive.cpp -o trimmed_boost_1_52_0/libs/serialization/src/basic_text_wiprimitive.o
llvm-g++-4.2 -arch x86_64 -I/Library/Frameworks/R.framework/Resources/include -DNDEBUG -Wno-deprecated -I/usr/include/libxml2 -Itrimmed_boost_1_52_0/ -I/usr/local/include -I"/Library/Frameworks/R.framework/Versions/3.0/Resources/library/Rcpp/include" -I"/Library/Frameworks/R.framework/Versions/3.0/Resources/library/ncdfFlow/include" -fPIC -mtune=core2 -g -O2 -c trimmed_boost_1_52_0/libs/serialization/src/basic_text_woprimitive.cpp -o trimmed_boost_1_52_0/libs/serialization/src/basic_text_woprimitive.o
llvm-g++-4.2 -arch x86_64 -I/Library/Frameworks/R.framework/Resources/include -DNDEBUG -Wno-deprecated -I/usr/include/libxml2 -Itrimmed_boost_1_52_0/ -I/usr/local/include -I"/Library/Frameworks/R.framework/Versions/3.0/Resources/library/Rcpp/include" -I"/Library/Frameworks/R.framework/Versions/3.0/Resources/library/ncdfFlow/include" -fPIC -mtune=core2 -g -O2 -c trimmed_boost_1_52_0/libs/serialization/src/basic_xml_archive.cpp -o trimmed_boost_1_52_0/libs/serialization/src/basic_xml_archive.o
llvm-g++-4.2 -arch x86_64 -I/Library/Frameworks/R.framework/Resources/include -DNDEBUG -Wno-deprecated -I/usr/include/libxml2 -Itrimmed_boost_1_52_0/ -I/usr/local/include -I"/Library/Frameworks/R.framework/Versions/3.0/Resources/library/Rcpp/include" -I"/Library/Frameworks/R.framework/Versions/3.0/Resources/library/ncdfFlow/include" -fPIC -mtune=core2 -g -O2 -c trimmed_boost_1_52_0/libs/serialization/src/binary_iarchive.cpp -o trimmed_boost_1_52_0/libs/serialization/src/binary_iarchive.o
llvm-g++-4.2 -arch x86_64 -I/Library/Frameworks/R.framework/Resources/include -DNDEBUG -Wno-deprecated -I/usr/include/libxml2 -Itrimmed_boost_1_52_0/ -I/usr/local/include -I"/Library/Frameworks/R.framework/Versions/3.0/Resources/library/Rcpp/include" -I"/Library/Frameworks/R.framework/Versions/3.0/Resources/library/ncdfFlow/include" -fPIC -mtune=core2 -g -O2 -c trimmed_boost_1_52_0/libs/serialization/src/binary_oarchive.cpp -o trimmed_boost_1_52_0/libs/serialization/src/binary_oarchive.o
llvm-g++-4.2 -arch x86_64 -I/Library/Frameworks/R.framework/Resources/include -DNDEBUG -Wno-deprecated -I/usr/include/libxml2 -Itrimmed_boost_1_52_0/ -I/usr/local/include -I"/Library/Frameworks/R.framework/Versions/3.0/Resources/library/Rcpp/include" -I"/Library/Frameworks/R.framework/Versions/3.0/Resources/library/ncdfFlow/include" -fPIC -mtune=core2 -g -O2 -c trimmed_boost_1_52_0/libs/serialization/src/binary_wiarchive.cpp -o trimmed_boost_1_52_0/libs/serialization/src/binary_wiarchive.o
llvm-g++-4.2 -arch x86_64 -I/Library/Frameworks/R.framework/Resources/include -DNDEBUG -Wno-deprecated -I/usr/include/libxml2 -Itrimmed_boost_1_52_0/ -I/usr/local/include -I"/Library/Frameworks/R.framework/Versions/3.0/Resources/library/Rcpp/include" -I"/Library/Frameworks/R.framework/Versions/3.0/Resources/library/ncdfFlow/include" -fPIC -mtune=core2 -g -O2 -c trimmed_boost_1_52_0/libs/serialization/src/binary_woarchive.cpp -o trimmed_boost_1_52_0/libs/serialization/src/binary_woarchive.o
llvm-g++-4.2 -arch x86_64 -I/Library/Frameworks/R.framework/Resources/include -DNDEBUG -Wno-deprecated -I/usr/include/libxml2 -Itrimmed_boost_1_52_0/ -I/usr/local/include -I"/Library/Frameworks/R.framework/Versions/3.0/Resources/library/Rcpp/include" -I"/Library/Frameworks/R.framework/Versions/3.0/Resources/library/ncdfFlow/include" -fPIC -mtune=core2 -g -O2 -c trimmed_boost_1_52_0/libs/serialization/src/codecvt_null.cpp -o trimmed_boost_1_52_0/libs/serialization/src/codecvt_null.o
llvm-g++-4.2 -arch x86_64 -I/Library/Frameworks/R.framework/Resources/include -DNDEBUG -Wno-deprecated -I/usr/include/libxml2 -Itrimmed_boost_1_52_0/ -I/usr/local/include -I"/Library/Frameworks/R.framework/Versions/3.0/Resources/library/Rcpp/include" -I"/Library/Frameworks/R.framework/Versions/3.0/Resources/library/ncdfFlow/include" -fPIC -mtune=core2 -g -O2 -c trimmed_boost_1_52_0/libs/serialization/src/extended_type_info.cpp -o trimmed_boost_1_52_0/libs/serialization/src/extended_type_info.o
llvm-g++-4.2 -arch x86_64 -I/Library/Frameworks/R.framework/Resources/include -DNDEBUG -Wno-deprecated -I/usr/include/libxml2 -Itrimmed_boost_1_52_0/ -I/usr/local/include -I"/Library/Frameworks/R.framework/Versions/3.0/Resources/library/Rcpp/include" -I"/Library/Frameworks/R.framework/Versions/3.0/Resources/library/ncdfFlow/include" -fPIC -mtune=core2 -g -O2 -c trimmed_boost_1_52_0/libs/serialization/src/extended_type_info_no_rtti.cpp -o trimmed_boost_1_52_0/libs/serialization/src/extended_type_info_no_rtti.o
llvm-g++-4.2 -arch x86_64 -I/Library/Frameworks/R.framework/Resources/include -DNDEBUG -Wno-deprecated -I/usr/include/libxml2 -Itrimmed_boost_1_52_0/ -I/usr/local/include -I"/Library/Frameworks/R.framework/Versions/3.0/Resources/library/Rcpp/include" -I"/Library/Frameworks/R.framework/Versions/3.0/Resources/library/ncdfFlow/include" -fPIC -mtune=core2 -g -O2 -c trimmed_boost_1_52_0/libs/serialization/src/extended_type_info_typeid.cpp -o trimmed_boost_1_52_0/libs/serialization/src/extended_type_info_typeid.o
llvm-g++-4.2 -arch x86_64 -I/Library/Frameworks/R.framework/Resources/include -DNDEBUG -Wno-deprecated -I/usr/include/libxml2 -Itrimmed_boost_1_52_0/ -I/usr/local/include -I"/Library/Frameworks/R.framework/Versions/3.0/Resources/library/Rcpp/include" -I"/Library/Frameworks/R.framework/Versions/3.0/Resources/library/ncdfFlow/include" -fPIC -mtune=core2 -g -O2 -c trimmed_boost_1_52_0/libs/serialization/src/polymorphic_iarchive.cpp -o trimmed_boost_1_52_0/libs/serialization/src/polymorphic_iarchive.o
llvm-g++-4.2 -arch x86_64 -I/Library/Frameworks/R.framework/Resources/include -DNDEBUG -Wno-deprecated -I/usr/include/libxml2 -Itrimmed_boost_1_52_0/ -I/usr/local/include -I"/Library/Frameworks/R.framework/Versions/3.0/Resources/library/Rcpp/include" -I"/Library/Frameworks/R.framework/Versions/3.0/Resources/library/ncdfFlow/include" -fPIC -mtune=core2 -g -O2 -c trimmed_boost_1_52_0/libs/serialization/src/polymorphic_oarchive.cpp -o trimmed_boost_1_52_0/libs/serialization/src/polymorphic_oarchive.o
llvm-g++-4.2 -arch x86_64 -I/Library/Frameworks/R.framework/Resources/include -DNDEBUG -Wno-deprecated -I/usr/include/libxml2 -Itrimmed_boost_1_52_0/ -I/usr/local/include -I"/Library/Frameworks/R.framework/Versions/3.0/Resources/library/Rcpp/include" -I"/Library/Frameworks/R.framework/Versions/3.0/Resources/library/ncdfFlow/include" -fPIC -mtune=core2 -g -O2 -c trimmed_boost_1_52_0/libs/serialization/src/shared_ptr_helper.cpp -o trimmed_boost_1_52_0/libs/serialization/src/shared_ptr_helper.o
llvm-g++-4.2 -arch x86_64 -I/Library/Frameworks/R.framework/Resources/include -DNDEBUG -Wno-deprecated -I/usr/include/libxml2 -Itrimmed_boost_1_52_0/ -I/usr/local/include -I"/Library/Frameworks/R.framework/Versions/3.0/Resources/library/Rcpp/include" -I"/Library/Frameworks/R.framework/Versions/3.0/Resources/library/ncdfFlow/include" -fPIC -mtune=core2 -g -O2 -c trimmed_boost_1_52_0/libs/serialization/src/stl_port.cpp -o trimmed_boost_1_52_0/libs/serialization/src/stl_port.o
llvm-g++-4.2 -arch x86_64 -I/Library/Frameworks/R.framework/Resources/include -DNDEBUG -Wno-deprecated -I/usr/include/libxml2 -Itrimmed_boost_1_52_0/ -I/usr/local/include -I"/Library/Frameworks/R.framework/Versions/3.0/Resources/library/Rcpp/include" -I"/Library/Frameworks/R.framework/Versions/3.0/Resources/library/ncdfFlow/include" -fPIC -mtune=core2 -g -O2 -c trimmed_boost_1_52_0/libs/serialization/src/text_iarchive.cpp -o trimmed_boost_1_52_0/libs/serialization/src/text_iarchive.o
llvm-g++-4.2 -arch x86_64 -I/Library/Frameworks/R.framework/Resources/include -DNDEBUG -Wno-deprecated -I/usr/include/libxml2 -Itrimmed_boost_1_52_0/ -I/usr/local/include -I"/Library/Frameworks/R.framework/Versions/3.0/Resources/library/Rcpp/include" -I"/Library/Frameworks/R.framework/Versions/3.0/Resources/library/ncdfFlow/include" -fPIC -mtune=core2 -g -O2 -c trimmed_boost_1_52_0/libs/serialization/src/text_oarchive.cpp -o trimmed_boost_1_52_0/libs/serialization/src/text_oarchive.o
llvm-g++-4.2 -arch x86_64 -I/Library/Frameworks/R.framework/Resources/include -DNDEBUG -Wno-deprecated -I/usr/include/libxml2 -Itrimmed_boost_1_52_0/ -I/usr/local/include -I"/Library/Frameworks/R.framework/Versions/3.0/Resources/library/Rcpp/include" -I"/Library/Frameworks/R.framework/Versions/3.0/Resources/library/ncdfFlow/include" -fPIC -mtune=core2 -g -O2 -c trimmed_boost_1_52_0/libs/serialization/src/text_wiarchive.cpp -o trimmed_boost_1_52_0/libs/serialization/src/text_wiarchive.o
llvm-g++-4.2 -arch x86_64 -I/Library/Frameworks/R.framework/Resources/include -DNDEBUG -Wno-deprecated -I/usr/include/libxml2 -Itrimmed_boost_1_52_0/ -I/usr/local/include -I"/Library/Frameworks/R.framework/Versions/3.0/Resources/library/Rcpp/include" -I"/Library/Frameworks/R.framework/Versions/3.0/Resources/library/ncdfFlow/include" -fPIC -mtune=core2 -g -O2 -c trimmed_boost_1_52_0/libs/serialization/src/text_woarchive.cpp -o trimmed_boost_1_52_0/libs/serialization/src/text_woarchive.o
llvm-g++-4.2 -arch x86_64 -I/Library/Frameworks/R.framework/Resources/include -DNDEBUG -Wno-deprecated -I/usr/include/libxml2 -Itrimmed_boost_1_52_0/ -I/usr/local/include -I"/Library/Frameworks/R.framework/Versions/3.0/Resources/library/Rcpp/include" -I"/Library/Frameworks/R.framework/Versions/3.0/Resources/library/ncdfFlow/include" -fPIC -mtune=core2 -g -O2 -c trimmed_boost_1_52_0/libs/serialization/src/utf8_codecvt_facet.cpp -o trimmed_boost_1_52_0/libs/serialization/src/utf8_codecvt_facet.o
llvm-g++-4.2 -arch x86_64 -I/Library/Frameworks/R.framework/Resources/include -DNDEBUG -Wno-deprecated -I/usr/include/libxml2 -Itrimmed_boost_1_52_0/ -I/usr/local/include -I"/Library/Frameworks/R.framework/Versions/3.0/Resources/library/Rcpp/include" -I"/Library/Frameworks/R.framework/Versions/3.0/Resources/library/ncdfFlow/include" -fPIC -mtune=core2 -g -O2 -c trimmed_boost_1_52_0/libs/serialization/src/void_cast.cpp -o trimmed_boost_1_52_0/libs/serialization/src/void_cast.o
llvm-g++-4.2 -arch x86_64 -I/Library/Frameworks/R.framework/Resources/include -DNDEBUG -Wno-deprecated -I/usr/include/libxml2 -Itrimmed_boost_1_52_0/ -I/usr/local/include -I"/Library/Frameworks/R.framework/Versions/3.0/Resources/library/Rcpp/include" -I"/Library/Frameworks/R.framework/Versions/3.0/Resources/library/ncdfFlow/include" -fPIC -mtune=core2 -g -O2 -c trimmed_boost_1_52_0/libs/serialization/src/xml_archive_exception.cpp -o trimmed_boost_1_52_0/libs/serialization/src/xml_archive_exception.o
llvm-g++-4.2 -arch x86_64 -I/Library/Frameworks/R.framework/Resources/include -DNDEBUG -Wno-deprecated -I/usr/include/libxml2 -Itrimmed_boost_1_52_0/ -I/usr/local/include -I"/Library/Frameworks/R.framework/Versions/3.0/Resources/library/Rcpp/include" -I"/Library/Frameworks/R.framework/Versions/3.0/Resources/library/ncdfFlow/include" -fPIC -mtune=core2 -g -O2 -c trimmed_boost_1_52_0/libs/serialization/src/xml_grammar.cpp -o trimmed_boost_1_52_0/libs/serialization/src/xml_grammar.o
llvm-g++-4.2 -arch x86_64 -I/Library/Frameworks/R.framework/Resources/include -DNDEBUG -Wno-deprecated -I/usr/include/libxml2 -Itrimmed_boost_1_52_0/ -I/usr/local/include -I"/Library/Frameworks/R.framework/Versions/3.0/Resources/library/Rcpp/include" -I"/Library/Frameworks/R.framework/Versions/3.0/Resources/library/ncdfFlow/include" -fPIC -mtune=core2 -g -O2 -c trimmed_boost_1_52_0/libs/serialization/src/xml_iarchive.cpp -o trimmed_boost_1_52_0/libs/serialization/src/xml_iarchive.o
llvm-g++-4.2 -arch x86_64 -I/Library/Frameworks/R.framework/Resources/include -DNDEBUG -Wno-deprecated -I/usr/include/libxml2 -Itrimmed_boost_1_52_0/ -I/usr/local/include -I"/Library/Frameworks/R.framework/Versions/3.0/Resources/library/Rcpp/include" -I"/Library/Frameworks/R.framework/Versions/3.0/Resources/library/ncdfFlow/include" -fPIC -mtune=core2 -g -O2 -c trimmed_boost_1_52_0/libs/serialization/src/xml_oarchive.cpp -o trimmed_boost_1_52_0/libs/serialization/src/xml_oarchive.o
llvm-g++-4.2 -arch x86_64 -I/Library/Frameworks/R.framework/Resources/include -DNDEBUG -Wno-deprecated -I/usr/include/libxml2 -Itrimmed_boost_1_52_0/ -I/usr/local/include -I"/Library/Frameworks/R.framework/Versions/3.0/Resources/library/Rcpp/include" -I"/Library/Frameworks/R.framework/Versions/3.0/Resources/library/ncdfFlow/include" -fPIC -mtune=core2 -g -O2 -c trimmed_boost_1_52_0/libs/serialization/src/xml_wgrammar.cpp -o trimmed_boost_1_52_0/libs/serialization/src/xml_wgrammar.o
llvm-g++-4.2 -arch x86_64 -I/Library/Frameworks/R.framework/Resources/include -DNDEBUG -Wno-deprecated -I/usr/include/libxml2 -Itrimmed_boost_1_52_0/ -I/usr/local/include -I"/Library/Frameworks/R.framework/Versions/3.0/Resources/library/Rcpp/include" -I"/Library/Frameworks/R.framework/Versions/3.0/Resources/library/ncdfFlow/include" -fPIC -mtune=core2 -g -O2 -c trimmed_boost_1_52_0/libs/serialization/src/xml_wiarchive.cpp -o trimmed_boost_1_52_0/libs/serialization/src/xml_wiarchive.o
llvm-g++-4.2 -arch x86_64 -I/Library/Frameworks/R.framework/Resources/include -DNDEBUG -Wno-deprecated -I/usr/include/libxml2 -Itrimmed_boost_1_52_0/ -I/usr/local/include -I"/Library/Frameworks/R.framework/Versions/3.0/Resources/library/Rcpp/include" -I"/Library/Frameworks/R.framework/Versions/3.0/Resources/library/ncdfFlow/include" -fPIC -mtune=core2 -g -O2 -c trimmed_boost_1_52_0/libs/serialization/src/xml_woarchive.cpp -o trimmed_boost_1_52_0/libs/serialization/src/xml_woarchive.o
KernSmooth 2.23 loaded
Copyright M. P. Wand 1997-2009
llvm-g++-4.2 -arch x86_64 -dynamiclib -Wl,-headerpad_max_install_names -undefined dynamic_lookup -single_module -multiply_defined suppress -L/usr/local/lib -L/usr/local/lib -o flowWorkspace.so GatingHierarchy.o GatingSet.o POPINDICES.o R_GatingHierarchy.o R_GatingSet.o bitOps.o calibrationTable.o flowData.o flowJoWorkspace.o gate.o init.o macFlowJoWorkspace.o ncdfFlow.o nodeProperties.o spline.o transformation.o winFlowJoWorkspace.o workspace.o wsNode.o trimmed_boost_1_52_0/libs/serialization/src/archive_exception.o trimmed_boost_1_52_0/libs/serialization/src/basic_archive.o trimmed_boost_1_52_0/libs/serialization/src/basic_iarchive.o trimmed_boost_1_52_0/libs/serialization/src/basic_iserializer.o trimmed_boost_1_52_0/libs/serialization/src/basic_oarchive.o trimmed_boost_1_52_0/libs/serialization/src/basic_oserializer.o trimmed_boost_1_52_0/libs/serialization/src/basic_pointer_iserializer.o trimmed_boost_1_52_0/libs/serialization/src/basic_pointer_oserializer.o trimmed_boost_1_52_0/libs/serialization/src/basic_serializer_map.o trimmed_boost_1_52_0/libs/serialization/src/basic_text_iprimitive.o trimmed_boost_1_52_0/libs/serialization/src/basic_text_oprimitive.o trimmed_boost_1_52_0/libs/serialization/src/basic_text_wiprimitive.o trimmed_boost_1_52_0/libs/serialization/src/basic_text_woprimitive.o trimmed_boost_1_52_0/libs/serialization/src/basic_xml_archive.o trimmed_boost_1_52_0/libs/serialization/src/binary_iarchive.o trimmed_boost_1_52_0/libs/serialization/src/binary_oarchive.o trimmed_boost_1_52_0/libs/serialization/src/binary_wiarchive.o trimmed_boost_1_52_0/libs/serialization/src/binary_woarchive.o trimmed_boost_1_52_0/libs/serialization/src/codecvt_null.o trimmed_boost_1_52_0/libs/serialization/src/extended_type_info.o trimmed_boost_1_52_0/libs/serialization/src/extended_type_info_no_rtti.o trimmed_boost_1_52_0/libs/serialization/src/extended_type_info_typeid.o trimmed_boost_1_52_0/libs/serialization/src/polymorphic_iarchive.o trimmed_boost_1_52_0/libs/serialization/src/polymorphic_oarchive.o trimmed_boost_1_52_0/libs/serialization/src/shared_ptr_helper.o trimmed_boost_1_52_0/libs/serialization/src/stl_port.o trimmed_boost_1_52_0/libs/serialization/src/text_iarchive.o trimmed_boost_1_52_0/libs/serialization/src/text_oarchive.o trimmed_boost_1_52_0/libs/serialization/src/text_wiarchive.o trimmed_boost_1_52_0/libs/serialization/src/text_woarchive.o trimmed_boost_1_52_0/libs/serialization/src/utf8_codecvt_facet.o trimmed_boost_1_52_0/libs/serialization/src/void_cast.o trimmed_boost_1_52_0/libs/serialization/src/xml_archive_exception.o trimmed_boost_1_52_0/libs/serialization/src/xml_grammar.o trimmed_boost_1_52_0/libs/serialization/src/xml_iarchive.o trimmed_boost_1_52_0/libs/serialization/src/xml_oarchive.o trimmed_boost_1_52_0/libs/serialization/src/xml_wgrammar.o trimmed_boost_1_52_0/libs/serialization/src/xml_wiarchive.o trimmed_boost_1_52_0/libs/serialization/src/xml_woarchive.o /Library/Frameworks/R.framework/Versions/3.0/Resources/library/Rcpp/lib/libRcpp.a -L/Library/Frameworks/R.framework/Versions/3.0/Resources/library/ncdfFlow/lib -lncdfFlow -Wl,-rpath,/Library/Frameworks/R.framework/Versions/3.0/Resources/library/ncdfFlow/lib -lxml2 -lz -lpthread -licucore -lm -F/Library/Frameworks/R.framework/.. -framework R -Wl,-framework -Wl,CoreFoundation
KernSmooth 2.23 loaded
Copyright M. P. Wand 1997-2009
cp flowWorkspace.so libflowWorkspace.dylib
cp libflowWorkspace.dylib ../inst/lib
rm libflowWorkspace.dylib
installing to /Users/biocbuild/bbs-2.12-bioc/meat/flowWorkspace.buildbin-libdir/flowWorkspace/libs
** R
** inst
** preparing package for lazy loading
** help
*** installing help indices
** building package indices
** installing vignettes
** testing if installed package can be loaded
* DONE (flowWorkspace)
>>>>>>>
>>>>>>> FIXING LINKS FOR flowWorkspace.buildbin-libdir/flowWorkspace/libs//flowWorkspace.so
>>>>>>>
install_name_tool -change "/usr/local/lib/libgcc_s.1.dylib" "/Library/Frameworks/R.framework/Versions/3.0/Resources/lib/libgcc_s.1.dylib" "flowWorkspace.buildbin-libdir/flowWorkspace/libs//flowWorkspace.so"
install_name_tool -change "/usr/local/lib/libgfortran.2.dylib" "/Library/Frameworks/R.framework/Versions/3.0/Resources/lib/libgfortran.2.dylib" "flowWorkspace.buildbin-libdir/flowWorkspace/libs//flowWorkspace.so"
install_name_tool -change "/usr/local/lib/libreadline.5.2.dylib" "/Library/Frameworks/R.framework/Versions/3.0/Resources/lib/libreadline.5.2.dylib" "flowWorkspace.buildbin-libdir/flowWorkspace/libs//flowWorkspace.so"
install_name_tool -change "/usr/local/lib/libreadline.dylib" "/Library/Frameworks/R.framework/Versions/3.0/Resources/lib/libreadline.dylib" "flowWorkspace.buildbin-libdir/flowWorkspace/libs//flowWorkspace.so"