| Back to the "Multiple platform build/check report" | A B C D [E] F G H I J K L M N O P Q R S T U V W X Y Z | 
This page was generated on 2013-10-09 09:37:12 -0700 (Wed, 09 Oct 2013).
| Package 212/671 | Hostname | OS / Arch | BUILD | CHECK | BUILD BIN | ||||
| externalVector 1.26.0 Bioconductor Package Maintainer 
  | george2 | Linux (Ubuntu 12.04.1 LTS) / x86_64 | [ OK ] | OK | |||||
| moscato2 | Windows Server 2008 R2 Enterprise SP1 (64-bit) / x64 | OK | OK | OK | |||||
| petty | Mac OS X Snow Leopard (10.6.8) / x86_64 | OK | OK | OK | 
| Package: externalVector | 
| Version: 1.26.0 | 
| Command: /home/biocbuild/bbs-2.12-bioc/R/bin/R CMD build --keep-empty-dirs --no-resave-data externalVector | 
| StartedAt: 2013-10-08 21:07:37 -0700 (Tue, 08 Oct 2013) | 
| EndedAt: 2013-10-08 21:07:39 -0700 (Tue, 08 Oct 2013) | 
| EllapsedTime: 2.9 seconds | 
| RetCode: 0 | 
| Status: OK | 
| PackageFile: externalVector_1.26.0.tar.gz | 
| PackageFileSize: 82.1 KiB | 
* checking for file ‘externalVector/DESCRIPTION’ ... OK * preparing ‘externalVector’: * checking DESCRIPTION meta-information ... OK * cleaning src * checking for LF line-endings in source and make files * checking for empty or unneeded directories * building ‘externalVector_1.26.0.tar.gz’