cosmo 1.25.1 Oliver Bembom
 | Snapshot Date: 2013-03-17 17:01:25 -0700 (Sun, 17 Mar 2013) |  | URL: https://hedgehog.fhcrc.org/bioconductor/trunk/madman/Rpacks/cosmo |  | Last Changed Rev: 70686 / Revision: 74490 |  | Last Changed Date: 2012-10-19 12:17:05 -0700 (Fri, 19 Oct 2012) |  
  | george2  | Linux (Ubuntu 12.04.1 LTS) / x86_64  |  ERROR  |  skipped  |  | 
| moscato2  | Windows Server 2008 R2 Enterprise SP1 (64-bit) / x64  |  ERROR  |  skipped  |  skipped  | 
| petty  | Mac OS X Leopard (10.5.8) / i386  |  ERROR  |  skipped  |  skipped  | 
| pelham  | Mac OS X Snow Leopard (10.6.8) / x86_64  | [ ERROR ] |  skipped  |  skipped  | 
* checking for file 'cosmo/DESCRIPTION' ... OK
* preparing 'cosmo':
* checking DESCRIPTION meta-information ... OK
* cleaning src
* running 'cleanup'
* installing the package to re-build vignettes
      -----------------------------------
* installing *source* package 'cosmo' ...
** libs
llvm-gcc-4.2 -arch x86_64 -std=gnu99 -I/Library/Frameworks/R.framework/Resources/include -DNDEBUG -IINCLUDE -I/usr/local/include    -fPIC  -mtune=core2 -g -O2  -c alloc.c -o alloc.o
In file included from alloc.c:66:
INCLUDE/cosmo.h:57: error: 'Rf_eval' redeclared as different kind of symbol
/Library/Frameworks/R.framework/Resources/include/Rinternals.h:664: error: previous declaration of 'Rf_eval' was here
make: *** [alloc.o] Error 1
ERROR: compilation failed for package 'cosmo'
* removing '/private/tmp/RtmpNIvzqR/Rinstfb6d31306798/cosmo'
      -----------------------------------
ERROR: package installation failed