| codelink 1.28.1 Diego Diez
 
 | Snapshot Date: 2013-10-08 17:00:48 -0700 (Tue, 08 Oct 2013) |  | URL: https://hedgehog.fhcrc.org/bioconductor/branches/RELEASE_2_12/madman/Rpacks/codelink |  | Last Changed Rev: 76051 / Revision: 81334 |  | Last Changed Date: 2013-04-25 23:16:38 -0700 (Thu, 25 Apr 2013) | 
 | george2 | Linux (Ubuntu 12.04.1 LTS) / x86_64 | OK | OK |  | 
| moscato2 | Windows Server 2008 R2 Enterprise SP1 (64-bit) / x64 | OK | OK | OK | 
| petty | Mac OS X Snow Leopard (10.6.8) / x86_64 | OK | OK | [ OK ] | 
>>>>>>> 
>>>>>>> INSTALLATION WITH 'R CMD INSTALL --preclean --no-multiarch --library=codelink.buildbin-libdir codelink_1.28.1.tar.gz'
>>>>>>> 
* installing *source* package 'codelink' ...
** R
** data
** inst
** byte-compile and prepare package for lazy loading
Creating a generic function for 'summary' from package 'base' in package 'codelink'
** help
*** installing help indices
** building package indices
** installing vignettes
** testing if installed package can be loaded
* DONE (codelink)