chipseq 1.10.1 Bioconductor Package Maintainer
 | Snapshot Date: 2013-04-30 17:01:37 -0700 (Tue, 30 Apr 2013) |  | URL: https://hedgehog.fhcrc.org/bioconductor/branches/RELEASE_2_12/madman/Rpacks/chipseq |  | Last Changed Rev: 75493 / Revision: 76155 |  | Last Changed Date: 2013-04-09 21:11:57 -0700 (Tue, 09 Apr 2013) |  
  | george2  | Linux (Ubuntu 12.04.1 LTS) / x86_64  |  OK  |  OK  |  | 
| moscato2  | Windows Server 2008 R2 Enterprise SP1 (64-bit) / x64  |  OK  |  OK  |  OK  | 
| petty  | Mac OS X Snow Leopard (10.6.8) / x86_64  |  OK  |  OK  |  OK  | 
| pelham  | Mac OS X Snow Leopard (10.6.8) / x86_64  | [ OK ] |  OK  |  OK  | 
* checking for file 'chipseq/DESCRIPTION' ... OK
* preparing 'chipseq':
* checking DESCRIPTION meta-information ... OK
* cleaning src
* installing the package to re-build vignettes
* creating vignettes ... OK
* cleaning src
* checking for LF line-endings in source and make files
* checking for empty or unneeded directories
WARNING: directory 'chipseq/inst/Scripts/figs' is empty
* looking to see if a 'data/datalist' file should be added
* building 'chipseq_1.10.1.tar.gz'