beadarray 2.10.0 Mark Dunning
Snapshot Date: 2013-10-08 17:00:48 -0700 (Tue, 08 Oct 2013) | URL: https://hedgehog.fhcrc.org/bioconductor/branches/RELEASE_2_12/madman/Rpacks/beadarray | Last Changed Rev: 75263 / Revision: 81334 | Last Changed Date: 2013-04-03 14:32:27 -0700 (Wed, 03 Apr 2013) |
| george2 | Linux (Ubuntu 12.04.1 LTS) / x86_64 | OK | OK | |
moscato2 | Windows Server 2008 R2 Enterprise SP1 (64-bit) / x64 | OK | OK | OK |
petty | Mac OS X Snow Leopard (10.6.8) / x86_64 | OK | [ OK ] | OK |
* using log directory '/Users/biocbuild/bbs-2.12-bioc/meat/beadarray.Rcheck'
* using R version 3.0.1 (2013-05-16)
* using platform: x86_64-apple-darwin10.8.0 (64-bit)
* using session charset: ASCII
* using option '--no-vignettes'
* checking for file 'beadarray/DESCRIPTION' ... OK
* this is package 'beadarray' version '2.10.0'
* checking package namespace information ... OK
* checking package dependencies ... OK
* checking if this is a source package ... OK
* checking if there is a namespace ... OK
* checking for hidden files and directories ... OK
* checking for portable file names ... OK
* checking for sufficient/correct file permissions ... OK
* checking whether package 'beadarray' can be installed ... [22s/22s] OK
* checking installed package size ... NOTE
installed size is 5.6Mb
sub-directories of 1Mb or more:
data 2.5Mb
doc 2.6Mb
* checking package directory ... OK
* checking DESCRIPTION meta-information ... OK
* checking top-level files ... OK
* checking for left-over files ... OK
* checking index information ... OK
* checking package subdirectories ... OK
* checking R files for non-ASCII characters ... OK
* checking R files for syntax errors ... OK
* checking whether the package can be loaded ... OK
* checking whether the package can be loaded with stated dependencies ... OK
* checking whether the package can be unloaded cleanly ... OK
* checking whether the namespace can be loaded with stated dependencies ... OK
* checking whether the namespace can be unloaded cleanly ... OK
* checking for unstated dependencies in R code ... OK
* checking S3 generic/method consistency ... OK
* checking replacement functions ... OK
* checking foreign function calls ... NOTE
Foreign function call with 'PACKAGE' argument in a different package:
.Call("roundLocsFileValues", ..., PACKAGE = "BeadDataPackR")
See the chapter 'System and foreign language interfaces' of the
'Writing R Extensions' manual.
* checking R code for possible problems ... NOTE
expressionQCPipeline: warning in ggsave(im, file = fname.im, width = 4,
height = 1): partial argument match of 'file' to 'filename'
makeControlProfile: warning in packageDescription(annoPkg, field =
"Version"): partial argument match of 'field' to 'fields'
plotMAXY: warning in close.screen(all = TRUE): partial argument match
of 'all' to 'all.screens'
summarize: warning in packageDescription(annoPkg, field = "Version"):
partial argument match of 'field' to 'fields'
combinedControlPlot: no visible binding for global variable 'Control'
combinedControlPlot: no visible binding for global variable 'Negative'
combinedControlPlot: no visible binding for global variable 'ID'
combinedControlPlot: no visible binding for global variable
'Log2Intensity'
combinedControlPlot: no visible binding for global variable
'ControlType'
combinedControlPlot: no visible binding for global variable 'Masked'
getPlatformSigs: no visible global function definition for
'lumiHumanIDMapping_dbconn'
getPlatformSigs: no visible global function definition for
'lumiMouseIDMapping_dbconn'
getPlatformSigs: no visible global function definition for
'lumiRatIDMapping_dbconn'
imageplot: no visible binding for global variable 'Var1'
imageplot: no visible binding for global variable 'Var2'
imageplot: no visible binding for global variable 'value'
* checking Rd files ... OK
* checking Rd metadata ... OK
* checking Rd cross-references ... OK
* checking for missing documentation entries ... OK
* checking for code/documentation mismatches ... OK
* checking Rd \usage sections ... OK
* checking Rd contents ... OK
* checking for unstated dependencies in examples ... OK
* checking contents of 'data' directory ... OK
* checking data for non-ASCII characters ... OK
* checking data for ASCII and uncompressed saves ... OK
* checking line endings in C/C++/Fortran sources/headers ... OK
* checking line endings in Makefiles ... OK
* checking for portable use of $(BLAS_LIBS) and $(LAPACK_LIBS) ... OK
* checking compiled code ... OK
* checking sizes of PDF files under 'inst/doc' ... OK
* checking installed files from 'inst/doc' ... OK
* checking examples ... [10m/10m] OK
Examples with CPU or elapsed time > 5s
user system elapsed
squeezedVarOutlierMethod 118.388 1.795 123.760
summarize 66.225 6.176 73.343
outlierplot 39.506 2.009 43.848
calculateOutlierStats 32.008 3.698 35.935
normaliseIllumina 26.726 3.199 30.209
calculateDetection 19.497 3.338 22.986
addFeatureData 21.676 0.785 22.648
controlProbeDetection 19.509 2.095 21.752
insertSectionData 17.634 2.761 20.656
makeQCTable 17.151 2.858 20.097
poscontPlot 17.185 1.619 19.369
identifyControlBeads 16.436 0.888 17.612
showArrayMask 14.350 1.777 16.262
quickSummary 14.046 1.565 15.710
annotationInterface 13.445 1.060 14.661
imageplot 12.503 1.905 14.627
combine 10.496 1.835 12.496
boxplot 9.495 1.853 12.999
illuminaOutlierMethod 6.233 1.423 7.908
plotMAXY 5.986 1.249 7.522
transformationFunctions 5.886 1.075 7.001
plotBeadIntensities 5.680 1.044 6.959
insertBeadData 4.656 1.009 5.723
plotBeadLocations 4.855 0.730 5.788
class-beadLevelData 4.254 0.659 5.111
numBeads 4.382 0.466 5.132
* checking for unstated dependencies in vignettes ... OK
* checking package vignettes in 'inst/doc' ... OK
* checking running R code from vignettes ... SKIPPED
* checking re-building of vignettes ... SKIPPED
* checking PDF version of manual ... OK
NOTE: There were 3 notes.
See
'/Users/biocbuild/bbs-2.12-bioc/meat/beadarray.Rcheck/00check.log'
for details.
* installing *source* package 'beadarray' ...
** libs
llvm-gcc-4.2 -arch x86_64 -std=gnu99 -I/Library/Frameworks/R.framework/Resources/include -DNDEBUG -I/usr/local/include -fPIC -mtune=core2 -g -O2 -c BASH.c -o BASH.o
llvm-gcc-4.2 -arch x86_64 -std=gnu99 -I/Library/Frameworks/R.framework/Resources/include -DNDEBUG -I/usr/local/include -fPIC -mtune=core2 -g -O2 -c HULK.c -o HULK.o
llvm-gcc-4.2 -arch x86_64 -std=gnu99 -I/Library/Frameworks/R.framework/Resources/include -DNDEBUG -I/usr/local/include -fPIC -mtune=core2 -g -O2 -c determiningGridPositions.c -o determiningGridPositions.o
llvm-gcc-4.2 -arch x86_64 -std=gnu99 -I/Library/Frameworks/R.framework/Resources/include -DNDEBUG -I/usr/local/include -fPIC -mtune=core2 -g -O2 -c findAllOutliers.c -o findAllOutliers.o
llvm-gcc-4.2 -arch x86_64 -std=gnu99 -I/Library/Frameworks/R.framework/Resources/include -DNDEBUG -I/usr/local/include -fPIC -mtune=core2 -g -O2 -c imageProcessing.c -o imageProcessing.o
llvm-gcc-4.2 -arch x86_64 -std=gnu99 -dynamiclib -Wl,-headerpad_max_install_names -undefined dynamic_lookup -single_module -multiply_defined suppress -L/usr/local/lib -L/usr/local/lib -o beadarray.so BASH.o HULK.o determiningGridPositions.o findAllOutliers.o imageProcessing.o -F/Library/Frameworks/R.framework/.. -framework R -Wl,-framework -Wl,CoreFoundation
installing to /Users/biocbuild/bbs-2.12-bioc/meat/beadarray.Rcheck/beadarray/libs
** R
** data
*** moving datasets to lazyload DB
** inst
** preparing package for lazy loading
** help
*** installing help indices
** building package indices
** installing vignettes
** testing if installed package can be loaded
* DONE (beadarray)