Rbowtie 1.0.3 Michael Stadler
Snapshot Date: 2013-10-08 17:00:48 -0700 (Tue, 08 Oct 2013) | URL: https://hedgehog.fhcrc.org/bioconductor/branches/RELEASE_2_12/madman/Rpacks/Rbowtie | Last Changed Rev: 76239 / Revision: 81334 | Last Changed Date: 2013-05-05 00:59:16 -0700 (Sun, 05 May 2013) |
| george2 | Linux (Ubuntu 12.04.1 LTS) / x86_64 | OK | OK | |
moscato2 | Windows Server 2008 R2 Enterprise SP1 (64-bit) / x64 | OK | OK | OK |
petty | Mac OS X Snow Leopard (10.6.8) / x86_64 | OK | [ OK ] | OK |
* using log directory '/Users/biocbuild/bbs-2.12-bioc/meat/Rbowtie.Rcheck'
* using R version 3.0.1 (2013-05-16)
* using platform: x86_64-apple-darwin10.8.0 (64-bit)
* using session charset: ASCII
* using option '--no-vignettes'
* checking for file 'Rbowtie/DESCRIPTION' ... OK
* checking extension type ... Package
* this is package 'Rbowtie' version '1.0.3'
* checking package namespace information ... OK
* checking package dependencies ... OK
* checking if this is a source package ... OK
* checking if there is a namespace ... OK
* checking for hidden files and directories ... OK
* checking for portable file names ... OK
* checking for sufficient/correct file permissions ... OK
* checking whether package 'Rbowtie' can be installed ... [98s/99s] OK
* checking installed package size ... OK
* checking package directory ... OK
* checking DESCRIPTION meta-information ... OK
* checking top-level files ... OK
* checking for left-over files ... OK
* checking index information ... OK
* checking package subdirectories ... OK
* checking R files for non-ASCII characters ... OK
* checking R files for syntax errors ... OK
* checking whether the package can be loaded ... OK
* checking whether the package can be loaded with stated dependencies ... OK
* checking whether the package can be unloaded cleanly ... OK
* checking whether the namespace can be loaded with stated dependencies ... OK
* checking whether the namespace can be unloaded cleanly ... OK
* checking for unstated dependencies in R code ... OK
* checking S3 generic/method consistency ... OK
* checking replacement functions ... OK
* checking foreign function calls ... OK
* checking R code for possible problems ... OK
* checking Rd files ... OK
* checking Rd metadata ... OK
* checking Rd cross-references ... OK
* checking for missing documentation entries ... OK
* checking for code/documentation mismatches ... OK
* checking Rd \usage sections ... OK
* checking Rd contents ... OK
* checking for unstated dependencies in examples ... OK
* checking line endings in C/C++/Fortran sources/headers ... OK
* checking line endings in Makefiles ... OK
* checking for portable use of $(BLAS_LIBS) and $(LAPACK_LIBS) ... OK
* checking compiled code ... OK
* checking sizes of PDF files under 'inst/doc' ... OK
* checking installed files from 'inst/doc' ... OK
* checking examples ... [5s/6s] OK
* checking for unstated dependencies in vignettes ... OK
* checking package vignettes in 'inst/doc' ... OK
* checking running R code from vignettes ... SKIPPED
* checking re-building of vignettes ... SKIPPED
* checking PDF version of manual ... OK
* installing *source* package 'Rbowtie' ...
** libs
** arch -
g++ -O3 -DCOMPILER_OPTIONS="\"-O3 -mtune=core2 -g -O2 -mtune=core2 -g -O2 \"" -mtune=core2 -g -O2 -mtune=core2 -g -O2 \
-fno-strict-aliasing -DBOWTIE_VERSION="\"`cat VERSION`\"" -DBUILD_HOST="\"`hostname`\"" -DBUILD_TIME="\"`date`\"" -DCOMPILER_VERSION="\"`g++ -v 2>&1 | tail -1`\"" -D_LARGEFILE_SOURCE -D_FILE_OFFSET_BITS=64 -D_GNU_SOURCE -DPREFETCH_LOCALITY=2 -DBOWTIE_MM -DBOWTIE_SHARED_MEM -DNDEBUG -Wall \
-I SeqAn-1.1 \
-o bowtie-build ebwt_build.cpp \
ccnt_lut.cpp ref_read.cpp alphabet.cpp shmem.cpp edit.cpp ebwt.cpp tinythread.cpp bowtie_build_main.cpp \
-lpthread
g++ -O3 -DCOMPILER_OPTIONS="\"-O3 -mtune=core2 -g -O2 -mtune=core2 -g -O2 \"" -mtune=core2 -g -O2 -mtune=core2 -g -O2 \
-fno-strict-aliasing -DBOWTIE_VERSION="\"`cat VERSION`\"" -DBUILD_HOST="\"`hostname`\"" -DBUILD_TIME="\"`date`\"" -DCOMPILER_VERSION="\"`g++ -v 2>&1 | tail -1`\"" -D_LARGEFILE_SOURCE -D_FILE_OFFSET_BITS=64 -D_GNU_SOURCE -DPREFETCH_LOCALITY=2 -DBOWTIE_MM -DBOWTIE_SHARED_MEM -DNDEBUG -Wall \
-I SeqAn-1.1 \
-o bowtie ebwt_search.cpp \
ccnt_lut.cpp ref_read.cpp alphabet.cpp shmem.cpp edit.cpp ebwt.cpp tinythread.cpp qual.cpp pat.cpp ebwt_search_util.cpp ref_aligner.cpp log.cpp hit_set.cpp refmap.cpp annot.cpp sam.cpp color.cpp color_dec.cpp hit.cpp bowtie_main.cpp \
-lpthread
mkdir -p ../inst
cp bowtie ../inst/bowtie
cp bowtie-build ../inst/bowtie-build
cd SpliceMap; \
make -f Makefile; \
echo "MAKE of SpliceMap DONE"
`"/Library/Frameworks/R.framework/Resources/bin/R" CMD config CXX` `"/Library/Frameworks/R.framework/Resources/bin/R" CMD config CXXFLAGS` -c SpliceMap_utils_QuasR.cpp
`"/Library/Frameworks/R.framework/Resources/bin/R" CMD config CXX` `"/Library/Frameworks/R.framework/Resources/bin/R" CMD config CXXFLAGS` -c params.cpp
`"/Library/Frameworks/R.framework/Resources/bin/R" CMD config CXX` `"/Library/Frameworks/R.framework/Resources/bin/R" CMD config CXXFLAGS` -c cfgfile.cpp
`"/Library/Frameworks/R.framework/Resources/bin/R" CMD config CXX` `"/Library/Frameworks/R.framework/Resources/bin/R" CMD config CXXFLAGS` -o runSpliceMap_QuasR SpliceMap_utils_QuasR.o cfgfile.o runSpliceMap_QuasR.cpp params.o
`"/Library/Frameworks/R.framework/Resources/bin/R" CMD config CXX` `"/Library/Frameworks/R.framework/Resources/bin/R" CMD config CXXFLAGS` -o sortsam sortsam.cpp SpliceMap_utils_QuasR.o params.o
`"/Library/Frameworks/R.framework/Resources/bin/R" CMD config CXX` `"/Library/Frameworks/R.framework/Resources/bin/R" CMD config CXXFLAGS` -o amalgamateSAM amalgamateSAM.cpp SpliceMap_utils_QuasR.o params.o
`"/Library/Frameworks/R.framework/Resources/bin/R" CMD config CXX` `"/Library/Frameworks/R.framework/Resources/bin/R" CMD config CXXFLAGS` -o getSpliceMapUnmapped getSpliceMapUnmapped.cpp
`"/Library/Frameworks/R.framework/Resources/bin/R" CMD config CXX` `"/Library/Frameworks/R.framework/Resources/bin/R" CMD config CXXFLAGS` -o fuseReorder fuseReorder.cpp
`"/Library/Frameworks/R.framework/Resources/bin/R" CMD config CXX` `"/Library/Frameworks/R.framework/Resources/bin/R" CMD config CXXFLAGS` -o SpliceMap main.cpp SpliceMap_utils_QuasR.o params.o cfgfile.o
MAKE of SpliceMap DONE
mkdir -p ../inst
cp SpliceMap/SpliceMap ../inst/SpliceMap
cp SpliceMap/amalgamateSAM ../inst/amalgamateSAM
cp SpliceMap/getSpliceMapUnmapped ../inst/getSpliceMapUnmapped
cp SpliceMap/fuseReorder ../inst/fuseReorder
cp SpliceMap/runSpliceMap_QuasR ../inst/runSpliceMap_QuasR
cp SpliceMap/sortsam ../inst/sortsam
** R
** inst
** preparing package for lazy loading
** help
*** installing help indices
** building package indices
** installing vignettes
** testing if installed package can be loaded
* DONE (Rbowtie)