GenomicFeatures 1.12.1 Bioconductor Package Maintainer
 | Snapshot Date: 2013-04-30 17:01:37 -0700 (Tue, 30 Apr 2013) |  | URL: https://hedgehog.fhcrc.org/bioconductor/branches/RELEASE_2_12/madman/Rpacks/GenomicFeatures |  | Last Changed Rev: 76039 / Revision: 76155 |  | Last Changed Date: 2013-04-25 14:36:56 -0700 (Thu, 25 Apr 2013) |  
  | george2  | Linux (Ubuntu 12.04.1 LTS) / x86_64  |  OK  |  OK  |  | 
| moscato2  | Windows Server 2008 R2 Enterprise SP1 (64-bit) / x64  |  OK  |  OK  |  OK  | 
| petty  | Mac OS X Snow Leopard (10.6.8) / x86_64  |  OK  |  OK  |  OK  | 
| pelham  | Mac OS X Snow Leopard (10.6.8) / x86_64  | [ OK ] |  OK  |  OK  | 
* checking for file 'GenomicFeatures/DESCRIPTION' ... OK
* preparing 'GenomicFeatures':
* checking DESCRIPTION meta-information ... OK
* installing the package to re-build vignettes
* creating vignettes ... OK
* checking for LF line-endings in source and make files
* checking for empty or unneeded directories
WARNING: directory 'GenomicFeatures/inst/txdb-template/inst/extdata' is empty
* building 'GenomicFeatures_1.12.1.tar.gz'