EBImage 4.2.1 Andrzej Oles
Snapshot Date: 2013-10-08 17:00:48 -0700 (Tue, 08 Oct 2013) | URL: https://hedgehog.fhcrc.org/bioconductor/branches/RELEASE_2_12/madman/Rpacks/EBImage | Last Changed Rev: 75776 / Revision: 81334 | Last Changed Date: 2013-04-18 05:16:43 -0700 (Thu, 18 Apr 2013) |
| george2 | Linux (Ubuntu 12.04.1 LTS) / x86_64 | OK | OK | |
moscato2 | Windows Server 2008 R2 Enterprise SP1 (64-bit) / x64 | OK | OK | OK |
petty | Mac OS X Snow Leopard (10.6.8) / x86_64 | OK | OK | [ OK ] |
>>>>>>>
>>>>>>> INSTALLATION WITH 'R CMD INSTALL --preclean --no-multiarch --library=EBImage.buildbin-libdir EBImage_4.2.1.tar.gz'
>>>>>>>
* installing *source* package 'EBImage' ...
** libs
llvm-gcc-4.2 -arch x86_64 -std=gnu99 -I/Library/Frameworks/R.framework/Resources/include -DNDEBUG -I/usr/local/include -fPIC -mtune=core2 -g -O2 -c EBImage.c -o EBImage.o
llvm-gcc-4.2 -arch x86_64 -std=gnu99 -I/Library/Frameworks/R.framework/Resources/include -DNDEBUG -I/usr/local/include -fPIC -mtune=core2 -g -O2 -c distmap.c -o distmap.o
llvm-gcc-4.2 -arch x86_64 -std=gnu99 -I/Library/Frameworks/R.framework/Resources/include -DNDEBUG -I/usr/local/include -fPIC -mtune=core2 -g -O2 -c drawCircle.c -o drawCircle.o
llvm-g++-4.2 -arch x86_64 -I/Library/Frameworks/R.framework/Resources/include -DNDEBUG -I/usr/local/include -fPIC -mtune=core2 -g -O2 -c floodFill.cpp -o floodFill.o
llvm-gcc-4.2 -arch x86_64 -std=gnu99 -I/Library/Frameworks/R.framework/Resources/include -DNDEBUG -I/usr/local/include -fPIC -mtune=core2 -g -O2 -c greyscale_morphology.c -o greyscale_morphology.o
llvm-gcc-4.2 -arch x86_64 -std=gnu99 -I/Library/Frameworks/R.framework/Resources/include -DNDEBUG -I/usr/local/include -fPIC -mtune=core2 -g -O2 -c haralick.c -o haralick.o
llvm-gcc-4.2 -arch x86_64 -std=gnu99 -I/Library/Frameworks/R.framework/Resources/include -DNDEBUG -I/usr/local/include -fPIC -mtune=core2 -g -O2 -c medianFilter.c -o medianFilter.o
llvm-gcc-4.2 -arch x86_64 -std=gnu99 -I/Library/Frameworks/R.framework/Resources/include -DNDEBUG -I/usr/local/include -fPIC -mtune=core2 -g -O2 -c morphology.c -o morphology.o
llvm-gcc-4.2 -arch x86_64 -std=gnu99 -I/Library/Frameworks/R.framework/Resources/include -DNDEBUG -I/usr/local/include -fPIC -mtune=core2 -g -O2 -c normalize.c -o normalize.o
llvm-gcc-4.2 -arch x86_64 -std=gnu99 -I/Library/Frameworks/R.framework/Resources/include -DNDEBUG -I/usr/local/include -fPIC -mtune=core2 -g -O2 -c objects.c -o objects.o
llvm-gcc-4.2 -arch x86_64 -std=gnu99 -I/Library/Frameworks/R.framework/Resources/include -DNDEBUG -I/usr/local/include -fPIC -mtune=core2 -g -O2 -c ocontour.c -o ocontour.o
llvm-g++-4.2 -arch x86_64 -I/Library/Frameworks/R.framework/Resources/include -DNDEBUG -I/usr/local/include -fPIC -mtune=core2 -g -O2 -c propagate.cpp -o propagate.o
llvm-gcc-4.2 -arch x86_64 -std=gnu99 -I/Library/Frameworks/R.framework/Resources/include -DNDEBUG -I/usr/local/include -fPIC -mtune=core2 -g -O2 -c spatial.c -o spatial.o
llvm-gcc-4.2 -arch x86_64 -std=gnu99 -I/Library/Frameworks/R.framework/Resources/include -DNDEBUG -I/usr/local/include -fPIC -mtune=core2 -g -O2 -c thresh.c -o thresh.o
llvm-gcc-4.2 -arch x86_64 -std=gnu99 -I/Library/Frameworks/R.framework/Resources/include -DNDEBUG -I/usr/local/include -fPIC -mtune=core2 -g -O2 -c tile.c -o tile.o
llvm-gcc-4.2 -arch x86_64 -std=gnu99 -I/Library/Frameworks/R.framework/Resources/include -DNDEBUG -I/usr/local/include -fPIC -mtune=core2 -g -O2 -c tools.c -o tools.o
llvm-g++-4.2 -arch x86_64 -I/Library/Frameworks/R.framework/Resources/include -DNDEBUG -I/usr/local/include -fPIC -mtune=core2 -g -O2 -c watershed.cpp -o watershed.o
llvm-g++-4.2 -arch x86_64 -dynamiclib -Wl,-headerpad_max_install_names -undefined dynamic_lookup -single_module -multiply_defined suppress -L/usr/local/lib -L/usr/local/lib -o EBImage.so EBImage.o distmap.o drawCircle.o floodFill.o greyscale_morphology.o haralick.o medianFilter.o morphology.o normalize.o objects.o ocontour.o propagate.o spatial.o thresh.o tile.o tools.o watershed.o -F/Library/Frameworks/R.framework/.. -framework R -Wl,-framework -Wl,CoreFoundation
installing to /Users/biocbuild/bbs-2.12-bioc/meat/EBImage.buildbin-libdir/EBImage/libs
** R
** inst
** preparing package for lazy loading
** help
*** installing help indices
** building package indices
** installing vignettes
** testing if installed package can be loaded
* DONE (EBImage)
>>>>>>>
>>>>>>> FIXING LINKS FOR EBImage.buildbin-libdir/EBImage/libs//EBImage.so
>>>>>>>
install_name_tool -change "/usr/local/lib/libgcc_s.1.dylib" "/Library/Frameworks/R.framework/Versions/3.0/Resources/lib/libgcc_s.1.dylib" "EBImage.buildbin-libdir/EBImage/libs//EBImage.so"
install_name_tool -change "/usr/local/lib/libgfortran.2.dylib" "/Library/Frameworks/R.framework/Versions/3.0/Resources/lib/libgfortran.2.dylib" "EBImage.buildbin-libdir/EBImage/libs//EBImage.so"
install_name_tool -change "/usr/local/lib/libreadline.5.2.dylib" "/Library/Frameworks/R.framework/Versions/3.0/Resources/lib/libreadline.5.2.dylib" "EBImage.buildbin-libdir/EBImage/libs//EBImage.so"
install_name_tool -change "/usr/local/lib/libreadline.dylib" "/Library/Frameworks/R.framework/Versions/3.0/Resources/lib/libreadline.dylib" "EBImage.buildbin-libdir/EBImage/libs//EBImage.so"