wateRmelon 0.99.16 Leo
Snapshot Date: 2013-03-24 17:01:43 -0700 (Sun, 24 Mar 2013) | URL: https://hedgehog.fhcrc.org/bioconductor/trunk/madman/Rpacks/wateRmelon | Last Changed Rev: 74222 / Revision: 74774 | Last Changed Date: 2013-03-12 06:29:53 -0700 (Tue, 12 Mar 2013) |
| george2 | Linux (Ubuntu 12.04.1 LTS) / x86_64 | OK | [ OK ] | |
moscato2 | Windows Server 2008 R2 Enterprise SP1 (64-bit) / x64 | OK | OK | OK |
petty | Mac OS X Leopard (10.5.8) / i386 | OK | OK | OK |
* using log directory ‘/home/biocbuild/bbs-2.12-bioc/meat/wateRmelon.Rcheck’
* using R version 3.0.0 beta (2013-03-19 r62328)
* using platform: x86_64-unknown-linux-gnu (64-bit)
* using session charset: UTF-8
* using option ‘--no-vignettes’
* checking for file ‘wateRmelon/DESCRIPTION’ ... OK
* checking extension type ... Package
* this is package ‘wateRmelon’ version ‘0.99.16’
* checking package namespace information ... OK
* checking package dependencies ... NOTE
Package which this enhances but not available for checking: ‘IMA’
* checking if this is a source package ... OK
* checking if there is a namespace ... OK
* checking for hidden files and directories ... OK
* checking for portable file names ... OK
* checking for sufficient/correct file permissions ... OK
* checking whether package ‘wateRmelon’ can be installed ... [80s/83s] OK
* checking installed package size ... OK
* checking package directory ... OK
* checking DESCRIPTION meta-information ... OK
* checking top-level files ... OK
* checking for left-over files ... OK
* checking index information ... OK
* checking package subdirectories ... OK
* checking R files for non-ASCII characters ... OK
* checking R files for syntax errors ... OK
* checking whether the package can be loaded ... OK
* checking whether the package can be loaded with stated dependencies ... OK
* checking whether the package can be unloaded cleanly ... OK
* checking whether the namespace can be loaded with stated dependencies ... OK
* checking whether the namespace can be unloaded cleanly ... OK
* checking for unstated dependencies in R code ... OK
* checking S3 generic/method consistency ... OK
* checking replacement functions ... OK
* checking foreign function calls ... OK
* checking R code for possible problems ... NOTE
beadcount: no visible global function definition for ‘getProbeInfo’
beadcount: no visible global function definition for ‘getManifestInfo’
got: no visible global function definition for ‘getProbeInfo’
pipelineIlluminaMethylation.batch: possible error in
preprocessIlluminaMethylation(path2data = path2data, path2controlData
= path2controlData, projectName = projectName, nbBeads.threshold =
nbBeads.threshold, detectionPval.threshold = detectionPval.threshold,
detectionPval.perc.threshold = detectionPval.perc.threshold,
sample2keep = path2sampleList, probeSNP_LIST, XY.filtering =
XY.filtering, colorBias.corr = colorBias.corr, bg.adjust = bg.adjust,
PATH = PATH_RES): unused arguments (path2data = path2data,
path2controlData = path2controlData, projectName = projectName)
pipelineIlluminaMethylation.batch: no visible binding for global
variable ‘PATH_RES’
pipelineIlluminaMethylation.batch: no visible binding for global
variable ‘probeAnnotationsCategory’
preprocessIlluminaMethylation: no visible binding for global variable
‘projectName’
betaqn,MethylSet: no visible global function definition for ‘getBeta’
betaqn,RGChannelSet: no visible global function definition for
‘getBeta’
danen,MethylSet: no visible global function definition for ‘getMeth’
danen,MethylSet: no visible global function definition for ‘getUnmeth’
danen,RGChannelSet: no visible global function definition for
‘preprocessRaw’
daten1,MethylSet: no visible global function definition for ‘getMeth’
daten1,MethylSet: no visible global function definition for ‘getUnmeth’
daten1,RGChannelSet: no visible global function definition for
‘preprocessRaw’
daten2,MethylSet: no visible global function definition for ‘getMeth’
daten2,MethylSet: no visible global function definition for ‘getUnmeth’
dmrse,MethylSet: no visible global function definition for ‘getBeta’
dmrse,RGChannelSet: no visible global function definition for ‘getBeta’
dmrse_col,MethylSet: no visible global function definition for
‘getBeta’
dmrse_col,RGChannelSet: no visible global function definition for
‘getBeta’
dmrse_row,MethylSet: no visible global function definition for
‘getBeta’
dmrse_row,RGChannelSet: no visible global function definition for
‘getBeta’
seabi,MethylSet: no visible global function definition for ‘getBeta’
seabi,RGChannelSet: no visible global function definition for ‘getBeta’
seabi,exprmethy450: no visible binding for global variable ‘object’
* checking Rd files ... OK
* checking Rd metadata ... OK
* checking Rd cross-references ... OK
* checking for missing documentation entries ... OK
* checking for code/documentation mismatches ... OK
* checking Rd \usage sections ... OK
* checking Rd contents ... OK
* checking for unstated dependencies in examples ... OK
* checking contents of ‘data’ directory ... OK
* checking data for non-ASCII characters ... OK
* checking data for ASCII and uncompressed saves ... OK
* checking installed files from ‘inst/doc’ ... OK
* checking examples ... [121s/121s] OK
Examples with CPU or elapsed time > 5s
user system elapsed
sextest 19.661 0.236 19.899
metrics 16.245 0.140 16.393
seabi 15.533 0.024 15.560
dmrse 9.404 0.032 9.441
dasen 8.861 0.012 8.875
genki 7.577 0.012 7.589
* checking for unstated dependencies in vignettes ... OK
* checking package vignettes in ‘inst/doc’ ... OK
* checking running R code from vignettes ... SKIPPED
* checking re-building of vignettes ... SKIPPED
* checking PDF version of manual ... OK
NOTE: There were 2 notes.
See
‘/home/biocbuild/bbs-2.12-bioc/meat/wateRmelon.Rcheck/00check.log’
for details.
* installing *source* package ‘wateRmelon’ ...
** R
** data
** inst
** preparing package for lazy loading
Warning: replacing previous import ‘image’ when loading ‘graphics’
Warning: replacing previous import ‘nleqslv’ when loading ‘nleqslv’
in method for ‘betaqn’ with signature ‘bn="exprmethy450"’: no definition for class “exprmethy450”
in method for ‘fuks’ with signature ‘data="exprmethy450"’: no definition for class “exprmethy450”
in method for ‘genki’ with signature ‘bn="exprmethy450"’: no definition for class “exprmethy450”
in method for ‘dmrse’ with signature ‘betas="exprmethy450"’: no definition for class “exprmethy450”
in method for ‘dmrse_row’ with signature ‘betas="exprmethy450"’: no definition for class “exprmethy450”
in method for ‘dmrse_col’ with signature ‘betas="exprmethy450"’: no definition for class “exprmethy450”
in method for ‘seabi’ with signature ‘bn="exprmethy450"’: no definition for class “exprmethy450”
** help
*** installing help indices
** building package indices
** installing vignettes
‘wateRmelon.Rnw’
** testing if installed package can be loaded
Warning: replacing previous import ‘image’ when loading ‘graphics’
Warning: replacing previous import ‘nleqslv’ when loading ‘nleqslv’
* DONE (wateRmelon)