Back to the "Multiple platform build/check report" A  B  C  D  E  F  G  H  I  J  K  L  M  N  O  P  Q  R  S [T] U  V  W  X  Y  Z 

Package 628/658HostnameOS / ArchBUILDCHECKBUILD BIN
topGO 2.11.0
Adrian Alexa
Snapshot Date: 2013-03-23 17:02:20 -0700 (Sat, 23 Mar 2013)
URL: https://hedgehog.fhcrc.org/bioconductor/trunk/madman/Rpacks/topGO
Last Changed Rev: 70052 / Revision: 74756
Last Changed Date: 2012-10-01 15:43:56 -0700 (Mon, 01 Oct 2012)
george2 Linux (Ubuntu 12.04.1 LTS) / x86_64  OK  OK 
moscato2 Windows Server 2008 R2 Enterprise SP1 (64-bit) / x64  OK  OK  OK 
petty Mac OS X Leopard (10.5.8) / i386  OK  OK  OK 
pelham Mac OS X Snow Leopard (10.6.8) / x86_64  OK [ OK ] OK 

Summary

Package: topGO
Version: 2.11.0
Command: /Library/Frameworks/R.framework/Versions/Current/Resources/bin/R CMD check --no-vignettes --timings --no-multiarch topGO_2.11.0.tar.gz
StartedAt: 2013-03-24 10:50:29 -0700 (Sun, 24 Mar 2013)
EndedAt: 2013-03-24 10:54:40 -0700 (Sun, 24 Mar 2013)
EllapsedTime: 250.7 seconds
RetCode: 0
Status:  OK 
CheckDir: topGO.Rcheck
Warnings: 0

Command output

* using log directory '/Users/biocbuild/bbs-2.12-bioc/meat/topGO.Rcheck'
* using R version 3.0.0 beta (2013-03-21 r62346)
* using platform: x86_64-apple-darwin10.8.0 (64-bit)
* using session charset: ASCII
* using option '--no-vignettes'
* checking for file 'topGO/DESCRIPTION' ... OK
* checking extension type ... Package
* this is package 'topGO' version '2.11.0'
* checking package namespace information ... OK
* checking package dependencies ... OK
* checking if this is a source package ... OK
* checking if there is a namespace ... OK
* checking for hidden files and directories ... OK
* checking for portable file names ... OK
* checking for sufficient/correct file permissions ... OK
* checking whether package 'topGO' can be installed ... [19s/20s] OK
* checking installed package size ... OK
* checking package directory ... OK
* checking DESCRIPTION meta-information ... OK
* checking top-level files ... OK
* checking for left-over files ... OK
* checking index information ... OK
* checking package subdirectories ... OK
* checking R files for non-ASCII characters ... OK
* checking R files for syntax errors ... OK
* checking whether the package can be loaded ... OK
* checking whether the package can be loaded with stated dependencies ... OK
* checking whether the package can be unloaded cleanly ... OK
* checking whether the namespace can be loaded with stated dependencies ... OK
* checking whether the namespace can be unloaded cleanly ... OK
* checking for unstated dependencies in R code ... OK
* checking S3 generic/method consistency ... OK
* checking replacement functions ... OK
* checking foreign function calls ... OK
* checking R code for possible problems ... NOTE
getPvalues: warning in pt(t.stats, df = length(classlabel) - 2, lower =
  FALSE): partial argument match of 'lower' to 'lower.tail'
GOSumTest,classicScore: no visible binding for global variable
  '.PERMSUM.MAT'
GOSumTest,classicScore: no visible binding for global variable
  '.PERMSUM.LOOKUP'
* checking Rd files ... OK
* checking Rd metadata ... OK
* checking Rd cross-references ... OK
* checking for missing documentation entries ... OK
* checking for code/documentation mismatches ... OK
* checking Rd \usage sections ... OK
* checking Rd contents ... OK
* checking for unstated dependencies in examples ... OK
* checking contents of 'data' directory ... OK
* checking data for non-ASCII characters ... OK
* checking data for ASCII and uncompressed saves ... OK
* checking installed files from 'inst/doc' ... OK
* checking examples ... [41s/43s] OK
Examples with CPU or elapsed time > 5s
                  user system elapsed
topGOdata-class 11.242  0.436  12.057
getPvalues       6.673  0.274   7.038
getSigGroups     6.539  0.132   6.787
* checking for unstated dependencies in vignettes ... OK
* checking package vignettes in 'inst/doc' ... OK
* checking running R code from vignettes ... SKIPPED
* checking re-building of vignettes ... SKIPPED
* checking PDF version of manual ... OK

NOTE: There was 1 note.
See
  '/Users/biocbuild/bbs-2.12-bioc/meat/topGO.Rcheck/00check.log'
for details.

topGO.Rcheck/00install.out:

* installing *source* package 'topGO' ...
** R
** data
** inst
** preparing package for lazy loading
Creating a generic function for 'print' from package 'base' in package 'topGO'
** help
*** installing help indices
** building package indices
** installing vignettes
   'topGO.Rnw' 
** testing if installed package can be loaded

groupGOTerms: 	GOBPTerm, GOMFTerm, GOCCTerm environments built.
* DONE (topGO)

topGO.Rcheck/topGO-Ex.timings:

nameusersystemelapsed
GOdata0.1030.0060.108
annFUN2.6330.2753.770
classicCount-class0.0330.0020.035
classicExpr-class0.0350.0020.037
classicScore-class0.4130.0060.420
dagFunctions0.0160.0040.019
diagnosticMethods0.8070.0380.860
elimExpr-class0.0280.0030.030
elimScore-class0.0620.0020.064
geneList0.0460.0040.051
getPvalues6.6730.2747.038
getSigGroups6.5390.1326.787
groupGOTerms0.6260.0240.662
inducedGraph0.0860.0130.100
parentChild-class0.0060.0070.014
printGraph-methods0.0240.0160.041
topGOdata-class11.242 0.43612.057
topGOresult-class0.0840.0260.110