sagenhaft 1.29.1 Tim Beissbarth
Snapshot Date: 2013-03-24 17:01:43 -0700 (Sun, 24 Mar 2013) | URL: https://hedgehog.fhcrc.org/bioconductor/trunk/madman/Rpacks/sagenhaft | Last Changed Rev: 72054 / Revision: 74774 | Last Changed Date: 2012-12-19 10:25:41 -0800 (Wed, 19 Dec 2012) |
| george2 | Linux (Ubuntu 12.04.1 LTS) / x86_64 | OK | OK | |
moscato2 | Windows Server 2008 R2 Enterprise SP1 (64-bit) / x64 | OK | OK | OK |
petty | Mac OS X Leopard (10.5.8) / i386 | OK | OK | [ OK ] |
>>>>>>>
>>>>>>> INSTALLATION WITH 'R CMD INSTALL --preclean --no-multiarch --library=sagenhaft.buildbin-libdir sagenhaft_1.29.1.tar.gz'
>>>>>>>
* installing *source* package 'sagenhaft' ...
** R
** data
** inst
** preparing package for lazy loading
Warning: replacing previous import 'coerce' when loading 'SparseM'
** help
*** installing help indices
** building package indices
** installing vignettes
'SAGEnhaft.Rnw'
** testing if installed package can be loaded
Warning: replacing previous import 'coerce' when loading 'SparseM'
* DONE (sagenhaft)