Back to the "Multiple platform build/check report" A  B  C  D  E  F  G  H  I  J  K  L  M  N  O  P  Q [R] S  T  U  V  W  X  Y  Z 

Package 559/658HostnameOS / ArchBUILDCHECKBUILD BIN
rsbml 2.17.0
Michael Lawrence
Snapshot Date: 2013-03-23 17:02:20 -0700 (Sat, 23 Mar 2013)
URL: https://hedgehog.fhcrc.org/bioconductor/trunk/madman/Rpacks/rsbml
Last Changed Rev: 70052 / Revision: 74756
Last Changed Date: 2012-10-01 15:43:56 -0700 (Mon, 01 Oct 2012)
george2 Linux (Ubuntu 12.04.1 LTS) / x86_64  OK  OK 
moscato2 Windows Server 2008 R2 Enterprise SP1 (64-bit) / x64  OK  OK  OK 
petty Mac OS X Leopard (10.5.8) / i386  OK  WARNINGS  OK 
pelham Mac OS X Snow Leopard (10.6.8) / x86_64 [ ERROR ] skipped  skipped 

Summary

Package: rsbml
Version: 2.17.0
Command: /Library/Frameworks/R.framework/Versions/Current/Resources/bin/R CMD build --keep-empty-dirs --no-resave-data rsbml
StartedAt: 2013-03-23 21:55:22 -0700 (Sat, 23 Mar 2013)
EndedAt: 2013-03-23 21:55:51 -0700 (Sat, 23 Mar 2013)
EllapsedTime: 29.8 seconds
RetCode: 1
Status:  ERROR 
PackageFile: None
PackageFileSize: NA

Command output

* checking for file 'rsbml/DESCRIPTION' ... OK
* preparing 'rsbml':
* checking DESCRIPTION meta-information ... OK
* cleaning src
* installing the package to re-build vignettes
      -----------------------------------
* installing *source* package 'rsbml' ...
checking for pkg-config... /usr/bin/pkg-config
checking pkg-config is at least version 0.9.0... yes
checking for LIBSBML3... yes
configure: === Begin local SOSLib build ===
checking for a BSD-compatible install... /usr/bin/install -c
checking whether build environment is sane... yes
checking for a thread-safe mkdir -p... config/install-sh -c -d
checking for gawk... no
checking for mawk... no
checking for nawk... no
checking for awk... awk
checking whether make sets $(MAKE)... yes
checking build system type... i386-apple-darwin10.8.0
checking host system type... i386-apple-darwin10.8.0
checking for g++... g++
checking for C++ compiler default output file name... a.out
checking whether the C++ compiler works... yes
checking whether we are cross compiling... no
checking for suffix of executables... 
checking for suffix of object files... o
checking whether we are using the GNU C++ compiler... yes
checking whether g++ accepts -g... yes
checking for style of include used by make... GNU
checking dependency style of g++... gcc3
checking for gcc... gcc
checking whether we are using the GNU C compiler... yes
checking whether gcc accepts -g... yes
checking for gcc option to accept ISO C89... none needed
checking dependency style of gcc... gcc3
checking whether gcc accepts -fpic... yes
checking how to run the C preprocessor... gcc -E
checking for ranlib... ranlib
checking for a BSD-compatible install... /usr/bin/install -c
checking whether make sets $(MAKE)... (cached) yes
checking for autoconf... /usr/bin/autoconf
checking for aclocal... /usr/bin/aclocal
checking for make... /usr/bin/make
checking for ar... /usr/bin/ar
checking for swig... /usr/bin/swig
checking for perl... /usr/bin/perl
checking for pkg-config... /usr/bin/pkg-config
checking pkg-config is at least version 0.9.0... yes
checking for SBML... yes
checking for correct functioning of SBML... yes
checking for SUNDIALS Library headers... checking for SUNDIALS Library... checking correct functioning of SUNDIALS... no:
                   CFLAGS=-g -O2 -pg -Wno-unknown-pragmas -Wall -ansi -std=iso9899:1990 
                   LDFLAGS= 
                   LIBS= -lm -lstdc++
configure: error: Can not link to SUNDIALS Library
configure: === End local SOSLib build ===
configure: creating ./config.status
config.status: creating src/Makevars
** libs
llvm-gcc-4.2 -arch x86_64 -std=gnu99 -I/Library/Frameworks/R.framework/Resources/include -DNDEBUG -I/usr/include/libxml2 -I/usr/local/include    -DLIBSBML3 -I/usr/local/include    -fPIC  -mtune=core2 -g -O2  -c StringMap.c -o StringMap.o
llvm-gcc-4.2 -arch x86_64 -std=gnu99 -I/Library/Frameworks/R.framework/Resources/include -DNDEBUG -I/usr/include/libxml2 -I/usr/local/include    -DLIBSBML3 -I/usr/local/include    -fPIC  -mtune=core2 -g -O2  -c check.c -o check.o
llvm-gcc-4.2 -arch x86_64 -std=gnu99 -I/Library/Frameworks/R.framework/Resources/include -DNDEBUG -I/usr/include/libxml2 -I/usr/local/include    -DLIBSBML3 -I/usr/local/include    -fPIC  -mtune=core2 -g -O2  -c doc.c -o doc.o
llvm-gcc-4.2 -arch x86_64 -std=gnu99 -I/Library/Frameworks/R.framework/Resources/include -DNDEBUG -I/usr/include/libxml2 -I/usr/local/include    -DLIBSBML3 -I/usr/local/include    -fPIC  -mtune=core2 -g -O2  -c dom.c -o dom.o
llvm-gcc-4.2 -arch x86_64 -std=gnu99 -I/Library/Frameworks/R.framework/Resources/include -DNDEBUG -I/usr/include/libxml2 -I/usr/local/include    -DLIBSBML3 -I/usr/local/include    -fPIC  -mtune=core2 -g -O2  -c graph.c -o graph.o
llvm-gcc-4.2 -arch x86_64 -std=gnu99 -I/Library/Frameworks/R.framework/Resources/include -DNDEBUG -I/usr/include/libxml2 -I/usr/local/include    -DLIBSBML3 -I/usr/local/include    -fPIC  -mtune=core2 -g -O2  -c init.c -o init.o
llvm-gcc-4.2 -arch x86_64 -std=gnu99 -I/Library/Frameworks/R.framework/Resources/include -DNDEBUG -I/usr/include/libxml2 -I/usr/local/include    -DLIBSBML3 -I/usr/local/include    -fPIC  -mtune=core2 -g -O2  -c io.c -o io.o
llvm-g++-4.2 -arch x86_64 -I/Library/Frameworks/R.framework/Resources/include -DNDEBUG -I/usr/include/libxml2 -I/usr/local/include    -DLIBSBML3 -I/usr/local/include    -fPIC  -mtune=core2 -g -O2  -c layoutWrappers.cpp -o layoutWrappers.o
llvm-gcc-4.2 -arch x86_64 -std=gnu99 -I/Library/Frameworks/R.framework/Resources/include -DNDEBUG -I/usr/include/libxml2 -I/usr/local/include    -DLIBSBML3 -I/usr/local/include    -fPIC  -mtune=core2 -g -O2  -c mathml.c -o mathml.o
llvm-gcc-4.2 -arch x86_64 -std=gnu99 -I/Library/Frameworks/R.framework/Resources/include -DNDEBUG -I/usr/include/libxml2 -I/usr/local/include    -DLIBSBML3 -I/usr/local/include    -fPIC  -mtune=core2 -g -O2  -c simulate.c -o simulate.o
llvm-g++-4.2 -arch x86_64 -dynamiclib -Wl,-headerpad_max_install_names -undefined dynamic_lookup -single_module -multiply_defined suppress -L/usr/local/lib -o rsbml.so StringMap.o check.o doc.o dom.o graph.o init.o io.o layoutWrappers.o mathml.o simulate.o -L/usr/local/lib -lpthread -licucore -lz -lbz2 -lsbml -lstdc++ -lm -lxml2 -F/Library/Frameworks/R.framework/.. -framework R -Wl,-framework -Wl,CoreFoundation
installing to /private/tmp/RtmpPbLZGw/Rinst18d478cc0f1e/rsbml/libs
** R
** inst
** preparing package for lazy loading
** help
*** installing help indices
** building package indices
** installing vignettes
   'quick-start.Rnw' 
** testing if installed package can be loaded
Error : .onLoad failed in loadNamespace() for 'rsbml', details:
  call: dyn.load(file, DLLpath = DLLpath, ...)
  error: unable to load shared object '/private/tmp/RtmpPbLZGw/Rinst18d478cc0f1e/rsbml/libs/rsbml.so':
  dlopen(/private/tmp/RtmpPbLZGw/Rinst18d478cc0f1e/rsbml/libs/rsbml.so, 6): Library not loaded: ../libsbml.dylib
  Referenced from: /private/tmp/RtmpPbLZGw/Rinst18d478cc0f1e/rsbml/libs/rsbml.so
  Reason: image not found
Error: loading failed
Execution halted
ERROR: loading failed
* removing '/private/tmp/RtmpPbLZGw/Rinst18d478cc0f1e/rsbml'
      -----------------------------------
ERROR: package installation failed