Back to the "Multiple platform build/check report" A  B  C  D  E  F  G  H  I  J  K  L  M  N  O  P  Q [R] S  T  U  V  W  X  Y  Z 

Package 553/658HostnameOS / ArchBUILDCHECKBUILD BIN
rols 1.1.6
Laurent Gatto
Snapshot Date: 2013-03-23 17:02:20 -0700 (Sat, 23 Mar 2013)
URL: https://hedgehog.fhcrc.org/bioconductor/trunk/madman/Rpacks/rols
Last Changed Rev: 74366 / Revision: 74756
Last Changed Date: 2013-03-14 17:33:44 -0700 (Thu, 14 Mar 2013)
george2 Linux (Ubuntu 12.04.1 LTS) / x86_64  OK  OK 
moscato2 Windows Server 2008 R2 Enterprise SP1 (64-bit) / x64  OK  OK  OK 
petty Mac OS X Leopard (10.5.8) / i386  OK  OK  OK 
pelham Mac OS X Snow Leopard (10.6.8) / x86_64  OK  OK [ OK ]

Summary

Package: rols
Version: 1.1.6
Command: rm -rf rols.buildbin-libdir && mkdir rols.buildbin-libdir && /Library/Frameworks/R.framework/Versions/Current/Resources/bin/R CMD INSTALL --build --no-multiarch --library=rols.buildbin-libdir rols_1.1.6.tar.gz
StartedAt: 2013-03-24 12:08:34 -0700 (Sun, 24 Mar 2013)
EndedAt: 2013-03-24 12:08:45 -0700 (Sun, 24 Mar 2013)
EllapsedTime: 10.8 seconds
RetCode: 0
Status:  OK 
PackageFile: rols_1.1.6.tgz
PackageFileSize: 385.8 KiB

Command output

* installing *source* package 'rols' ...
** R
** inst
** preparing package for lazy loading
Warning in .simpleDuplicateClass(def, prev) :
  the specification for S3 class "connection" in package 'BiocGenerics' seems equivalent to one from package 'SSOAP' and is not turning on duplicate class definitions for this class
** help
*** installing help indices
** building package indices
** installing vignettes
   'rols.Rnw' 
processing file: rols.Rnw
output file: /Users/biocbuild/bbs-2.12-bioc/meat/rols.buildbin-libdir/rols/doc/rols.R
** testing if installed package can be loaded
Warning in .simpleDuplicateClass(def, prev) :
  the specification for S3 class "connection" in package 'BiocGenerics' seems equivalent to one from package 'SSOAP' and is not turning on duplicate class definitions for this class
packaged installation of 'rols' as 'rols_1.1.6.tgz'
* DONE (rols)