pvca 0.99.3 Jianying LI
 | Snapshot Date: 2013-03-24 17:01:43 -0700 (Sun, 24 Mar 2013) |  | URL: https://hedgehog.fhcrc.org/bioconductor/trunk/madman/Rpacks/pvca |  | Last Changed Rev: 72874 / Revision: 74774 |  | Last Changed Date: 2013-01-24 07:24:46 -0800 (Thu, 24 Jan 2013) |  
  | george2  | Linux (Ubuntu 12.04.1 LTS) / x86_64  |  OK  |  OK  |  | 
| moscato2  | Windows Server 2008 R2 Enterprise SP1 (64-bit) / x64  |  OK  |  OK  |  OK  | 
| petty  | Mac OS X Leopard (10.5.8) / i386  | [ OK ] |  OK  |  OK  | 
* checking for file 'pvca/DESCRIPTION' ... OK
* preparing 'pvca':
* checking DESCRIPTION meta-information ... OK
* installing the package to re-build vignettes
* creating vignettes ... OK
* checking for LF line-endings in source and make files
* checking for empty or unneeded directories
* building 'pvca_0.99.3.tar.gz'