Back to the "Multiple platform build/check report" A  B  C  D  E  F  G  H  I  J  K  L  M  N  O [P] Q  R  S  T  U  V  W  X  Y  Z 

Package 482/658HostnameOS / ArchBUILDCHECKBUILD BIN
plrs 0.99.1
Gwenael G.R. Leday to
Snapshot Date: 2013-03-23 17:02:20 -0700 (Sat, 23 Mar 2013)
URL: https://hedgehog.fhcrc.org/bioconductor/trunk/madman/Rpacks/plrs
Last Changed Rev: 72765 / Revision: 74756
Last Changed Date: 2013-01-22 01:50:42 -0800 (Tue, 22 Jan 2013)
george2 Linux (Ubuntu 12.04.1 LTS) / x86_64  OK  OK 
moscato2 Windows Server 2008 R2 Enterprise SP1 (64-bit) / x64  OK  OK  OK 
petty Mac OS X Leopard (10.5.8) / i386  OK  WARNINGS  OK 
pelham Mac OS X Snow Leopard (10.6.8) / x86_64  OK  OK [ OK ]

Summary

Package: plrs
Version: 0.99.1
Command: rm -rf plrs.buildbin-libdir && mkdir plrs.buildbin-libdir && /Library/Frameworks/R.framework/Versions/Current/Resources/bin/R CMD INSTALL --build --no-multiarch --library=plrs.buildbin-libdir plrs_0.99.1.tar.gz
StartedAt: 2013-03-24 12:01:06 -0700 (Sun, 24 Mar 2013)
EndedAt: 2013-03-24 12:01:15 -0700 (Sun, 24 Mar 2013)
EllapsedTime: 8.9 seconds
RetCode: 0
Status:  OK 
PackageFile: plrs_0.99.1.tgz
PackageFileSize: 783.9 KiB

Command output

* installing *source* package 'plrs' ...
** R
** data
** inst
** preparing package for lazy loading
Creating a generic function for 'model.matrix' from package 'stats' in package 'plrs'
Creating a generic function for 'knots' from package 'stats' in package 'plrs'
Creating a generic function for 'print' from package 'base' in package 'plrs'
Creating a generic function for 'effects' from package 'stats' in package 'plrs'
** help
*** installing help indices
** building package indices
** installing vignettes
   'plrs_vignette.Rnw' 
** testing if installed package can be loaded
packaged installation of 'plrs' as 'plrs_0.99.1.tgz'
* DONE (plrs)