Back to the "Multiple platform build/check report" A  B  C  D  E  F  G  H  I  J  K  L  M  N  O [P] Q  R  S  T  U  V  W  X  Y  Z 

Package 472/658HostnameOS / ArchBUILDCHECKBUILD BIN
phyloseq 1.3.23
Paul J. McMurdie
Snapshot Date: 2013-03-23 17:02:20 -0700 (Sat, 23 Mar 2013)
URL: https://hedgehog.fhcrc.org/bioconductor/trunk/madman/Rpacks/phyloseq
Last Changed Rev: 74693 / Revision: 74756
Last Changed Date: 2013-03-22 12:00:26 -0700 (Fri, 22 Mar 2013)
george2 Linux (Ubuntu 12.04.1 LTS) / x86_64  OK  OK 
moscato2 Windows Server 2008 R2 Enterprise SP1 (64-bit) / x64  OK  OK  OK 
petty Mac OS X Leopard (10.5.8) / i386  OK  OK  OK 
pelham Mac OS X Snow Leopard (10.6.8) / x86_64  OK  OK [ OK ]

Summary

Package: phyloseq
Version: 1.3.23
Command: rm -rf phyloseq.buildbin-libdir && mkdir phyloseq.buildbin-libdir && /Library/Frameworks/R.framework/Versions/Current/Resources/bin/R CMD INSTALL --build --no-multiarch --library=phyloseq.buildbin-libdir phyloseq_1.3.23.tar.gz
StartedAt: 2013-03-24 12:00:00 -0700 (Sun, 24 Mar 2013)
EndedAt: 2013-03-24 12:00:26 -0700 (Sun, 24 Mar 2013)
EllapsedTime: 26.3 seconds
RetCode: 0
Status:  OK 
PackageFile: phyloseq_1.3.23.tgz
PackageFileSize: 2.069 MiB

Command output

* installing *source* package 'phyloseq' ...
** R
** data
** inst
** preparing package for lazy loading
Warning in .simpleDuplicateClass(def, prev) :
  the specification for S3 class "AsIs" in package 'RJSONIO' seems equivalent to one from package 'BiocGenerics' and is not turning on duplicate class definitions for this class
** help
*** installing help indices
** building package indices
** installing vignettes
   'phyloseq_analysis.Rnw' 
   'phyloseq_basics.Rnw' 
** testing if installed package can be loaded
Warning in .simpleDuplicateClass(def, prev) :
  the specification for S3 class "AsIs" in package 'RJSONIO' seems equivalent to one from package 'BiocGenerics' and is not turning on duplicate class definitions for this class
packaged installation of 'phyloseq' as 'phyloseq_1.3.23.tgz'
* DONE (phyloseq)