Back to the "Multiple platform build/check report" A  B  C  D  E  F  G  H  I  J  K  L  M  N  O [P] Q  R  S  T  U  V  W  X  Y  Z 

Package 461/658HostnameOS / ArchBUILDCHECKBUILD BIN
pathview 0.99.9
Weijun Luo
Snapshot Date: 2013-03-23 17:02:20 -0700 (Sat, 23 Mar 2013)
URL: https://hedgehog.fhcrc.org/bioconductor/trunk/madman/Rpacks/pathview
Last Changed Rev: 74615 / Revision: 74756
Last Changed Date: 2013-03-20 13:31:09 -0700 (Wed, 20 Mar 2013)
george2 Linux (Ubuntu 12.04.1 LTS) / x86_64  OK  OK 
moscato2 Windows Server 2008 R2 Enterprise SP1 (64-bit) / x64  OK  OK  OK 
petty Mac OS X Leopard (10.5.8) / i386  OK  OK  OK 
pelham Mac OS X Snow Leopard (10.6.8) / x86_64  OK  OK [ OK ]

Summary

Package: pathview
Version: 0.99.9
Command: rm -rf pathview.buildbin-libdir && mkdir pathview.buildbin-libdir && /Library/Frameworks/R.framework/Versions/Current/Resources/bin/R CMD INSTALL --build --no-multiarch --library=pathview.buildbin-libdir pathview_0.99.9.tar.gz
StartedAt: 2013-03-24 11:59:07 -0700 (Sun, 24 Mar 2013)
EndedAt: 2013-03-24 11:59:44 -0700 (Sun, 24 Mar 2013)
EllapsedTime: 37.4 seconds
RetCode: 0
Status:  OK 
PackageFile: pathview_0.99.9.tgz
PackageFileSize: 1.766 MiB

Command output

* installing *source* package 'pathview' ...
** R
** data
** inst
** preparing package for lazy loading
** help
*** installing help indices
** building package indices
** installing vignettes
   'pathview.Rnw' 
** testing if installed package can be loaded
packaged installation of 'pathview' as 'pathview_0.99.9.tgz'
* DONE (pathview)