Back to the "Multiple platform build/check report" A  B  C  D  E  F  G  H  I  J  K  L  M  N  O [P] Q  R  S  T  U  V  W  X  Y  Z 

Package 456/658HostnameOS / ArchBUILDCHECKBUILD BIN
panp 1.29.1
Peter Warren
Snapshot Date: 2013-03-23 17:02:20 -0700 (Sat, 23 Mar 2013)
URL: https://hedgehog.fhcrc.org/bioconductor/trunk/madman/Rpacks/panp
Last Changed Rev: 70321 / Revision: 74756
Last Changed Date: 2012-10-08 17:20:37 -0700 (Mon, 08 Oct 2012)
george2 Linux (Ubuntu 12.04.1 LTS) / x86_64  OK  OK 
moscato2 Windows Server 2008 R2 Enterprise SP1 (64-bit) / x64  OK  OK  OK 
petty Mac OS X Leopard (10.5.8) / i386  OK  OK  OK 
pelham Mac OS X Snow Leopard (10.6.8) / x86_64  OK  OK [ OK ]

Summary

Package: panp
Version: 1.29.1
Command: rm -rf panp.buildbin-libdir && mkdir panp.buildbin-libdir && /Library/Frameworks/R.framework/Versions/Current/Resources/bin/R CMD INSTALL --build --no-multiarch --library=panp.buildbin-libdir panp_1.29.1.tar.gz
StartedAt: 2013-03-24 11:58:51 -0700 (Sun, 24 Mar 2013)
EndedAt: 2013-03-24 11:58:58 -0700 (Sun, 24 Mar 2013)
EllapsedTime: 7.0 seconds
RetCode: 0
Status:  OK 
PackageFile: panp_1.29.1.tgz
PackageFileSize: 554.6 KiB

Command output

* installing *source* package 'panp' ...
** R
** data
** inst
** preparing package for lazy loading
** help
*** installing help indices
** building package indices
** installing vignettes
   'panp.Rnw' 
** testing if installed package can be loaded
packaged installation of 'panp' as 'panp_1.29.1.tgz'
* DONE (panp)