| nucleR 1.7.2 Oscar Flores
 
 | Snapshot Date: 2013-03-24 17:01:43 -0700 (Sun, 24 Mar 2013) |  | URL: https://hedgehog.fhcrc.org/bioconductor/trunk/madman/Rpacks/nucleR |  | Last Changed Rev: 74078 / Revision: 74774 |  | Last Changed Date: 2013-03-08 08:43:23 -0800 (Fri, 08 Mar 2013) | 
 | george2 | Linux (Ubuntu 12.04.1 LTS) / x86_64 | OK | OK |  | 
| moscato2 | Windows Server 2008 R2 Enterprise SP1 (64-bit) / x64 | OK | OK | OK | 
| petty | Mac OS X Leopard (10.5.8) / i386 | OK | OK | [ OK ] | 
>>>>>>> 
>>>>>>> INSTALLATION WITH 'R CMD INSTALL --preclean --no-multiarch --library=nucleR.buildbin-libdir nucleR_1.7.2.tar.gz'
>>>>>>> 
* installing *source* package 'nucleR' ...
** R
** data
** inst
** preparing package for lazy loading
** help
*** installing help indices
** building package indices
** installing vignettes
   'nucleR.Rnw' 
** testing if installed package can be loaded
* DONE (nucleR)