| methyAnalysis 1.1.8 Pan Du
 
 | Snapshot Date: 2013-03-24 17:01:43 -0700 (Sun, 24 Mar 2013) |  | URL: https://hedgehog.fhcrc.org/bioconductor/trunk/madman/Rpacks/methyAnalysis |  | Last Changed Rev: 74669 / Revision: 74774 |  | Last Changed Date: 2013-03-21 23:44:04 -0700 (Thu, 21 Mar 2013) | 
 | george2 | Linux (Ubuntu 12.04.1 LTS) / x86_64 | OK | OK |  | 
| moscato2 | Windows Server 2008 R2 Enterprise SP1 (64-bit) / x64 | OK | OK | OK | 
| petty | Mac OS X Leopard (10.5.8) / i386 | OK | OK | [ OK ] | 
>>>>>>> 
>>>>>>> INSTALLATION WITH 'R CMD INSTALL --preclean --no-multiarch --library=methyAnalysis.buildbin-libdir methyAnalysis_1.1.8.tar.gz'
>>>>>>> 
* installing *source* package 'methyAnalysis' ...
** R
** data
** inst
** preparing package for lazy loading
Warning: replacing previous import 'image' when loading 'graphics'
Warning: replacing previous import 'nleqslv' when loading 'nleqslv'
** help
*** installing help indices
** building package indices
** installing vignettes
   'methyAnalysis.Rnw' 
** testing if installed package can be loaded
Warning: replacing previous import 'image' when loading 'graphics'
Warning: replacing previous import 'nleqslv' when loading 'nleqslv'
* DONE (methyAnalysis)