Back to the "Multiple platform build/check report" A  B  C  D  E  F  G  H  I  J  K  L [M] N  O  P  Q  R  S  T  U  V  W  X  Y  Z 

Package 375/658HostnameOS / ArchBUILDCHECKBUILD BIN
maDB 1.31.0
Johannes Rainer
Snapshot Date: 2013-03-23 17:02:20 -0700 (Sat, 23 Mar 2013)
URL: https://hedgehog.fhcrc.org/bioconductor/trunk/madman/Rpacks/maDB
Last Changed Rev: 70052 / Revision: 74756
Last Changed Date: 2012-10-01 15:43:56 -0700 (Mon, 01 Oct 2012)
george2 Linux (Ubuntu 12.04.1 LTS) / x86_64  OK  OK 
moscato2 Windows Server 2008 R2 Enterprise SP1 (64-bit) / x64 N O T   S U P P O R T E D
petty Mac OS X Leopard (10.5.8) / i386  OK  OK  OK 
pelham Mac OS X Snow Leopard (10.6.8) / x86_64  OK  OK [ OK ]

Summary

Package: maDB
Version: 1.31.0
Command: rm -rf maDB.buildbin-libdir && mkdir maDB.buildbin-libdir && /Library/Frameworks/R.framework/Versions/Current/Resources/bin/R CMD INSTALL --build --no-multiarch --library=maDB.buildbin-libdir maDB_1.31.0.tar.gz
StartedAt: 2013-03-24 11:52:11 -0700 (Sun, 24 Mar 2013)
EndedAt: 2013-03-24 11:52:25 -0700 (Sun, 24 Mar 2013)
EllapsedTime: 13.7 seconds
RetCode: 0
Status:  OK 
PackageFile: maDB_1.31.0.tgz
PackageFileSize: 754.9 KiB

Command output

* installing *source* package 'maDB' ...
** R
** data
** inst
** preparing package for lazy loading
Warning: replacing previous import 'show' when loading 'limma'
Creating a generic function for 'print' from package 'base' in package 'maDB'
** help
*** installing help indices
** building package indices
** installing vignettes
** testing if installed package can be loaded
Warning: replacing previous import 'show' when loading 'limma'
packaged installation of 'maDB' as 'maDB_1.31.0.tgz'
* DONE (maDB)