Back to the "Multiple platform build/check report" A  B  C  D  E  F  G  H  I  J  K [L] M  N  O  P  Q  R  S  T  U  V  W  X  Y  Z 

Package 369/658HostnameOS / ArchBUILDCHECKBUILD BIN
lpNet 0.99.0
Bettina Knapp
Snapshot Date: 2013-03-23 17:02:20 -0700 (Sat, 23 Mar 2013)
URL: https://hedgehog.fhcrc.org/bioconductor/trunk/madman/Rpacks/lpNet
Last Changed Rev: 74507 / Revision: 74756
Last Changed Date: 2013-03-18 08:37:30 -0700 (Mon, 18 Mar 2013)
george2 Linux (Ubuntu 12.04.1 LTS) / x86_64  OK  OK 
moscato2 Windows Server 2008 R2 Enterprise SP1 (64-bit) / x64  OK  OK  OK 
petty Mac OS X Leopard (10.5.8) / i386  OK  OK  OK 
pelham Mac OS X Snow Leopard (10.6.8) / x86_64  OK  OK [ OK ]

Summary

Package: lpNet
Version: 0.99.0
Command: rm -rf lpNet.buildbin-libdir && mkdir lpNet.buildbin-libdir && /Library/Frameworks/R.framework/Versions/Current/Resources/bin/R CMD INSTALL --build --no-multiarch --library=lpNet.buildbin-libdir lpNet_0.99.0.tar.gz
StartedAt: 2013-03-24 11:51:50 -0700 (Sun, 24 Mar 2013)
EndedAt: 2013-03-24 11:52:00 -0700 (Sun, 24 Mar 2013)
EllapsedTime: 9.8 seconds
RetCode: 0
Status:  OK 
PackageFile: lpNet_0.99.0.tgz
PackageFileSize: 208.3 KiB

Command output

* installing *source* package 'lpNet' ...
** R
** inst
** preparing package for lazy loading
** help
*** installing help indices
** building package indices
** installing vignettes
   'vignette_lpNet.Rnw' 
** testing if installed package can be loaded
packaged installation of 'lpNet' as 'lpNet_0.99.0.tgz'
* DONE (lpNet)