lapmix 1.25.0 Yann Ruffieux
Snapshot Date: 2013-03-23 17:02:20 -0700 (Sat, 23 Mar 2013) | URL: https://hedgehog.fhcrc.org/bioconductor/trunk/madman/Rpacks/lapmix | Last Changed Rev: 72050 / Revision: 74756 | Last Changed Date: 2012-12-19 10:02:55 -0800 (Wed, 19 Dec 2012) |
| george2 | Linux (Ubuntu 12.04.1 LTS) / x86_64 | OK | OK | |
moscato2 | Windows Server 2008 R2 Enterprise SP1 (64-bit) / x64 | OK | OK | OK |
petty | Mac OS X Leopard (10.5.8) / i386 | OK | OK | OK |
pelham | Mac OS X Snow Leopard (10.6.8) / x86_64 | OK | OK | [ OK ] |
* installing *source* package 'lapmix' ...
** R
** inst
** preparing package for lazy loading
** help
*** installing help indices
** building package indices
** installing vignettes
'lapmix-example.Rnw'
** testing if installed package can be loaded
packaged installation of 'lapmix' as 'lapmix_1.25.0.tgz'
* DONE (lapmix)