inveRsion 1.7.1 Alejandro Caceres
Snapshot Date: 2013-03-24 17:01:43 -0700 (Sun, 24 Mar 2013) | URL: https://hedgehog.fhcrc.org/bioconductor/trunk/madman/Rpacks/inveRsion | Last Changed Rev: 72298 / Revision: 74774 | Last Changed Date: 2013-01-04 13:18:09 -0800 (Fri, 04 Jan 2013) |
| george2 | Linux (Ubuntu 12.04.1 LTS) / x86_64 | OK | OK | |
moscato2 | Windows Server 2008 R2 Enterprise SP1 (64-bit) / x64 | OK | OK | OK |
petty | Mac OS X Leopard (10.5.8) / i386 | OK | [ OK ] | OK |
* using log directory '/Users/biocbuild/bbs-2.12-bioc/meat/inveRsion.Rcheck'
* using R Under development (unstable) (2013-02-26 r62077)
* using platform: i386-apple-darwin9.8.0 (32-bit)
* using session charset: ASCII
* using option '--no-vignettes'
* checking for file 'inveRsion/DESCRIPTION' ... OK
* checking extension type ... Package
* this is package 'inveRsion' version '1.7.1'
* checking package namespace information ... OK
* checking package dependencies ... OK
* checking if this is a source package ... OK
* checking if there is a namespace ... OK
* checking for hidden files and directories ... OK
* checking for portable file names ... OK
* checking for sufficient/correct file permissions ... OK
* checking whether package 'inveRsion' can be installed ... [4s/4s] OK
* checking installed package size ... OK
* checking package directory ... OK
* checking DESCRIPTION meta-information ... OK
* checking top-level files ... OK
* checking for left-over files ... OK
* checking index information ... OK
* checking package subdirectories ... OK
* checking R files for non-ASCII characters ... OK
* checking R files for syntax errors ... OK
* checking whether the package can be loaded ... OK
* checking whether the package can be loaded with stated dependencies ... OK
* checking whether the package can be unloaded cleanly ... OK
* checking whether the namespace can be loaded with stated dependencies ... OK
* checking whether the namespace can be unloaded cleanly ... OK
* checking for unstated dependencies in R code ... OK
* checking S3 generic/method consistency ... OK
* checking replacement functions ... OK
* checking foreign function calls ... OK
* checking R code for possible problems ... NOTE
File 'inveRsion/R/zzz.R':
.onLoad calls:
packageStartupMessage("\n")
packageStartupMessage("Hola!\n")
packageStartupMessage("welcome to inevRsion package. \n \n \n")
packageStartupMessage("type: manual() for full manual \n vignette(\"inveRsion\") for a quick start \n")
See section 'Good practice' in '?.onAttach'.
* checking Rd files ... OK
* checking Rd metadata ... OK
* checking Rd cross-references ... OK
* checking for missing documentation entries ... OK
* checking for code/documentation mismatches ... OK
* checking Rd \usage sections ... OK
* checking Rd contents ... OK
* checking for unstated dependencies in examples ... OK
* checking contents of 'data' directory ... OK
* checking data for non-ASCII characters ... OK
* checking data for ASCII and uncompressed saves ... OK
* checking line endings in C/C++/Fortran sources/headers ... OK
* checking line endings in Makefiles ... OK
* checking for portable compilation flags in Makevars ... OK
* checking for portable use of $(BLAS_LIBS) and $(LAPACK_LIBS) ... OK
* checking compiled code ... OK
* checking sizes of PDF files under 'inst/doc' ... OK
* checking installed files from 'inst/doc' ... OK
* checking examples ... [6s/7s] OK
* checking for unstated dependencies in vignettes ... OK
* checking package vignettes in 'inst/doc' ... OK
* checking running R code from vignettes ... SKIPPED
* checking re-building of vignettes ... SKIPPED
* checking PDF version of manual ... OK
NOTE: There was 1 note.
See
'/Users/biocbuild/bbs-2.12-bioc/meat/inveRsion.Rcheck/00check.log'
for details.
* installing *source* package 'inveRsion' ...
** libs
*** arch - i386
gcc -arch i386 -std=gnu99 -I/Library/Frameworks/R.framework/Resources/include -I/Library/Frameworks/R.framework/Resources/include/i386 -DNDEBUG -I/usr/local/include -fPIC -g -O2 -Wall -pedantic -c init_inveRsion.c -o init_inveRsion.o
gcc -arch i386 -std=gnu99 -I/Library/Frameworks/R.framework/Resources/include -I/Library/Frameworks/R.framework/Resources/include/i386 -DNDEBUG -I/usr/local/include -fPIC -g -O2 -Wall -pedantic -c inversionModel.c -o inversionModel.o
inversionModel.c: In function 'blockAndLev':
inversionModel.c:185: warning: suggest parentheses around comparison in operand of &
inversionModel.c:167: warning: unused variable 'ncol'
inversionModel.c:316:4: warning: "/*" within comment
inversionModel.c: In function 'inversionModel':
inversionModel.c:360: warning: suggest parentheses around comparison in operand of &
inversionModel.c:237: warning: unused variable 'i'
inversionModel.c:237: warning: unused variable 'ncol'
inversionModel.c:455: warning: 'LoglikeInv' may be used uninitialized in this function
gcc -arch i386 -std=gnu99 -I/Library/Frameworks/R.framework/Resources/include -I/Library/Frameworks/R.framework/Resources/include/i386 -DNDEBUG -I/usr/local/include -fPIC -g -O2 -Wall -pedantic -c writeGenoDat.c -o writeGenoDat.o
writeGenoDat.c: In function 'writeGenoDat':
writeGenoDat.c:36: warning: unused variable 'fm'
writeGenoDat.c:36: warning: unused variable 'fa'
writeGenoDat.c:34: warning: 'dat' may be used uninitialized in this function
gcc -arch i386 -std=gnu99 -dynamiclib -Wl,-headerpad_max_install_names -undefined dynamic_lookup -single_module -multiply_defined suppress -L/usr/local/lib -o inveRsion.so init_inveRsion.o inversionModel.o writeGenoDat.o -L/Library/Frameworks/R.framework/Resources/lib/i386 -lRlapack -L/Library/Frameworks/R.framework/Resources/lib/i386 -lRblas -lgfortran -F/Library/Frameworks/R.framework/.. -framework R -Wl,-framework -Wl,CoreFoundation
installing to /Users/biocbuild/bbs-2.12-bioc/meat/inveRsion.Rcheck/inveRsion/libs/i386
** R
** data
** inst
** preparing package for lazy loading
Creating a generic function for 'plot' from package 'graphics' in package 'inveRsion'
** help
*** installing help indices
** building package indices
** installing vignettes
'inveRsion.Rnw'
** testing if installed package can be loaded
* DONE (inveRsion)